BEGIN:VCALENDAR
VERSION:2.0
PRODID:-//West Midlands Region Fencing - ECPv6.15.20//NONSGML v1.0//EN
CALSCALE:GREGORIAN
METHOD:PUBLISH
X-ORIGINAL-URL:https://westmidlandsfencing.org.uk
X-WR-CALDESC:Events for West Midlands Region Fencing
REFRESH-INTERVAL;VALUE=DURATION:PT1H
X-Robots-Tag:noindex
X-PUBLISHED-TTL:PT1H
BEGIN:VTIMEZONE
TZID:Europe/London
BEGIN:DAYLIGHT
TZOFFSETFROM:+0000
TZOFFSETTO:+0100
TZNAME:BST
DTSTART:20250330T010000
END:DAYLIGHT
BEGIN:STANDARD
TZOFFSETFROM:+0100
TZOFFSETTO:+0000
TZNAME:GMT
DTSTART:20251026T010000
END:STANDARD
BEGIN:DAYLIGHT
TZOFFSETFROM:+0000
TZOFFSETTO:+0100
TZNAME:BST
DTSTART:20260329T010000
END:DAYLIGHT
BEGIN:STANDARD
TZOFFSETFROM:+0100
TZOFFSETTO:+0000
TZNAME:GMT
DTSTART:20261025T010000
END:STANDARD
BEGIN:DAYLIGHT
TZOFFSETFROM:+0000
TZOFFSETTO:+0100
TZNAME:BST
DTSTART:20270328T010000
END:DAYLIGHT
BEGIN:STANDARD
TZOFFSETFROM:+0100
TZOFFSETTO:+0000
TZNAME:GMT
DTSTART:20271031T010000
END:STANDARD
END:VTIMEZONE
BEGIN:VEVENT
DTSTART;TZID=Europe/London:20260717T160000
DTEND;TZID=Europe/London:20260717T160000
DTSTAMP:20260425T111731
CREATED:20260329T115430Z
LAST-MODIFIED:20260329T115431Z
UID:10007320-1784304000-1784304000@westmidlandsfencing.org.uk
SUMMARY:The Edinburgh International Summer Sparring Camp
DESCRIPTION:Embark on an unforgettable fencing experience at The Edinburgh Summer Sparring Camp\, exclusively dedicated to foil enthusiasts.
URL:https://westmidlandsfencing.org.uk/event/the-edinburgh-international-summer-sparring-camp/2026-07-17
LOCATION:St George’s School\, Edinburgh\, EH12 6BG\, United Kingdom
CATEGORIES:Training Camp
ATTACH;FMTTYPE=image/png:https://westmidlandsfencing.org.uk/wp-content/uploads/2026/03/The-Edinburgh-International-Summer-Sparring-Camp-2026.png
END:VEVENT
END:VCALENDAR