BEGIN:VCALENDAR
VERSION:2.0
PRODID:-//West Midlands Region Fencing - ECPv6.15.20//NONSGML v1.0//EN
CALSCALE:GREGORIAN
METHOD:PUBLISH
X-ORIGINAL-URL:https://westmidlandsfencing.org.uk
X-WR-CALDESC:Events for West Midlands Region Fencing
REFRESH-INTERVAL;VALUE=DURATION:PT1H
X-Robots-Tag:noindex
X-PUBLISHED-TTL:PT1H
BEGIN:VTIMEZONE
TZID:Europe/London
BEGIN:DAYLIGHT
TZOFFSETFROM:+0000
TZOFFSETTO:+0100
TZNAME:BST
DTSTART:20250330T010000
END:DAYLIGHT
BEGIN:STANDARD
TZOFFSETFROM:+0100
TZOFFSETTO:+0000
TZNAME:GMT
DTSTART:20251026T010000
END:STANDARD
BEGIN:DAYLIGHT
TZOFFSETFROM:+0000
TZOFFSETTO:+0100
TZNAME:BST
DTSTART:20260329T010000
END:DAYLIGHT
BEGIN:STANDARD
TZOFFSETFROM:+0100
TZOFFSETTO:+0000
TZNAME:GMT
DTSTART:20261025T010000
END:STANDARD
BEGIN:DAYLIGHT
TZOFFSETFROM:+0000
TZOFFSETTO:+0100
TZNAME:BST
DTSTART:20270328T010000
END:DAYLIGHT
BEGIN:STANDARD
TZOFFSETFROM:+0100
TZOFFSETTO:+0000
TZNAME:GMT
DTSTART:20271031T010000
END:STANDARD
END:VTIMEZONE
BEGIN:VEVENT
DTSTART;TZID=Europe/London:20260722T090000
DTEND;TZID=Europe/London:20260722T170000
DTSTAMP:20260425T121721
CREATED:20260329T113244Z
LAST-MODIFIED:20260329T132612Z
UID:10007346-1784710800-1784739600@westmidlandsfencing.org.uk
SUMMARY:360 Fencing Camp
DESCRIPTION:Passion and Technique in Fencing \nTRAIN WITH INTERNATIONAL LEVEL SPARRING PARTNERS AND COACHES \n\n\nTHE 360° SCREEN \n\n\n\n\n\n\n\nIndividual lessons\nVideo analysis\nFootwork sessions\nCompetition simulation\nFunctional assessment
URL:https://westmidlandsfencing.org.uk/event/360-fencing-camp/2026-07-22
LOCATION:Palaexpomar Caorle (Venice)\, V. Aldo Moro\, 21\, Caorle VE\, Venice\, 30021\, Italy
CATEGORIES:Training Camp
ATTACH;FMTTYPE=image/jpeg:https://westmidlandsfencing.org.uk/wp-content/uploads/2026/03/360-Fencing-Camp-e1774783413430.jpeg
ORGANIZER;CN="360 Training Camp":MAILTO:info@360fencingcamp.com
END:VEVENT
END:VCALENDAR