BEGIN:VCALENDAR
VERSION:2.0
PRODID:-//West Midlands Region Fencing - ECPv6.15.20//NONSGML v1.0//EN
CALSCALE:GREGORIAN
METHOD:PUBLISH
X-ORIGINAL-URL:https://westmidlandsfencing.org.uk
X-WR-CALDESC:Events for West Midlands Region Fencing
REFRESH-INTERVAL;VALUE=DURATION:PT1H
X-Robots-Tag:noindex
X-PUBLISHED-TTL:PT1H
BEGIN:VTIMEZONE
TZID:Europe/London
BEGIN:DAYLIGHT
TZOFFSETFROM:+0000
TZOFFSETTO:+0100
TZNAME:BST
DTSTART:20250330T010000
END:DAYLIGHT
BEGIN:STANDARD
TZOFFSETFROM:+0100
TZOFFSETTO:+0000
TZNAME:GMT
DTSTART:20251026T010000
END:STANDARD
BEGIN:DAYLIGHT
TZOFFSETFROM:+0000
TZOFFSETTO:+0100
TZNAME:BST
DTSTART:20260329T010000
END:DAYLIGHT
BEGIN:STANDARD
TZOFFSETFROM:+0100
TZOFFSETTO:+0000
TZNAME:GMT
DTSTART:20261025T010000
END:STANDARD
BEGIN:DAYLIGHT
TZOFFSETFROM:+0000
TZOFFSETTO:+0100
TZNAME:BST
DTSTART:20270328T010000
END:DAYLIGHT
BEGIN:STANDARD
TZOFFSETFROM:+0100
TZOFFSETTO:+0000
TZNAME:GMT
DTSTART:20271031T010000
END:STANDARD
END:VTIMEZONE
BEGIN:VEVENT
DTSTART;TZID=Europe/London:20260821T093000
DTEND;TZID=Europe/London:20260821T160000
DTSTAMP:20260425T124443
CREATED:20260329T121740Z
LAST-MODIFIED:20260329T121740Z
UID:10007326-1787304600-1787328000@westmidlandsfencing.org.uk
SUMMARY:Summer International Sparring Camp 2026
DESCRIPTION:This is a foil only camp. \nCadet\, Junior and Senior Camp\nRequirements: \n\n\n\nMinimum age: 13 years\nMinimum experience: 3 years of competitive fencing\nRegistrations open to:\nCadets selected for EFC events\nJuniors selected for World Cups\nSeniors selected for Internationals\n\n\n\nYouth Camp\nWe’re excited to announce that this year’s Summer International Sparring Camp will feature a dedicated Youth Camp for the first time! \nRequirements: \n\n\n\nMinimum age: 12 years\nMinimum experience: 2 years of competitive fencing\n\n\n\nDesigned for fencers aged 12+ with a minimum of two years’ competitive experience\, this programme offers young athletes the opportunity to train in a high-performance\, international environment tailored specifically to their stage of development. \nParticipants will benefit from: \n\n\n\nDaily structured sparring\nTactical and technical coaching sessions focused on competition skills\nRefereed poules and match play to build tactical awareness and bout management\nStrength\, mobility\, and injury-prevention work appropriate for developing athletes\n\n\n\nOur youth fencers will train alongside—but in sessions appropriate to their age and experience level with—the senior camp\, creating a motivating atmosphere while ensuring a safe\, supportive\, and development-focused environment. \nThis camp is ideal for young athletes looking to: \n\n\n\nIncrease competitive confidence\nGain experience against unfamiliar opponents\nPrepare for the upcoming season\nTake their fencing to the next level\n\n\n\nPlaces are limited to maintain quality coaching ratios. \nOur coaching team will review each fencer’s experience and allocate them to either the Main Camp or the Youth Camp to ensure the most appropriate training environment.
URL:https://westmidlandsfencing.org.uk/event/summer-international-sparring-camp-2026/2026-08-21
LOCATION:RMS for Girls\, Sports Centre\, Rickmansworth Park\, Chorleywood Road\, Rickmansworth\, WD3 4HF\, United Kingdom
CATEGORIES:Training Camp
ATTACH;FMTTYPE=image/png:https://westmidlandsfencing.org.uk/wp-content/uploads/2026/03/Fencers-Camps-e1774786645893.png
ORGANIZER;CN="Fencers Camps":MAILTO:admin@fencerscamps.com
END:VEVENT
END:VCALENDAR