BEGIN:VCALENDAR
VERSION:2.0
PRODID:-//West Midlands Region Fencing - ECPv6.15.20//NONSGML v1.0//EN
CALSCALE:GREGORIAN
METHOD:PUBLISH
X-ORIGINAL-URL:https://westmidlandsfencing.org.uk
X-WR-CALDESC:Events for West Midlands Region Fencing
REFRESH-INTERVAL;VALUE=DURATION:PT1H
X-Robots-Tag:noindex
X-PUBLISHED-TTL:PT1H
BEGIN:VTIMEZONE
TZID:Europe/London
BEGIN:DAYLIGHT
TZOFFSETFROM:+0000
TZOFFSETTO:+0100
TZNAME:BST
DTSTART:20250330T010000
END:DAYLIGHT
BEGIN:STANDARD
TZOFFSETFROM:+0100
TZOFFSETTO:+0000
TZNAME:GMT
DTSTART:20251026T010000
END:STANDARD
BEGIN:DAYLIGHT
TZOFFSETFROM:+0000
TZOFFSETTO:+0100
TZNAME:BST
DTSTART:20260329T010000
END:DAYLIGHT
BEGIN:STANDARD
TZOFFSETFROM:+0100
TZOFFSETTO:+0000
TZNAME:GMT
DTSTART:20261025T010000
END:STANDARD
BEGIN:DAYLIGHT
TZOFFSETFROM:+0000
TZOFFSETTO:+0100
TZNAME:BST
DTSTART:20270328T010000
END:DAYLIGHT
BEGIN:STANDARD
TZOFFSETFROM:+0100
TZOFFSETTO:+0000
TZNAME:GMT
DTSTART:20271031T010000
END:STANDARD
END:VTIMEZONE
BEGIN:VEVENT
DTSTART;TZID=Europe/London:20260420T190000
DTEND;TZID=Europe/London:20260420T210000
DTSTAMP:20260423T102129
CREATED:20260327T144437Z
LAST-MODIFIED:20260327T144437Z
UID:10000265-1776711600-1776718800@westmidlandsfencing.org.uk
SUMMARY:Kenilworth Sword Fencing Club
DESCRIPTION:Kenilworth Sword Fencing Club is a club for junior fencers from age 7 upwards.\nRegular training sessions are on Monday evenings at John Atkinson Sports Centre\, Myton School\, Warwick\, from 7-9pm. \nIn addition\, we run: \n\n\n\n Beginners courses several times a year.\n Additional training sessions for those competing.\n One to one coaching available on request.\n Achievement Award schemes for club members.
URL:https://westmidlandsfencing.org.uk/event/kenilworth-sword-fencing-club/2026-04-20
LOCATION:John Atkinson Sports Centre\, Myton Road\, Warwick\, Warwickshire\, CV34 6PJ\, United Kingdom
ORGANIZER;CN="Kenilworth Sword Fencing Club":MAILTO:info@kenilworth-sword.co.uk
END:VEVENT
BEGIN:VEVENT
DTSTART;TZID=Europe/London:20260419T080000
DTEND;TZID=Europe/London:20260419T190000
DTSTAMP:20260423T102129
CREATED:20260327T160052Z
LAST-MODIFIED:20260329T132945Z
UID:10001310-1776585600-1776625200@westmidlandsfencing.org.uk
SUMMARY:Heart of England Youth Foil - Event 2
DESCRIPTION:(U10\,U12) \n(U14 ‘C’ and Cadet ‘C’ BRC)
URL:https://westmidlandsfencing.org.uk/event/heart-of-england-youth-foil-event-2
LOCATION:Perdiswell Leisure Centre\, Bilford Rd\, Worcester\, Worcestershire\, WR3 8DX\, United Kingdom
CATEGORIES:Competition
ATTACH;FMTTYPE=image/jpeg:https://westmidlandsfencing.org.uk/wp-content/uploads/2026/03/Heart-of-England-Logo-e1774627127362.jpg
ORGANIZER;CN="Kenilworth Sword Fencing Club":MAILTO:info@kenilworth-sword.co.uk
END:VEVENT
BEGIN:VEVENT
DTSTART;TZID=Europe/London:20260413T190000
DTEND;TZID=Europe/London:20260413T210000
DTSTAMP:20260423T102129
CREATED:20260327T144437Z
LAST-MODIFIED:20260327T144437Z
UID:10000264-1776106800-1776114000@westmidlandsfencing.org.uk
SUMMARY:Kenilworth Sword Fencing Club
DESCRIPTION:Kenilworth Sword Fencing Club is a club for junior fencers from age 7 upwards.\nRegular training sessions are on Monday evenings at John Atkinson Sports Centre\, Myton School\, Warwick\, from 7-9pm. \nIn addition\, we run: \n\n\n\n Beginners courses several times a year.\n Additional training sessions for those competing.\n One to one coaching available on request.\n Achievement Award schemes for club members.
URL:https://westmidlandsfencing.org.uk/event/kenilworth-sword-fencing-club/2026-04-13
LOCATION:John Atkinson Sports Centre\, Myton Road\, Warwick\, Warwickshire\, CV34 6PJ\, United Kingdom
ORGANIZER;CN="Kenilworth Sword Fencing Club":MAILTO:info@kenilworth-sword.co.uk
END:VEVENT
BEGIN:VEVENT
DTSTART;TZID=Europe/London:20260406T190000
DTEND;TZID=Europe/London:20260406T210000
DTSTAMP:20260423T102129
CREATED:20260327T144437Z
LAST-MODIFIED:20260327T144437Z
UID:10000263-1775502000-1775509200@westmidlandsfencing.org.uk
SUMMARY:Kenilworth Sword Fencing Club
DESCRIPTION:Kenilworth Sword Fencing Club is a club for junior fencers from age 7 upwards.\nRegular training sessions are on Monday evenings at John Atkinson Sports Centre\, Myton School\, Warwick\, from 7-9pm. \nIn addition\, we run: \n\n\n\n Beginners courses several times a year.\n Additional training sessions for those competing.\n One to one coaching available on request.\n Achievement Award schemes for club members.
URL:https://westmidlandsfencing.org.uk/event/kenilworth-sword-fencing-club/2026-04-06
LOCATION:John Atkinson Sports Centre\, Myton Road\, Warwick\, Warwickshire\, CV34 6PJ\, United Kingdom
ORGANIZER;CN="Kenilworth Sword Fencing Club":MAILTO:info@kenilworth-sword.co.uk
END:VEVENT
BEGIN:VEVENT
DTSTART;TZID=Europe/London:20260330T190000
DTEND;TZID=Europe/London:20260330T210000
DTSTAMP:20260423T102129
CREATED:20260327T144437Z
LAST-MODIFIED:20260327T144437Z
UID:10000262-1774897200-1774904400@westmidlandsfencing.org.uk
SUMMARY:Kenilworth Sword Fencing Club
DESCRIPTION:Kenilworth Sword Fencing Club is a club for junior fencers from age 7 upwards.\nRegular training sessions are on Monday evenings at John Atkinson Sports Centre\, Myton School\, Warwick\, from 7-9pm. \nIn addition\, we run: \n\n\n\n Beginners courses several times a year.\n Additional training sessions for those competing.\n One to one coaching available on request.\n Achievement Award schemes for club members.
URL:https://westmidlandsfencing.org.uk/event/kenilworth-sword-fencing-club/2026-03-30
LOCATION:John Atkinson Sports Centre\, Myton Road\, Warwick\, Warwickshire\, CV34 6PJ\, United Kingdom
ORGANIZER;CN="Kenilworth Sword Fencing Club":MAILTO:info@kenilworth-sword.co.uk
END:VEVENT
END:VCALENDAR