BEGIN:VCALENDAR
VERSION:2.0
PRODID:-//West Midlands Region Fencing - ECPv6.15.20//NONSGML v1.0//EN
CALSCALE:GREGORIAN
METHOD:PUBLISH
X-ORIGINAL-URL:https://westmidlandsfencing.org.uk
X-WR-CALDESC:Events for West Midlands Region Fencing
REFRESH-INTERVAL;VALUE=DURATION:PT1H
X-Robots-Tag:noindex
X-PUBLISHED-TTL:PT1H
BEGIN:VTIMEZONE
TZID:Europe/London
BEGIN:DAYLIGHT
TZOFFSETFROM:+0000
TZOFFSETTO:+0100
TZNAME:BST
DTSTART:20260329T010000
END:DAYLIGHT
BEGIN:STANDARD
TZOFFSETFROM:+0100
TZOFFSETTO:+0000
TZNAME:GMT
DTSTART:20261025T010000
END:STANDARD
BEGIN:DAYLIGHT
TZOFFSETFROM:+0000
TZOFFSETTO:+0100
TZNAME:BST
DTSTART:20270328T010000
END:DAYLIGHT
BEGIN:STANDARD
TZOFFSETFROM:+0100
TZOFFSETTO:+0000
TZNAME:GMT
DTSTART:20271031T010000
END:STANDARD
BEGIN:DAYLIGHT
TZOFFSETFROM:+0000
TZOFFSETTO:+0100
TZNAME:BST
DTSTART:20280326T010000
END:DAYLIGHT
BEGIN:STANDARD
TZOFFSETFROM:+0100
TZOFFSETTO:+0000
TZNAME:GMT
DTSTART:20281029T010000
END:STANDARD
BEGIN:DAYLIGHT
TZOFFSETFROM:+0000
TZOFFSETTO:+0100
TZNAME:BST
DTSTART:20290325T010000
END:DAYLIGHT
BEGIN:STANDARD
TZOFFSETFROM:+0100
TZOFFSETTO:+0000
TZNAME:GMT
DTSTART:20291028T010000
END:STANDARD
END:VTIMEZONE
BEGIN:VEVENT
DTSTART;TZID=Europe/London:20271030T090000
DTEND;TZID=Europe/London:20271030T113000
DTSTAMP:20260423T101113
CREATED:20260328T104127Z
LAST-MODIFIED:20260328T104203Z
UID:10006874-1824886800-1824895800@westmidlandsfencing.org.uk
SUMMARY:Rugby And Daventry Fencing Club
DESCRIPTION:9:00-10:30 (ages 8-11)\n10:00-11:30 (11+)
URL:https://westmidlandsfencing.org.uk/event/rugby-and-daventry-fencing-club-3/2027-10-30
LOCATION:Warwick Trident College\, Trident Park\, Poseidon Way\, Royal Leamington Spa\, Warwickshire\, CV34 6SW\, United Kingdom
CATEGORIES:Club Night
ORGANIZER;CN="Rugby and Daventry Fencing Club":MAILTO:contact@radfencingclub.co.uk
END:VEVENT
BEGIN:VEVENT
DTSTART;TZID=Europe/London:20271101T180000
DTEND;TZID=Europe/London:20271101T190000
DTSTAMP:20260423T101113
CREATED:20260328T103336Z
LAST-MODIFIED:20260328T104242Z
UID:10006613-1825092000-1825095600@westmidlandsfencing.org.uk
SUMMARY:Rugby And Daventry Fencing Club
DESCRIPTION:6-7 pm beginners (juniors)
URL:https://westmidlandsfencing.org.uk/event/rugby-and-daventry-fencing-club-2/2027-11-01
LOCATION:Rugby And Daventry Fencing Club\, Lodge Rd\, Daventry\, NN11 4FP\, United Kingdom
CATEGORIES:Club Night
ORGANIZER;CN="Rugby and Daventry Fencing Club":MAILTO:contact@radfencingclub.co.uk
END:VEVENT
BEGIN:VEVENT
DTSTART;TZID=Europe/London:20271105T190000
DTEND;TZID=Europe/London:20271105T200000
DTSTAMP:20260423T101113
CREATED:20260328T103006Z
LAST-MODIFIED:20260328T104333Z
UID:10006352-1825441200-1825444800@westmidlandsfencing.org.uk
SUMMARY:Rugby And Daventry Fencing Club
DESCRIPTION:7:00-8:30 pm\, beginners and advanced
URL:https://westmidlandsfencing.org.uk/event/rugby-and-daventry-fencing-club/2027-11-05
LOCATION:Our Lady of Charity & St Augustine\, Clayes Cottage\, 32 London Rd\, Daventry\, NN11 4BZ\, United Kingdom
CATEGORIES:Club Night
ORGANIZER;CN="Rugby and Daventry Fencing Club":MAILTO:contact@radfencingclub.co.uk
END:VEVENT
BEGIN:VEVENT
DTSTART;TZID=Europe/London:20271106T090000
DTEND;TZID=Europe/London:20271106T113000
DTSTAMP:20260423T101113
CREATED:20260328T104127Z
LAST-MODIFIED:20260328T104203Z
UID:10006875-1825491600-1825500600@westmidlandsfencing.org.uk
SUMMARY:Rugby And Daventry Fencing Club
DESCRIPTION:9:00-10:30 (ages 8-11)\n10:00-11:30 (11+)
URL:https://westmidlandsfencing.org.uk/event/rugby-and-daventry-fencing-club-3/2027-11-06
LOCATION:Warwick Trident College\, Trident Park\, Poseidon Way\, Royal Leamington Spa\, Warwickshire\, CV34 6SW\, United Kingdom
CATEGORIES:Club Night
ORGANIZER;CN="Rugby and Daventry Fencing Club":MAILTO:contact@radfencingclub.co.uk
END:VEVENT
BEGIN:VEVENT
DTSTART;TZID=Europe/London:20271108T180000
DTEND;TZID=Europe/London:20271108T190000
DTSTAMP:20260423T101113
CREATED:20260328T103336Z
LAST-MODIFIED:20260328T104242Z
UID:10006614-1825696800-1825700400@westmidlandsfencing.org.uk
SUMMARY:Rugby And Daventry Fencing Club
DESCRIPTION:6-7 pm beginners (juniors)
URL:https://westmidlandsfencing.org.uk/event/rugby-and-daventry-fencing-club-2/2027-11-08
LOCATION:Rugby And Daventry Fencing Club\, Lodge Rd\, Daventry\, NN11 4FP\, United Kingdom
CATEGORIES:Club Night
ORGANIZER;CN="Rugby and Daventry Fencing Club":MAILTO:contact@radfencingclub.co.uk
END:VEVENT
BEGIN:VEVENT
DTSTART;TZID=Europe/London:20271112T190000
DTEND;TZID=Europe/London:20271112T200000
DTSTAMP:20260423T101113
CREATED:20260328T103006Z
LAST-MODIFIED:20260328T104333Z
UID:10006353-1826046000-1826049600@westmidlandsfencing.org.uk
SUMMARY:Rugby And Daventry Fencing Club
DESCRIPTION:7:00-8:30 pm\, beginners and advanced
URL:https://westmidlandsfencing.org.uk/event/rugby-and-daventry-fencing-club/2027-11-12
LOCATION:Our Lady of Charity & St Augustine\, Clayes Cottage\, 32 London Rd\, Daventry\, NN11 4BZ\, United Kingdom
CATEGORIES:Club Night
ORGANIZER;CN="Rugby and Daventry Fencing Club":MAILTO:contact@radfencingclub.co.uk
END:VEVENT
BEGIN:VEVENT
DTSTART;TZID=Europe/London:20271113T090000
DTEND;TZID=Europe/London:20271113T113000
DTSTAMP:20260423T101113
CREATED:20260328T104127Z
LAST-MODIFIED:20260328T104203Z
UID:10006876-1826096400-1826105400@westmidlandsfencing.org.uk
SUMMARY:Rugby And Daventry Fencing Club
DESCRIPTION:9:00-10:30 (ages 8-11)\n10:00-11:30 (11+)
URL:https://westmidlandsfencing.org.uk/event/rugby-and-daventry-fencing-club-3/2027-11-13
LOCATION:Warwick Trident College\, Trident Park\, Poseidon Way\, Royal Leamington Spa\, Warwickshire\, CV34 6SW\, United Kingdom
CATEGORIES:Club Night
ORGANIZER;CN="Rugby and Daventry Fencing Club":MAILTO:contact@radfencingclub.co.uk
END:VEVENT
BEGIN:VEVENT
DTSTART;TZID=Europe/London:20271115T180000
DTEND;TZID=Europe/London:20271115T190000
DTSTAMP:20260423T101113
CREATED:20260328T103336Z
LAST-MODIFIED:20260328T104242Z
UID:10006615-1826301600-1826305200@westmidlandsfencing.org.uk
SUMMARY:Rugby And Daventry Fencing Club
DESCRIPTION:6-7 pm beginners (juniors)
URL:https://westmidlandsfencing.org.uk/event/rugby-and-daventry-fencing-club-2/2027-11-15
LOCATION:Rugby And Daventry Fencing Club\, Lodge Rd\, Daventry\, NN11 4FP\, United Kingdom
CATEGORIES:Club Night
ORGANIZER;CN="Rugby and Daventry Fencing Club":MAILTO:contact@radfencingclub.co.uk
END:VEVENT
BEGIN:VEVENT
DTSTART;TZID=Europe/London:20271119T190000
DTEND;TZID=Europe/London:20271119T200000
DTSTAMP:20260423T101113
CREATED:20260328T103006Z
LAST-MODIFIED:20260328T104333Z
UID:10006354-1826650800-1826654400@westmidlandsfencing.org.uk
SUMMARY:Rugby And Daventry Fencing Club
DESCRIPTION:7:00-8:30 pm\, beginners and advanced
URL:https://westmidlandsfencing.org.uk/event/rugby-and-daventry-fencing-club/2027-11-19
LOCATION:Our Lady of Charity & St Augustine\, Clayes Cottage\, 32 London Rd\, Daventry\, NN11 4BZ\, United Kingdom
CATEGORIES:Club Night
ORGANIZER;CN="Rugby and Daventry Fencing Club":MAILTO:contact@radfencingclub.co.uk
END:VEVENT
BEGIN:VEVENT
DTSTART;TZID=Europe/London:20271120T090000
DTEND;TZID=Europe/London:20271120T113000
DTSTAMP:20260423T101113
CREATED:20260328T104127Z
LAST-MODIFIED:20260328T104203Z
UID:10006877-1826701200-1826710200@westmidlandsfencing.org.uk
SUMMARY:Rugby And Daventry Fencing Club
DESCRIPTION:9:00-10:30 (ages 8-11)\n10:00-11:30 (11+)
URL:https://westmidlandsfencing.org.uk/event/rugby-and-daventry-fencing-club-3/2027-11-20
LOCATION:Warwick Trident College\, Trident Park\, Poseidon Way\, Royal Leamington Spa\, Warwickshire\, CV34 6SW\, United Kingdom
CATEGORIES:Club Night
ORGANIZER;CN="Rugby and Daventry Fencing Club":MAILTO:contact@radfencingclub.co.uk
END:VEVENT
BEGIN:VEVENT
DTSTART;TZID=Europe/London:20271122T180000
DTEND;TZID=Europe/London:20271122T190000
DTSTAMP:20260423T101113
CREATED:20260328T103336Z
LAST-MODIFIED:20260328T104242Z
UID:10006616-1826906400-1826910000@westmidlandsfencing.org.uk
SUMMARY:Rugby And Daventry Fencing Club
DESCRIPTION:6-7 pm beginners (juniors)
URL:https://westmidlandsfencing.org.uk/event/rugby-and-daventry-fencing-club-2/2027-11-22
LOCATION:Rugby And Daventry Fencing Club\, Lodge Rd\, Daventry\, NN11 4FP\, United Kingdom
CATEGORIES:Club Night
ORGANIZER;CN="Rugby and Daventry Fencing Club":MAILTO:contact@radfencingclub.co.uk
END:VEVENT
BEGIN:VEVENT
DTSTART;TZID=Europe/London:20271126T190000
DTEND;TZID=Europe/London:20271126T200000
DTSTAMP:20260423T101113
CREATED:20260328T103006Z
LAST-MODIFIED:20260328T104333Z
UID:10006355-1827255600-1827259200@westmidlandsfencing.org.uk
SUMMARY:Rugby And Daventry Fencing Club
DESCRIPTION:7:00-8:30 pm\, beginners and advanced
URL:https://westmidlandsfencing.org.uk/event/rugby-and-daventry-fencing-club/2027-11-26
LOCATION:Our Lady of Charity & St Augustine\, Clayes Cottage\, 32 London Rd\, Daventry\, NN11 4BZ\, United Kingdom
CATEGORIES:Club Night
ORGANIZER;CN="Rugby and Daventry Fencing Club":MAILTO:contact@radfencingclub.co.uk
END:VEVENT
BEGIN:VEVENT
DTSTART;TZID=Europe/London:20271127T090000
DTEND;TZID=Europe/London:20271127T113000
DTSTAMP:20260423T101113
CREATED:20260328T104127Z
LAST-MODIFIED:20260328T104203Z
UID:10006878-1827306000-1827315000@westmidlandsfencing.org.uk
SUMMARY:Rugby And Daventry Fencing Club
DESCRIPTION:9:00-10:30 (ages 8-11)\n10:00-11:30 (11+)
URL:https://westmidlandsfencing.org.uk/event/rugby-and-daventry-fencing-club-3/2027-11-27
LOCATION:Warwick Trident College\, Trident Park\, Poseidon Way\, Royal Leamington Spa\, Warwickshire\, CV34 6SW\, United Kingdom
CATEGORIES:Club Night
ORGANIZER;CN="Rugby and Daventry Fencing Club":MAILTO:contact@radfencingclub.co.uk
END:VEVENT
BEGIN:VEVENT
DTSTART;TZID=Europe/London:20271129T180000
DTEND;TZID=Europe/London:20271129T190000
DTSTAMP:20260423T101113
CREATED:20260328T103336Z
LAST-MODIFIED:20260328T104242Z
UID:10006617-1827511200-1827514800@westmidlandsfencing.org.uk
SUMMARY:Rugby And Daventry Fencing Club
DESCRIPTION:6-7 pm beginners (juniors)
URL:https://westmidlandsfencing.org.uk/event/rugby-and-daventry-fencing-club-2/2027-11-29
LOCATION:Rugby And Daventry Fencing Club\, Lodge Rd\, Daventry\, NN11 4FP\, United Kingdom
CATEGORIES:Club Night
ORGANIZER;CN="Rugby and Daventry Fencing Club":MAILTO:contact@radfencingclub.co.uk
END:VEVENT
BEGIN:VEVENT
DTSTART;TZID=Europe/London:20271203T190000
DTEND;TZID=Europe/London:20271203T200000
DTSTAMP:20260423T101113
CREATED:20260328T103006Z
LAST-MODIFIED:20260328T104333Z
UID:10006356-1827860400-1827864000@westmidlandsfencing.org.uk
SUMMARY:Rugby And Daventry Fencing Club
DESCRIPTION:7:00-8:30 pm\, beginners and advanced
URL:https://westmidlandsfencing.org.uk/event/rugby-and-daventry-fencing-club/2027-12-03
LOCATION:Our Lady of Charity & St Augustine\, Clayes Cottage\, 32 London Rd\, Daventry\, NN11 4BZ\, United Kingdom
CATEGORIES:Club Night
ORGANIZER;CN="Rugby and Daventry Fencing Club":MAILTO:contact@radfencingclub.co.uk
END:VEVENT
BEGIN:VEVENT
DTSTART;TZID=Europe/London:20271204T090000
DTEND;TZID=Europe/London:20271204T113000
DTSTAMP:20260423T101113
CREATED:20260328T104127Z
LAST-MODIFIED:20260328T104203Z
UID:10006879-1827910800-1827919800@westmidlandsfencing.org.uk
SUMMARY:Rugby And Daventry Fencing Club
DESCRIPTION:9:00-10:30 (ages 8-11)\n10:00-11:30 (11+)
URL:https://westmidlandsfencing.org.uk/event/rugby-and-daventry-fencing-club-3/2027-12-04
LOCATION:Warwick Trident College\, Trident Park\, Poseidon Way\, Royal Leamington Spa\, Warwickshire\, CV34 6SW\, United Kingdom
CATEGORIES:Club Night
ORGANIZER;CN="Rugby and Daventry Fencing Club":MAILTO:contact@radfencingclub.co.uk
END:VEVENT
BEGIN:VEVENT
DTSTART;TZID=Europe/London:20271206T180000
DTEND;TZID=Europe/London:20271206T190000
DTSTAMP:20260423T101113
CREATED:20260328T103336Z
LAST-MODIFIED:20260328T104242Z
UID:10006618-1828116000-1828119600@westmidlandsfencing.org.uk
SUMMARY:Rugby And Daventry Fencing Club
DESCRIPTION:6-7 pm beginners (juniors)
URL:https://westmidlandsfencing.org.uk/event/rugby-and-daventry-fencing-club-2/2027-12-06
LOCATION:Rugby And Daventry Fencing Club\, Lodge Rd\, Daventry\, NN11 4FP\, United Kingdom
CATEGORIES:Club Night
ORGANIZER;CN="Rugby and Daventry Fencing Club":MAILTO:contact@radfencingclub.co.uk
END:VEVENT
BEGIN:VEVENT
DTSTART;TZID=Europe/London:20271210T190000
DTEND;TZID=Europe/London:20271210T200000
DTSTAMP:20260423T101113
CREATED:20260328T103006Z
LAST-MODIFIED:20260328T104333Z
UID:10006357-1828465200-1828468800@westmidlandsfencing.org.uk
SUMMARY:Rugby And Daventry Fencing Club
DESCRIPTION:7:00-8:30 pm\, beginners and advanced
URL:https://westmidlandsfencing.org.uk/event/rugby-and-daventry-fencing-club/2027-12-10
LOCATION:Our Lady of Charity & St Augustine\, Clayes Cottage\, 32 London Rd\, Daventry\, NN11 4BZ\, United Kingdom
CATEGORIES:Club Night
ORGANIZER;CN="Rugby and Daventry Fencing Club":MAILTO:contact@radfencingclub.co.uk
END:VEVENT
BEGIN:VEVENT
DTSTART;TZID=Europe/London:20271211T090000
DTEND;TZID=Europe/London:20271211T113000
DTSTAMP:20260423T101113
CREATED:20260328T104127Z
LAST-MODIFIED:20260328T104203Z
UID:10006880-1828515600-1828524600@westmidlandsfencing.org.uk
SUMMARY:Rugby And Daventry Fencing Club
DESCRIPTION:9:00-10:30 (ages 8-11)\n10:00-11:30 (11+)
URL:https://westmidlandsfencing.org.uk/event/rugby-and-daventry-fencing-club-3/2027-12-11
LOCATION:Warwick Trident College\, Trident Park\, Poseidon Way\, Royal Leamington Spa\, Warwickshire\, CV34 6SW\, United Kingdom
CATEGORIES:Club Night
ORGANIZER;CN="Rugby and Daventry Fencing Club":MAILTO:contact@radfencingclub.co.uk
END:VEVENT
BEGIN:VEVENT
DTSTART;TZID=Europe/London:20271213T180000
DTEND;TZID=Europe/London:20271213T190000
DTSTAMP:20260423T101113
CREATED:20260328T103336Z
LAST-MODIFIED:20260328T104242Z
UID:10006619-1828720800-1828724400@westmidlandsfencing.org.uk
SUMMARY:Rugby And Daventry Fencing Club
DESCRIPTION:6-7 pm beginners (juniors)
URL:https://westmidlandsfencing.org.uk/event/rugby-and-daventry-fencing-club-2/2027-12-13
LOCATION:Rugby And Daventry Fencing Club\, Lodge Rd\, Daventry\, NN11 4FP\, United Kingdom
CATEGORIES:Club Night
ORGANIZER;CN="Rugby and Daventry Fencing Club":MAILTO:contact@radfencingclub.co.uk
END:VEVENT
BEGIN:VEVENT
DTSTART;TZID=Europe/London:20271217T190000
DTEND;TZID=Europe/London:20271217T200000
DTSTAMP:20260423T101113
CREATED:20260328T103006Z
LAST-MODIFIED:20260328T104333Z
UID:10006358-1829070000-1829073600@westmidlandsfencing.org.uk
SUMMARY:Rugby And Daventry Fencing Club
DESCRIPTION:7:00-8:30 pm\, beginners and advanced
URL:https://westmidlandsfencing.org.uk/event/rugby-and-daventry-fencing-club/2027-12-17
LOCATION:Our Lady of Charity & St Augustine\, Clayes Cottage\, 32 London Rd\, Daventry\, NN11 4BZ\, United Kingdom
CATEGORIES:Club Night
ORGANIZER;CN="Rugby and Daventry Fencing Club":MAILTO:contact@radfencingclub.co.uk
END:VEVENT
BEGIN:VEVENT
DTSTART;TZID=Europe/London:20271218T090000
DTEND;TZID=Europe/London:20271218T113000
DTSTAMP:20260423T101113
CREATED:20260328T104127Z
LAST-MODIFIED:20260328T104203Z
UID:10006881-1829120400-1829129400@westmidlandsfencing.org.uk
SUMMARY:Rugby And Daventry Fencing Club
DESCRIPTION:9:00-10:30 (ages 8-11)\n10:00-11:30 (11+)
URL:https://westmidlandsfencing.org.uk/event/rugby-and-daventry-fencing-club-3/2027-12-18
LOCATION:Warwick Trident College\, Trident Park\, Poseidon Way\, Royal Leamington Spa\, Warwickshire\, CV34 6SW\, United Kingdom
CATEGORIES:Club Night
ORGANIZER;CN="Rugby and Daventry Fencing Club":MAILTO:contact@radfencingclub.co.uk
END:VEVENT
BEGIN:VEVENT
DTSTART;TZID=Europe/London:20271220T180000
DTEND;TZID=Europe/London:20271220T190000
DTSTAMP:20260423T101113
CREATED:20260328T103336Z
LAST-MODIFIED:20260328T104242Z
UID:10006620-1829325600-1829329200@westmidlandsfencing.org.uk
SUMMARY:Rugby And Daventry Fencing Club
DESCRIPTION:6-7 pm beginners (juniors)
URL:https://westmidlandsfencing.org.uk/event/rugby-and-daventry-fencing-club-2/2027-12-20
LOCATION:Rugby And Daventry Fencing Club\, Lodge Rd\, Daventry\, NN11 4FP\, United Kingdom
CATEGORIES:Club Night
ORGANIZER;CN="Rugby and Daventry Fencing Club":MAILTO:contact@radfencingclub.co.uk
END:VEVENT
BEGIN:VEVENT
DTSTART;TZID=Europe/London:20271224T190000
DTEND;TZID=Europe/London:20271224T200000
DTSTAMP:20260423T101113
CREATED:20260328T103006Z
LAST-MODIFIED:20260328T104333Z
UID:10006359-1829674800-1829678400@westmidlandsfencing.org.uk
SUMMARY:Rugby And Daventry Fencing Club
DESCRIPTION:7:00-8:30 pm\, beginners and advanced
URL:https://westmidlandsfencing.org.uk/event/rugby-and-daventry-fencing-club/2027-12-24
LOCATION:Our Lady of Charity & St Augustine\, Clayes Cottage\, 32 London Rd\, Daventry\, NN11 4BZ\, United Kingdom
CATEGORIES:Club Night
ORGANIZER;CN="Rugby and Daventry Fencing Club":MAILTO:contact@radfencingclub.co.uk
END:VEVENT
BEGIN:VEVENT
DTSTART;TZID=Europe/London:20271225T090000
DTEND;TZID=Europe/London:20271225T113000
DTSTAMP:20260423T101113
CREATED:20260328T104127Z
LAST-MODIFIED:20260328T104203Z
UID:10006882-1829725200-1829734200@westmidlandsfencing.org.uk
SUMMARY:Rugby And Daventry Fencing Club
DESCRIPTION:9:00-10:30 (ages 8-11)\n10:00-11:30 (11+)
URL:https://westmidlandsfencing.org.uk/event/rugby-and-daventry-fencing-club-3/2027-12-25
LOCATION:Warwick Trident College\, Trident Park\, Poseidon Way\, Royal Leamington Spa\, Warwickshire\, CV34 6SW\, United Kingdom
CATEGORIES:Club Night
ORGANIZER;CN="Rugby and Daventry Fencing Club":MAILTO:contact@radfencingclub.co.uk
END:VEVENT
BEGIN:VEVENT
DTSTART;TZID=Europe/London:20271227T180000
DTEND;TZID=Europe/London:20271227T190000
DTSTAMP:20260423T101113
CREATED:20260328T103336Z
LAST-MODIFIED:20260328T104242Z
UID:10006621-1829930400-1829934000@westmidlandsfencing.org.uk
SUMMARY:Rugby And Daventry Fencing Club
DESCRIPTION:6-7 pm beginners (juniors)
URL:https://westmidlandsfencing.org.uk/event/rugby-and-daventry-fencing-club-2/2027-12-27
LOCATION:Rugby And Daventry Fencing Club\, Lodge Rd\, Daventry\, NN11 4FP\, United Kingdom
CATEGORIES:Club Night
ORGANIZER;CN="Rugby and Daventry Fencing Club":MAILTO:contact@radfencingclub.co.uk
END:VEVENT
BEGIN:VEVENT
DTSTART;TZID=Europe/London:20271231T190000
DTEND;TZID=Europe/London:20271231T200000
DTSTAMP:20260423T101113
CREATED:20260328T103006Z
LAST-MODIFIED:20260328T104333Z
UID:10006360-1830279600-1830283200@westmidlandsfencing.org.uk
SUMMARY:Rugby And Daventry Fencing Club
DESCRIPTION:7:00-8:30 pm\, beginners and advanced
URL:https://westmidlandsfencing.org.uk/event/rugby-and-daventry-fencing-club/2027-12-31
LOCATION:Our Lady of Charity & St Augustine\, Clayes Cottage\, 32 London Rd\, Daventry\, NN11 4BZ\, United Kingdom
CATEGORIES:Club Night
ORGANIZER;CN="Rugby and Daventry Fencing Club":MAILTO:contact@radfencingclub.co.uk
END:VEVENT
BEGIN:VEVENT
DTSTART;TZID=Europe/London:20280101T090000
DTEND;TZID=Europe/London:20280101T113000
DTSTAMP:20260423T101113
CREATED:20260328T104127Z
LAST-MODIFIED:20260328T104203Z
UID:10006883-1830330000-1830339000@westmidlandsfencing.org.uk
SUMMARY:Rugby And Daventry Fencing Club
DESCRIPTION:9:00-10:30 (ages 8-11)\n10:00-11:30 (11+)
URL:https://westmidlandsfencing.org.uk/event/rugby-and-daventry-fencing-club-3/2028-01-01
LOCATION:Warwick Trident College\, Trident Park\, Poseidon Way\, Royal Leamington Spa\, Warwickshire\, CV34 6SW\, United Kingdom
CATEGORIES:Club Night
ORGANIZER;CN="Rugby and Daventry Fencing Club":MAILTO:contact@radfencingclub.co.uk
END:VEVENT
BEGIN:VEVENT
DTSTART;TZID=Europe/London:20280103T180000
DTEND;TZID=Europe/London:20280103T190000
DTSTAMP:20260423T101113
CREATED:20260328T103336Z
LAST-MODIFIED:20260328T104242Z
UID:10006622-1830535200-1830538800@westmidlandsfencing.org.uk
SUMMARY:Rugby And Daventry Fencing Club
DESCRIPTION:6-7 pm beginners (juniors)
URL:https://westmidlandsfencing.org.uk/event/rugby-and-daventry-fencing-club-2/2028-01-03
LOCATION:Rugby And Daventry Fencing Club\, Lodge Rd\, Daventry\, NN11 4FP\, United Kingdom
CATEGORIES:Club Night
ORGANIZER;CN="Rugby and Daventry Fencing Club":MAILTO:contact@radfencingclub.co.uk
END:VEVENT
BEGIN:VEVENT
DTSTART;TZID=Europe/London:20280107T190000
DTEND;TZID=Europe/London:20280107T200000
DTSTAMP:20260423T101113
CREATED:20260328T103006Z
LAST-MODIFIED:20260328T104333Z
UID:10006361-1830884400-1830888000@westmidlandsfencing.org.uk
SUMMARY:Rugby And Daventry Fencing Club
DESCRIPTION:7:00-8:30 pm\, beginners and advanced
URL:https://westmidlandsfencing.org.uk/event/rugby-and-daventry-fencing-club/2028-01-07
LOCATION:Our Lady of Charity & St Augustine\, Clayes Cottage\, 32 London Rd\, Daventry\, NN11 4BZ\, United Kingdom
CATEGORIES:Club Night
ORGANIZER;CN="Rugby and Daventry Fencing Club":MAILTO:contact@radfencingclub.co.uk
END:VEVENT
END:VCALENDAR