BEGIN:VCALENDAR
VERSION:2.0
PRODID:-//West Midlands Region Fencing - ECPv6.15.20//NONSGML v1.0//EN
CALSCALE:GREGORIAN
METHOD:PUBLISH
X-WR-CALNAME:West Midlands Region Fencing
X-ORIGINAL-URL:https://westmidlandsfencing.org.uk
X-WR-CALDESC:Events for West Midlands Region Fencing
REFRESH-INTERVAL;VALUE=DURATION:PT1H
X-Robots-Tag:noindex
X-PUBLISHED-TTL:PT1H
BEGIN:VTIMEZONE
TZID:Europe/London
BEGIN:DAYLIGHT
TZOFFSETFROM:+0000
TZOFFSETTO:+0100
TZNAME:BST
DTSTART:20270328T010000
END:DAYLIGHT
BEGIN:STANDARD
TZOFFSETFROM:+0100
TZOFFSETTO:+0000
TZNAME:GMT
DTSTART:20271031T010000
END:STANDARD
BEGIN:DAYLIGHT
TZOFFSETFROM:+0000
TZOFFSETTO:+0100
TZNAME:BST
DTSTART:20280326T010000
END:DAYLIGHT
BEGIN:STANDARD
TZOFFSETFROM:+0100
TZOFFSETTO:+0000
TZNAME:GMT
DTSTART:20281029T010000
END:STANDARD
BEGIN:DAYLIGHT
TZOFFSETFROM:+0000
TZOFFSETTO:+0100
TZNAME:BST
DTSTART:20290325T010000
END:DAYLIGHT
BEGIN:STANDARD
TZOFFSETFROM:+0100
TZOFFSETTO:+0000
TZNAME:GMT
DTSTART:20291028T010000
END:STANDARD
END:VTIMEZONE
BEGIN:VEVENT
DTSTART;TZID=Europe/London:20280513T090000
DTEND;TZID=Europe/London:20280513T113000
DTSTAMP:20260424T163416
CREATED:20260328T104127Z
LAST-MODIFIED:20260328T104203Z
UID:10006902-1841821200-1841830200@westmidlandsfencing.org.uk
SUMMARY:Rugby And Daventry Fencing Club
DESCRIPTION:9:00-10:30 (ages 8-11)\n10:00-11:30 (11+)
URL:https://westmidlandsfencing.org.uk/event/rugby-and-daventry-fencing-club-3/2028-05-13
LOCATION:Warwick Trident College\, Trident Park\, Poseidon Way\, Royal Leamington Spa\, Warwickshire\, CV34 6SW\, United Kingdom
CATEGORIES:Club Night
ORGANIZER;CN="Rugby and Daventry Fencing Club":MAILTO:contact@radfencingclub.co.uk
END:VEVENT
BEGIN:VEVENT
DTSTART;TZID=Europe/London:20280515T180000
DTEND;TZID=Europe/London:20280515T190000
DTSTAMP:20260424T163416
CREATED:20260328T103336Z
LAST-MODIFIED:20260328T104242Z
UID:10006641-1842026400-1842030000@westmidlandsfencing.org.uk
SUMMARY:Rugby And Daventry Fencing Club
DESCRIPTION:6-7 pm beginners (juniors)
URL:https://westmidlandsfencing.org.uk/event/rugby-and-daventry-fencing-club-2/2028-05-15
LOCATION:Rugby And Daventry Fencing Club\, Lodge Rd\, Daventry\, NN11 4FP\, United Kingdom
CATEGORIES:Club Night
ORGANIZER;CN="Rugby and Daventry Fencing Club":MAILTO:contact@radfencingclub.co.uk
END:VEVENT
BEGIN:VEVENT
DTSTART;TZID=Europe/London:20280519T190000
DTEND;TZID=Europe/London:20280519T200000
DTSTAMP:20260424T163416
CREATED:20260328T103006Z
LAST-MODIFIED:20260328T104333Z
UID:10006380-1842375600-1842379200@westmidlandsfencing.org.uk
SUMMARY:Rugby And Daventry Fencing Club
DESCRIPTION:7:00-8:30 pm\, beginners and advanced
URL:https://westmidlandsfencing.org.uk/event/rugby-and-daventry-fencing-club/2028-05-19
LOCATION:Our Lady of Charity & St Augustine\, Clayes Cottage\, 32 London Rd\, Daventry\, NN11 4BZ\, United Kingdom
CATEGORIES:Club Night
ORGANIZER;CN="Rugby and Daventry Fencing Club":MAILTO:contact@radfencingclub.co.uk
END:VEVENT
BEGIN:VEVENT
DTSTART;TZID=Europe/London:20280520T090000
DTEND;TZID=Europe/London:20280520T113000
DTSTAMP:20260424T163416
CREATED:20260328T104127Z
LAST-MODIFIED:20260328T104203Z
UID:10006903-1842426000-1842435000@westmidlandsfencing.org.uk
SUMMARY:Rugby And Daventry Fencing Club
DESCRIPTION:9:00-10:30 (ages 8-11)\n10:00-11:30 (11+)
URL:https://westmidlandsfencing.org.uk/event/rugby-and-daventry-fencing-club-3/2028-05-20
LOCATION:Warwick Trident College\, Trident Park\, Poseidon Way\, Royal Leamington Spa\, Warwickshire\, CV34 6SW\, United Kingdom
CATEGORIES:Club Night
ORGANIZER;CN="Rugby and Daventry Fencing Club":MAILTO:contact@radfencingclub.co.uk
END:VEVENT
BEGIN:VEVENT
DTSTART;TZID=Europe/London:20280522T180000
DTEND;TZID=Europe/London:20280522T190000
DTSTAMP:20260424T163416
CREATED:20260328T103336Z
LAST-MODIFIED:20260328T104242Z
UID:10006642-1842631200-1842634800@westmidlandsfencing.org.uk
SUMMARY:Rugby And Daventry Fencing Club
DESCRIPTION:6-7 pm beginners (juniors)
URL:https://westmidlandsfencing.org.uk/event/rugby-and-daventry-fencing-club-2/2028-05-22
LOCATION:Rugby And Daventry Fencing Club\, Lodge Rd\, Daventry\, NN11 4FP\, United Kingdom
CATEGORIES:Club Night
ORGANIZER;CN="Rugby and Daventry Fencing Club":MAILTO:contact@radfencingclub.co.uk
END:VEVENT
BEGIN:VEVENT
DTSTART;TZID=Europe/London:20280526T190000
DTEND;TZID=Europe/London:20280526T200000
DTSTAMP:20260424T163416
CREATED:20260328T103006Z
LAST-MODIFIED:20260328T104333Z
UID:10006381-1842980400-1842984000@westmidlandsfencing.org.uk
SUMMARY:Rugby And Daventry Fencing Club
DESCRIPTION:7:00-8:30 pm\, beginners and advanced
URL:https://westmidlandsfencing.org.uk/event/rugby-and-daventry-fencing-club/2028-05-26
LOCATION:Our Lady of Charity & St Augustine\, Clayes Cottage\, 32 London Rd\, Daventry\, NN11 4BZ\, United Kingdom
CATEGORIES:Club Night
ORGANIZER;CN="Rugby and Daventry Fencing Club":MAILTO:contact@radfencingclub.co.uk
END:VEVENT
BEGIN:VEVENT
DTSTART;TZID=Europe/London:20280527T090000
DTEND;TZID=Europe/London:20280527T113000
DTSTAMP:20260424T163416
CREATED:20260328T104127Z
LAST-MODIFIED:20260328T104203Z
UID:10006904-1843030800-1843039800@westmidlandsfencing.org.uk
SUMMARY:Rugby And Daventry Fencing Club
DESCRIPTION:9:00-10:30 (ages 8-11)\n10:00-11:30 (11+)
URL:https://westmidlandsfencing.org.uk/event/rugby-and-daventry-fencing-club-3/2028-05-27
LOCATION:Warwick Trident College\, Trident Park\, Poseidon Way\, Royal Leamington Spa\, Warwickshire\, CV34 6SW\, United Kingdom
CATEGORIES:Club Night
ORGANIZER;CN="Rugby and Daventry Fencing Club":MAILTO:contact@radfencingclub.co.uk
END:VEVENT
BEGIN:VEVENT
DTSTART;TZID=Europe/London:20280529T180000
DTEND;TZID=Europe/London:20280529T190000
DTSTAMP:20260424T163416
CREATED:20260328T103336Z
LAST-MODIFIED:20260328T104242Z
UID:10006643-1843236000-1843239600@westmidlandsfencing.org.uk
SUMMARY:Rugby And Daventry Fencing Club
DESCRIPTION:6-7 pm beginners (juniors)
URL:https://westmidlandsfencing.org.uk/event/rugby-and-daventry-fencing-club-2/2028-05-29
LOCATION:Rugby And Daventry Fencing Club\, Lodge Rd\, Daventry\, NN11 4FP\, United Kingdom
CATEGORIES:Club Night
ORGANIZER;CN="Rugby and Daventry Fencing Club":MAILTO:contact@radfencingclub.co.uk
END:VEVENT
BEGIN:VEVENT
DTSTART;TZID=Europe/London:20280602T190000
DTEND;TZID=Europe/London:20280602T200000
DTSTAMP:20260424T163416
CREATED:20260328T103006Z
LAST-MODIFIED:20260328T104333Z
UID:10006382-1843585200-1843588800@westmidlandsfencing.org.uk
SUMMARY:Rugby And Daventry Fencing Club
DESCRIPTION:7:00-8:30 pm\, beginners and advanced
URL:https://westmidlandsfencing.org.uk/event/rugby-and-daventry-fencing-club/2028-06-02
LOCATION:Our Lady of Charity & St Augustine\, Clayes Cottage\, 32 London Rd\, Daventry\, NN11 4BZ\, United Kingdom
CATEGORIES:Club Night
ORGANIZER;CN="Rugby and Daventry Fencing Club":MAILTO:contact@radfencingclub.co.uk
END:VEVENT
BEGIN:VEVENT
DTSTART;TZID=Europe/London:20280603T090000
DTEND;TZID=Europe/London:20280603T113000
DTSTAMP:20260424T163416
CREATED:20260328T104127Z
LAST-MODIFIED:20260328T104203Z
UID:10006905-1843635600-1843644600@westmidlandsfencing.org.uk
SUMMARY:Rugby And Daventry Fencing Club
DESCRIPTION:9:00-10:30 (ages 8-11)\n10:00-11:30 (11+)
URL:https://westmidlandsfencing.org.uk/event/rugby-and-daventry-fencing-club-3/2028-06-03
LOCATION:Warwick Trident College\, Trident Park\, Poseidon Way\, Royal Leamington Spa\, Warwickshire\, CV34 6SW\, United Kingdom
CATEGORIES:Club Night
ORGANIZER;CN="Rugby and Daventry Fencing Club":MAILTO:contact@radfencingclub.co.uk
END:VEVENT
BEGIN:VEVENT
DTSTART;TZID=Europe/London:20280605T180000
DTEND;TZID=Europe/London:20280605T190000
DTSTAMP:20260424T163416
CREATED:20260328T103336Z
LAST-MODIFIED:20260328T104242Z
UID:10006644-1843840800-1843844400@westmidlandsfencing.org.uk
SUMMARY:Rugby And Daventry Fencing Club
DESCRIPTION:6-7 pm beginners (juniors)
URL:https://westmidlandsfencing.org.uk/event/rugby-and-daventry-fencing-club-2/2028-06-05
LOCATION:Rugby And Daventry Fencing Club\, Lodge Rd\, Daventry\, NN11 4FP\, United Kingdom
CATEGORIES:Club Night
ORGANIZER;CN="Rugby and Daventry Fencing Club":MAILTO:contact@radfencingclub.co.uk
END:VEVENT
BEGIN:VEVENT
DTSTART;TZID=Europe/London:20280609T190000
DTEND;TZID=Europe/London:20280609T200000
DTSTAMP:20260424T163416
CREATED:20260328T103006Z
LAST-MODIFIED:20260328T104333Z
UID:10006383-1844190000-1844193600@westmidlandsfencing.org.uk
SUMMARY:Rugby And Daventry Fencing Club
DESCRIPTION:7:00-8:30 pm\, beginners and advanced
URL:https://westmidlandsfencing.org.uk/event/rugby-and-daventry-fencing-club/2028-06-09
LOCATION:Our Lady of Charity & St Augustine\, Clayes Cottage\, 32 London Rd\, Daventry\, NN11 4BZ\, United Kingdom
CATEGORIES:Club Night
ORGANIZER;CN="Rugby and Daventry Fencing Club":MAILTO:contact@radfencingclub.co.uk
END:VEVENT
BEGIN:VEVENT
DTSTART;TZID=Europe/London:20280610T090000
DTEND;TZID=Europe/London:20280610T113000
DTSTAMP:20260424T163416
CREATED:20260328T104127Z
LAST-MODIFIED:20260328T104203Z
UID:10006906-1844240400-1844249400@westmidlandsfencing.org.uk
SUMMARY:Rugby And Daventry Fencing Club
DESCRIPTION:9:00-10:30 (ages 8-11)\n10:00-11:30 (11+)
URL:https://westmidlandsfencing.org.uk/event/rugby-and-daventry-fencing-club-3/2028-06-10
LOCATION:Warwick Trident College\, Trident Park\, Poseidon Way\, Royal Leamington Spa\, Warwickshire\, CV34 6SW\, United Kingdom
CATEGORIES:Club Night
ORGANIZER;CN="Rugby and Daventry Fencing Club":MAILTO:contact@radfencingclub.co.uk
END:VEVENT
BEGIN:VEVENT
DTSTART;TZID=Europe/London:20280612T180000
DTEND;TZID=Europe/London:20280612T190000
DTSTAMP:20260424T163416
CREATED:20260328T103336Z
LAST-MODIFIED:20260328T104242Z
UID:10006645-1844445600-1844449200@westmidlandsfencing.org.uk
SUMMARY:Rugby And Daventry Fencing Club
DESCRIPTION:6-7 pm beginners (juniors)
URL:https://westmidlandsfencing.org.uk/event/rugby-and-daventry-fencing-club-2/2028-06-12
LOCATION:Rugby And Daventry Fencing Club\, Lodge Rd\, Daventry\, NN11 4FP\, United Kingdom
CATEGORIES:Club Night
ORGANIZER;CN="Rugby and Daventry Fencing Club":MAILTO:contact@radfencingclub.co.uk
END:VEVENT
BEGIN:VEVENT
DTSTART;TZID=Europe/London:20280616T190000
DTEND;TZID=Europe/London:20280616T200000
DTSTAMP:20260424T163416
CREATED:20260328T103006Z
LAST-MODIFIED:20260328T104333Z
UID:10006384-1844794800-1844798400@westmidlandsfencing.org.uk
SUMMARY:Rugby And Daventry Fencing Club
DESCRIPTION:7:00-8:30 pm\, beginners and advanced
URL:https://westmidlandsfencing.org.uk/event/rugby-and-daventry-fencing-club/2028-06-16
LOCATION:Our Lady of Charity & St Augustine\, Clayes Cottage\, 32 London Rd\, Daventry\, NN11 4BZ\, United Kingdom
CATEGORIES:Club Night
ORGANIZER;CN="Rugby and Daventry Fencing Club":MAILTO:contact@radfencingclub.co.uk
END:VEVENT
BEGIN:VEVENT
DTSTART;TZID=Europe/London:20280617T090000
DTEND;TZID=Europe/London:20280617T113000
DTSTAMP:20260424T163416
CREATED:20260328T104127Z
LAST-MODIFIED:20260328T104203Z
UID:10006907-1844845200-1844854200@westmidlandsfencing.org.uk
SUMMARY:Rugby And Daventry Fencing Club
DESCRIPTION:9:00-10:30 (ages 8-11)\n10:00-11:30 (11+)
URL:https://westmidlandsfencing.org.uk/event/rugby-and-daventry-fencing-club-3/2028-06-17
LOCATION:Warwick Trident College\, Trident Park\, Poseidon Way\, Royal Leamington Spa\, Warwickshire\, CV34 6SW\, United Kingdom
CATEGORIES:Club Night
ORGANIZER;CN="Rugby and Daventry Fencing Club":MAILTO:contact@radfencingclub.co.uk
END:VEVENT
BEGIN:VEVENT
DTSTART;TZID=Europe/London:20280619T180000
DTEND;TZID=Europe/London:20280619T190000
DTSTAMP:20260424T163416
CREATED:20260328T103336Z
LAST-MODIFIED:20260328T104242Z
UID:10006646-1845050400-1845054000@westmidlandsfencing.org.uk
SUMMARY:Rugby And Daventry Fencing Club
DESCRIPTION:6-7 pm beginners (juniors)
URL:https://westmidlandsfencing.org.uk/event/rugby-and-daventry-fencing-club-2/2028-06-19
LOCATION:Rugby And Daventry Fencing Club\, Lodge Rd\, Daventry\, NN11 4FP\, United Kingdom
CATEGORIES:Club Night
ORGANIZER;CN="Rugby and Daventry Fencing Club":MAILTO:contact@radfencingclub.co.uk
END:VEVENT
BEGIN:VEVENT
DTSTART;TZID=Europe/London:20280623T190000
DTEND;TZID=Europe/London:20280623T200000
DTSTAMP:20260424T163416
CREATED:20260328T103006Z
LAST-MODIFIED:20260328T104333Z
UID:10006385-1845399600-1845403200@westmidlandsfencing.org.uk
SUMMARY:Rugby And Daventry Fencing Club
DESCRIPTION:7:00-8:30 pm\, beginners and advanced
URL:https://westmidlandsfencing.org.uk/event/rugby-and-daventry-fencing-club/2028-06-23
LOCATION:Our Lady of Charity & St Augustine\, Clayes Cottage\, 32 London Rd\, Daventry\, NN11 4BZ\, United Kingdom
CATEGORIES:Club Night
ORGANIZER;CN="Rugby and Daventry Fencing Club":MAILTO:contact@radfencingclub.co.uk
END:VEVENT
BEGIN:VEVENT
DTSTART;TZID=Europe/London:20280624T090000
DTEND;TZID=Europe/London:20280624T113000
DTSTAMP:20260424T163416
CREATED:20260328T104127Z
LAST-MODIFIED:20260328T104203Z
UID:10006908-1845450000-1845459000@westmidlandsfencing.org.uk
SUMMARY:Rugby And Daventry Fencing Club
DESCRIPTION:9:00-10:30 (ages 8-11)\n10:00-11:30 (11+)
URL:https://westmidlandsfencing.org.uk/event/rugby-and-daventry-fencing-club-3/2028-06-24
LOCATION:Warwick Trident College\, Trident Park\, Poseidon Way\, Royal Leamington Spa\, Warwickshire\, CV34 6SW\, United Kingdom
CATEGORIES:Club Night
ORGANIZER;CN="Rugby and Daventry Fencing Club":MAILTO:contact@radfencingclub.co.uk
END:VEVENT
BEGIN:VEVENT
DTSTART;TZID=Europe/London:20280626T180000
DTEND;TZID=Europe/London:20280626T190000
DTSTAMP:20260424T163416
CREATED:20260328T103336Z
LAST-MODIFIED:20260328T104242Z
UID:10006647-1845655200-1845658800@westmidlandsfencing.org.uk
SUMMARY:Rugby And Daventry Fencing Club
DESCRIPTION:6-7 pm beginners (juniors)
URL:https://westmidlandsfencing.org.uk/event/rugby-and-daventry-fencing-club-2/2028-06-26
LOCATION:Rugby And Daventry Fencing Club\, Lodge Rd\, Daventry\, NN11 4FP\, United Kingdom
CATEGORIES:Club Night
ORGANIZER;CN="Rugby and Daventry Fencing Club":MAILTO:contact@radfencingclub.co.uk
END:VEVENT
BEGIN:VEVENT
DTSTART;TZID=Europe/London:20280630T190000
DTEND;TZID=Europe/London:20280630T200000
DTSTAMP:20260424T163416
CREATED:20260328T103006Z
LAST-MODIFIED:20260328T104333Z
UID:10006386-1846004400-1846008000@westmidlandsfencing.org.uk
SUMMARY:Rugby And Daventry Fencing Club
DESCRIPTION:7:00-8:30 pm\, beginners and advanced
URL:https://westmidlandsfencing.org.uk/event/rugby-and-daventry-fencing-club/2028-06-30
LOCATION:Our Lady of Charity & St Augustine\, Clayes Cottage\, 32 London Rd\, Daventry\, NN11 4BZ\, United Kingdom
CATEGORIES:Club Night
ORGANIZER;CN="Rugby and Daventry Fencing Club":MAILTO:contact@radfencingclub.co.uk
END:VEVENT
BEGIN:VEVENT
DTSTART;TZID=Europe/London:20280701T090000
DTEND;TZID=Europe/London:20280701T113000
DTSTAMP:20260424T163416
CREATED:20260328T104127Z
LAST-MODIFIED:20260328T104203Z
UID:10006909-1846054800-1846063800@westmidlandsfencing.org.uk
SUMMARY:Rugby And Daventry Fencing Club
DESCRIPTION:9:00-10:30 (ages 8-11)\n10:00-11:30 (11+)
URL:https://westmidlandsfencing.org.uk/event/rugby-and-daventry-fencing-club-3/2028-07-01
LOCATION:Warwick Trident College\, Trident Park\, Poseidon Way\, Royal Leamington Spa\, Warwickshire\, CV34 6SW\, United Kingdom
CATEGORIES:Club Night
ORGANIZER;CN="Rugby and Daventry Fencing Club":MAILTO:contact@radfencingclub.co.uk
END:VEVENT
BEGIN:VEVENT
DTSTART;TZID=Europe/London:20280703T180000
DTEND;TZID=Europe/London:20280703T190000
DTSTAMP:20260424T163416
CREATED:20260328T103336Z
LAST-MODIFIED:20260328T104242Z
UID:10006648-1846260000-1846263600@westmidlandsfencing.org.uk
SUMMARY:Rugby And Daventry Fencing Club
DESCRIPTION:6-7 pm beginners (juniors)
URL:https://westmidlandsfencing.org.uk/event/rugby-and-daventry-fencing-club-2/2028-07-03
LOCATION:Rugby And Daventry Fencing Club\, Lodge Rd\, Daventry\, NN11 4FP\, United Kingdom
CATEGORIES:Club Night
ORGANIZER;CN="Rugby and Daventry Fencing Club":MAILTO:contact@radfencingclub.co.uk
END:VEVENT
BEGIN:VEVENT
DTSTART;TZID=Europe/London:20280707T190000
DTEND;TZID=Europe/London:20280707T200000
DTSTAMP:20260424T163416
CREATED:20260328T103006Z
LAST-MODIFIED:20260328T104333Z
UID:10006387-1846609200-1846612800@westmidlandsfencing.org.uk
SUMMARY:Rugby And Daventry Fencing Club
DESCRIPTION:7:00-8:30 pm\, beginners and advanced
URL:https://westmidlandsfencing.org.uk/event/rugby-and-daventry-fencing-club/2028-07-07
LOCATION:Our Lady of Charity & St Augustine\, Clayes Cottage\, 32 London Rd\, Daventry\, NN11 4BZ\, United Kingdom
CATEGORIES:Club Night
ORGANIZER;CN="Rugby and Daventry Fencing Club":MAILTO:contact@radfencingclub.co.uk
END:VEVENT
BEGIN:VEVENT
DTSTART;TZID=Europe/London:20280708T090000
DTEND;TZID=Europe/London:20280708T113000
DTSTAMP:20260424T163416
CREATED:20260328T104127Z
LAST-MODIFIED:20260328T104203Z
UID:10006910-1846659600-1846668600@westmidlandsfencing.org.uk
SUMMARY:Rugby And Daventry Fencing Club
DESCRIPTION:9:00-10:30 (ages 8-11)\n10:00-11:30 (11+)
URL:https://westmidlandsfencing.org.uk/event/rugby-and-daventry-fencing-club-3/2028-07-08
LOCATION:Warwick Trident College\, Trident Park\, Poseidon Way\, Royal Leamington Spa\, Warwickshire\, CV34 6SW\, United Kingdom
CATEGORIES:Club Night
ORGANIZER;CN="Rugby and Daventry Fencing Club":MAILTO:contact@radfencingclub.co.uk
END:VEVENT
BEGIN:VEVENT
DTSTART;TZID=Europe/London:20280710T180000
DTEND;TZID=Europe/London:20280710T190000
DTSTAMP:20260424T163416
CREATED:20260328T103336Z
LAST-MODIFIED:20260328T104242Z
UID:10006649-1846864800-1846868400@westmidlandsfencing.org.uk
SUMMARY:Rugby And Daventry Fencing Club
DESCRIPTION:6-7 pm beginners (juniors)
URL:https://westmidlandsfencing.org.uk/event/rugby-and-daventry-fencing-club-2/2028-07-10
LOCATION:Rugby And Daventry Fencing Club\, Lodge Rd\, Daventry\, NN11 4FP\, United Kingdom
CATEGORIES:Club Night
ORGANIZER;CN="Rugby and Daventry Fencing Club":MAILTO:contact@radfencingclub.co.uk
END:VEVENT
BEGIN:VEVENT
DTSTART;TZID=Europe/London:20280714T190000
DTEND;TZID=Europe/London:20280714T200000
DTSTAMP:20260424T163416
CREATED:20260328T103006Z
LAST-MODIFIED:20260328T104333Z
UID:10006388-1847214000-1847217600@westmidlandsfencing.org.uk
SUMMARY:Rugby And Daventry Fencing Club
DESCRIPTION:7:00-8:30 pm\, beginners and advanced
URL:https://westmidlandsfencing.org.uk/event/rugby-and-daventry-fencing-club/2028-07-14
LOCATION:Our Lady of Charity & St Augustine\, Clayes Cottage\, 32 London Rd\, Daventry\, NN11 4BZ\, United Kingdom
CATEGORIES:Club Night
ORGANIZER;CN="Rugby and Daventry Fencing Club":MAILTO:contact@radfencingclub.co.uk
END:VEVENT
BEGIN:VEVENT
DTSTART;TZID=Europe/London:20280715T090000
DTEND;TZID=Europe/London:20280715T113000
DTSTAMP:20260424T163416
CREATED:20260328T104127Z
LAST-MODIFIED:20260328T104203Z
UID:10006911-1847264400-1847273400@westmidlandsfencing.org.uk
SUMMARY:Rugby And Daventry Fencing Club
DESCRIPTION:9:00-10:30 (ages 8-11)\n10:00-11:30 (11+)
URL:https://westmidlandsfencing.org.uk/event/rugby-and-daventry-fencing-club-3/2028-07-15
LOCATION:Warwick Trident College\, Trident Park\, Poseidon Way\, Royal Leamington Spa\, Warwickshire\, CV34 6SW\, United Kingdom
CATEGORIES:Club Night
ORGANIZER;CN="Rugby and Daventry Fencing Club":MAILTO:contact@radfencingclub.co.uk
END:VEVENT
BEGIN:VEVENT
DTSTART;TZID=Europe/London:20280717T180000
DTEND;TZID=Europe/London:20280717T190000
DTSTAMP:20260424T163416
CREATED:20260328T103336Z
LAST-MODIFIED:20260328T104242Z
UID:10006650-1847469600-1847473200@westmidlandsfencing.org.uk
SUMMARY:Rugby And Daventry Fencing Club
DESCRIPTION:6-7 pm beginners (juniors)
URL:https://westmidlandsfencing.org.uk/event/rugby-and-daventry-fencing-club-2/2028-07-17
LOCATION:Rugby And Daventry Fencing Club\, Lodge Rd\, Daventry\, NN11 4FP\, United Kingdom
CATEGORIES:Club Night
ORGANIZER;CN="Rugby and Daventry Fencing Club":MAILTO:contact@radfencingclub.co.uk
END:VEVENT
BEGIN:VEVENT
DTSTART;TZID=Europe/London:20280721T190000
DTEND;TZID=Europe/London:20280721T200000
DTSTAMP:20260424T163416
CREATED:20260328T103006Z
LAST-MODIFIED:20260328T104333Z
UID:10006389-1847818800-1847822400@westmidlandsfencing.org.uk
SUMMARY:Rugby And Daventry Fencing Club
DESCRIPTION:7:00-8:30 pm\, beginners and advanced
URL:https://westmidlandsfencing.org.uk/event/rugby-and-daventry-fencing-club/2028-07-21
LOCATION:Our Lady of Charity & St Augustine\, Clayes Cottage\, 32 London Rd\, Daventry\, NN11 4BZ\, United Kingdom
CATEGORIES:Club Night
ORGANIZER;CN="Rugby and Daventry Fencing Club":MAILTO:contact@radfencingclub.co.uk
END:VEVENT
END:VCALENDAR