BEGIN:VCALENDAR
VERSION:2.0
PRODID:-//West Midlands Region Fencing - ECPv6.15.20//NONSGML v1.0//EN
CALSCALE:GREGORIAN
METHOD:PUBLISH
X-WR-CALNAME:West Midlands Region Fencing
X-ORIGINAL-URL:https://westmidlandsfencing.org.uk
X-WR-CALDESC:Events for West Midlands Region Fencing
REFRESH-INTERVAL;VALUE=DURATION:PT1H
X-Robots-Tag:noindex
X-PUBLISHED-TTL:PT1H
BEGIN:VTIMEZONE
TZID:Europe/London
BEGIN:DAYLIGHT
TZOFFSETFROM:+0000
TZOFFSETTO:+0100
TZNAME:BST
DTSTART:20270328T010000
END:DAYLIGHT
BEGIN:STANDARD
TZOFFSETFROM:+0100
TZOFFSETTO:+0000
TZNAME:GMT
DTSTART:20271031T010000
END:STANDARD
BEGIN:DAYLIGHT
TZOFFSETFROM:+0000
TZOFFSETTO:+0100
TZNAME:BST
DTSTART:20280326T010000
END:DAYLIGHT
BEGIN:STANDARD
TZOFFSETFROM:+0100
TZOFFSETTO:+0000
TZNAME:GMT
DTSTART:20281029T010000
END:STANDARD
BEGIN:DAYLIGHT
TZOFFSETFROM:+0000
TZOFFSETTO:+0100
TZNAME:BST
DTSTART:20290325T010000
END:DAYLIGHT
BEGIN:STANDARD
TZOFFSETFROM:+0100
TZOFFSETTO:+0000
TZNAME:GMT
DTSTART:20291028T010000
END:STANDARD
BEGIN:DAYLIGHT
TZOFFSETFROM:+0000
TZOFFSETTO:+0100
TZNAME:BST
DTSTART:20300331T010000
END:DAYLIGHT
BEGIN:STANDARD
TZOFFSETFROM:+0100
TZOFFSETTO:+0000
TZNAME:GMT
DTSTART:20301027T010000
END:STANDARD
END:VTIMEZONE
BEGIN:VEVENT
DTSTART;TZID=Europe/London:20281106T193000
DTEND;TZID=Europe/London:20281106T220000
DTSTAMP:20260425T135511
CREATED:20260327T153612Z
LAST-MODIFIED:20260329T111521Z
UID:10007190-1857151800-1857160800@westmidlandsfencing.org.uk
SUMMARY:Sutton Coldfield Fencing Club
DESCRIPTION:19:30-20:30 Junior Club\n20:30-22:00 Adult Club
URL:https://westmidlandsfencing.org.uk/event/sutton-coldfield-fencing-club/2028-11-06
LOCATION:Wyndley Leisure Centre\, Clifton Rd\, Sutton Coldfield\, West Midlands\, B73 6EN\, United Kingdom
CATEGORIES:Club Night
ORGANIZER;CN="Sutton Coldfield Fencing Club":MAILTO:scfencingclub@btinternet.com
END:VEVENT
BEGIN:VEVENT
DTSTART;TZID=Europe/London:20281113T193000
DTEND;TZID=Europe/London:20281113T220000
DTSTAMP:20260425T135511
CREATED:20260327T153612Z
LAST-MODIFIED:20260329T111521Z
UID:10007191-1857756600-1857765600@westmidlandsfencing.org.uk
SUMMARY:Sutton Coldfield Fencing Club
DESCRIPTION:19:30-20:30 Junior Club\n20:30-22:00 Adult Club
URL:https://westmidlandsfencing.org.uk/event/sutton-coldfield-fencing-club/2028-11-13
LOCATION:Wyndley Leisure Centre\, Clifton Rd\, Sutton Coldfield\, West Midlands\, B73 6EN\, United Kingdom
CATEGORIES:Club Night
ORGANIZER;CN="Sutton Coldfield Fencing Club":MAILTO:scfencingclub@btinternet.com
END:VEVENT
BEGIN:VEVENT
DTSTART;TZID=Europe/London:20281120T193000
DTEND;TZID=Europe/London:20281120T220000
DTSTAMP:20260425T135511
CREATED:20260327T153612Z
LAST-MODIFIED:20260329T111521Z
UID:10007192-1858361400-1858370400@westmidlandsfencing.org.uk
SUMMARY:Sutton Coldfield Fencing Club
DESCRIPTION:19:30-20:30 Junior Club\n20:30-22:00 Adult Club
URL:https://westmidlandsfencing.org.uk/event/sutton-coldfield-fencing-club/2028-11-20
LOCATION:Wyndley Leisure Centre\, Clifton Rd\, Sutton Coldfield\, West Midlands\, B73 6EN\, United Kingdom
CATEGORIES:Club Night
ORGANIZER;CN="Sutton Coldfield Fencing Club":MAILTO:scfencingclub@btinternet.com
END:VEVENT
BEGIN:VEVENT
DTSTART;TZID=Europe/London:20281127T193000
DTEND;TZID=Europe/London:20281127T220000
DTSTAMP:20260425T135511
CREATED:20260327T153612Z
LAST-MODIFIED:20260329T111521Z
UID:10007193-1858966200-1858975200@westmidlandsfencing.org.uk
SUMMARY:Sutton Coldfield Fencing Club
DESCRIPTION:19:30-20:30 Junior Club\n20:30-22:00 Adult Club
URL:https://westmidlandsfencing.org.uk/event/sutton-coldfield-fencing-club/2028-11-27
LOCATION:Wyndley Leisure Centre\, Clifton Rd\, Sutton Coldfield\, West Midlands\, B73 6EN\, United Kingdom
CATEGORIES:Club Night
ORGANIZER;CN="Sutton Coldfield Fencing Club":MAILTO:scfencingclub@btinternet.com
END:VEVENT
BEGIN:VEVENT
DTSTART;TZID=Europe/London:20281204T193000
DTEND;TZID=Europe/London:20281204T220000
DTSTAMP:20260425T135511
CREATED:20260327T153612Z
LAST-MODIFIED:20260329T111521Z
UID:10007194-1859571000-1859580000@westmidlandsfencing.org.uk
SUMMARY:Sutton Coldfield Fencing Club
DESCRIPTION:19:30-20:30 Junior Club\n20:30-22:00 Adult Club
URL:https://westmidlandsfencing.org.uk/event/sutton-coldfield-fencing-club/2028-12-04
LOCATION:Wyndley Leisure Centre\, Clifton Rd\, Sutton Coldfield\, West Midlands\, B73 6EN\, United Kingdom
CATEGORIES:Club Night
ORGANIZER;CN="Sutton Coldfield Fencing Club":MAILTO:scfencingclub@btinternet.com
END:VEVENT
BEGIN:VEVENT
DTSTART;TZID=Europe/London:20281211T193000
DTEND;TZID=Europe/London:20281211T220000
DTSTAMP:20260425T135511
CREATED:20260327T153612Z
LAST-MODIFIED:20260329T111521Z
UID:10007195-1860175800-1860184800@westmidlandsfencing.org.uk
SUMMARY:Sutton Coldfield Fencing Club
DESCRIPTION:19:30-20:30 Junior Club\n20:30-22:00 Adult Club
URL:https://westmidlandsfencing.org.uk/event/sutton-coldfield-fencing-club/2028-12-11
LOCATION:Wyndley Leisure Centre\, Clifton Rd\, Sutton Coldfield\, West Midlands\, B73 6EN\, United Kingdom
CATEGORIES:Club Night
ORGANIZER;CN="Sutton Coldfield Fencing Club":MAILTO:scfencingclub@btinternet.com
END:VEVENT
BEGIN:VEVENT
DTSTART;TZID=Europe/London:20281218T193000
DTEND;TZID=Europe/London:20281218T220000
DTSTAMP:20260425T135511
CREATED:20260327T153612Z
LAST-MODIFIED:20260329T111521Z
UID:10007196-1860780600-1860789600@westmidlandsfencing.org.uk
SUMMARY:Sutton Coldfield Fencing Club
DESCRIPTION:19:30-20:30 Junior Club\n20:30-22:00 Adult Club
URL:https://westmidlandsfencing.org.uk/event/sutton-coldfield-fencing-club/2028-12-18
LOCATION:Wyndley Leisure Centre\, Clifton Rd\, Sutton Coldfield\, West Midlands\, B73 6EN\, United Kingdom
CATEGORIES:Club Night
ORGANIZER;CN="Sutton Coldfield Fencing Club":MAILTO:scfencingclub@btinternet.com
END:VEVENT
BEGIN:VEVENT
DTSTART;TZID=Europe/London:20281225T193000
DTEND;TZID=Europe/London:20281225T220000
DTSTAMP:20260425T135511
CREATED:20260327T153612Z
LAST-MODIFIED:20260329T111521Z
UID:10007197-1861385400-1861394400@westmidlandsfencing.org.uk
SUMMARY:Sutton Coldfield Fencing Club
DESCRIPTION:19:30-20:30 Junior Club\n20:30-22:00 Adult Club
URL:https://westmidlandsfencing.org.uk/event/sutton-coldfield-fencing-club/2028-12-25
LOCATION:Wyndley Leisure Centre\, Clifton Rd\, Sutton Coldfield\, West Midlands\, B73 6EN\, United Kingdom
CATEGORIES:Club Night
ORGANIZER;CN="Sutton Coldfield Fencing Club":MAILTO:scfencingclub@btinternet.com
END:VEVENT
BEGIN:VEVENT
DTSTART;TZID=Europe/London:20290101T193000
DTEND;TZID=Europe/London:20290101T220000
DTSTAMP:20260425T135511
CREATED:20260327T153612Z
LAST-MODIFIED:20260329T111521Z
UID:10007198-1861990200-1861999200@westmidlandsfencing.org.uk
SUMMARY:Sutton Coldfield Fencing Club
DESCRIPTION:19:30-20:30 Junior Club\n20:30-22:00 Adult Club
URL:https://westmidlandsfencing.org.uk/event/sutton-coldfield-fencing-club/2029-01-01
LOCATION:Wyndley Leisure Centre\, Clifton Rd\, Sutton Coldfield\, West Midlands\, B73 6EN\, United Kingdom
CATEGORIES:Club Night
ORGANIZER;CN="Sutton Coldfield Fencing Club":MAILTO:scfencingclub@btinternet.com
END:VEVENT
BEGIN:VEVENT
DTSTART;TZID=Europe/London:20290108T193000
DTEND;TZID=Europe/London:20290108T220000
DTSTAMP:20260425T135511
CREATED:20260327T153612Z
LAST-MODIFIED:20260329T111521Z
UID:10007199-1862595000-1862604000@westmidlandsfencing.org.uk
SUMMARY:Sutton Coldfield Fencing Club
DESCRIPTION:19:30-20:30 Junior Club\n20:30-22:00 Adult Club
URL:https://westmidlandsfencing.org.uk/event/sutton-coldfield-fencing-club/2029-01-08
LOCATION:Wyndley Leisure Centre\, Clifton Rd\, Sutton Coldfield\, West Midlands\, B73 6EN\, United Kingdom
CATEGORIES:Club Night
ORGANIZER;CN="Sutton Coldfield Fencing Club":MAILTO:scfencingclub@btinternet.com
END:VEVENT
BEGIN:VEVENT
DTSTART;TZID=Europe/London:20290115T193000
DTEND;TZID=Europe/London:20290115T220000
DTSTAMP:20260425T135511
CREATED:20260327T153612Z
LAST-MODIFIED:20260329T111521Z
UID:10007200-1863199800-1863208800@westmidlandsfencing.org.uk
SUMMARY:Sutton Coldfield Fencing Club
DESCRIPTION:19:30-20:30 Junior Club\n20:30-22:00 Adult Club
URL:https://westmidlandsfencing.org.uk/event/sutton-coldfield-fencing-club/2029-01-15
LOCATION:Wyndley Leisure Centre\, Clifton Rd\, Sutton Coldfield\, West Midlands\, B73 6EN\, United Kingdom
CATEGORIES:Club Night
ORGANIZER;CN="Sutton Coldfield Fencing Club":MAILTO:scfencingclub@btinternet.com
END:VEVENT
BEGIN:VEVENT
DTSTART;TZID=Europe/London:20290122T193000
DTEND;TZID=Europe/London:20290122T220000
DTSTAMP:20260425T135511
CREATED:20260327T153612Z
LAST-MODIFIED:20260329T111521Z
UID:10007201-1863804600-1863813600@westmidlandsfencing.org.uk
SUMMARY:Sutton Coldfield Fencing Club
DESCRIPTION:19:30-20:30 Junior Club\n20:30-22:00 Adult Club
URL:https://westmidlandsfencing.org.uk/event/sutton-coldfield-fencing-club/2029-01-22
LOCATION:Wyndley Leisure Centre\, Clifton Rd\, Sutton Coldfield\, West Midlands\, B73 6EN\, United Kingdom
CATEGORIES:Club Night
ORGANIZER;CN="Sutton Coldfield Fencing Club":MAILTO:scfencingclub@btinternet.com
END:VEVENT
BEGIN:VEVENT
DTSTART;TZID=Europe/London:20290129T193000
DTEND;TZID=Europe/London:20290129T220000
DTSTAMP:20260425T135511
CREATED:20260327T153612Z
LAST-MODIFIED:20260329T111521Z
UID:10007202-1864409400-1864418400@westmidlandsfencing.org.uk
SUMMARY:Sutton Coldfield Fencing Club
DESCRIPTION:19:30-20:30 Junior Club\n20:30-22:00 Adult Club
URL:https://westmidlandsfencing.org.uk/event/sutton-coldfield-fencing-club/2029-01-29
LOCATION:Wyndley Leisure Centre\, Clifton Rd\, Sutton Coldfield\, West Midlands\, B73 6EN\, United Kingdom
CATEGORIES:Club Night
ORGANIZER;CN="Sutton Coldfield Fencing Club":MAILTO:scfencingclub@btinternet.com
END:VEVENT
BEGIN:VEVENT
DTSTART;TZID=Europe/London:20290205T193000
DTEND;TZID=Europe/London:20290205T220000
DTSTAMP:20260425T135511
CREATED:20260327T153612Z
LAST-MODIFIED:20260329T111521Z
UID:10007203-1865014200-1865023200@westmidlandsfencing.org.uk
SUMMARY:Sutton Coldfield Fencing Club
DESCRIPTION:19:30-20:30 Junior Club\n20:30-22:00 Adult Club
URL:https://westmidlandsfencing.org.uk/event/sutton-coldfield-fencing-club/2029-02-05
LOCATION:Wyndley Leisure Centre\, Clifton Rd\, Sutton Coldfield\, West Midlands\, B73 6EN\, United Kingdom
CATEGORIES:Club Night
ORGANIZER;CN="Sutton Coldfield Fencing Club":MAILTO:scfencingclub@btinternet.com
END:VEVENT
BEGIN:VEVENT
DTSTART;TZID=Europe/London:20290212T193000
DTEND;TZID=Europe/London:20290212T220000
DTSTAMP:20260425T135511
CREATED:20260327T153612Z
LAST-MODIFIED:20260329T111521Z
UID:10007204-1865619000-1865628000@westmidlandsfencing.org.uk
SUMMARY:Sutton Coldfield Fencing Club
DESCRIPTION:19:30-20:30 Junior Club\n20:30-22:00 Adult Club
URL:https://westmidlandsfencing.org.uk/event/sutton-coldfield-fencing-club/2029-02-12
LOCATION:Wyndley Leisure Centre\, Clifton Rd\, Sutton Coldfield\, West Midlands\, B73 6EN\, United Kingdom
CATEGORIES:Club Night
ORGANIZER;CN="Sutton Coldfield Fencing Club":MAILTO:scfencingclub@btinternet.com
END:VEVENT
BEGIN:VEVENT
DTSTART;TZID=Europe/London:20290219T193000
DTEND;TZID=Europe/London:20290219T220000
DTSTAMP:20260425T135511
CREATED:20260327T153612Z
LAST-MODIFIED:20260329T111521Z
UID:10007205-1866223800-1866232800@westmidlandsfencing.org.uk
SUMMARY:Sutton Coldfield Fencing Club
DESCRIPTION:19:30-20:30 Junior Club\n20:30-22:00 Adult Club
URL:https://westmidlandsfencing.org.uk/event/sutton-coldfield-fencing-club/2029-02-19
LOCATION:Wyndley Leisure Centre\, Clifton Rd\, Sutton Coldfield\, West Midlands\, B73 6EN\, United Kingdom
CATEGORIES:Club Night
ORGANIZER;CN="Sutton Coldfield Fencing Club":MAILTO:scfencingclub@btinternet.com
END:VEVENT
BEGIN:VEVENT
DTSTART;TZID=Europe/London:20290226T193000
DTEND;TZID=Europe/London:20290226T220000
DTSTAMP:20260425T135511
CREATED:20260327T153612Z
LAST-MODIFIED:20260329T111521Z
UID:10007206-1866828600-1866837600@westmidlandsfencing.org.uk
SUMMARY:Sutton Coldfield Fencing Club
DESCRIPTION:19:30-20:30 Junior Club\n20:30-22:00 Adult Club
URL:https://westmidlandsfencing.org.uk/event/sutton-coldfield-fencing-club/2029-02-26
LOCATION:Wyndley Leisure Centre\, Clifton Rd\, Sutton Coldfield\, West Midlands\, B73 6EN\, United Kingdom
CATEGORIES:Club Night
ORGANIZER;CN="Sutton Coldfield Fencing Club":MAILTO:scfencingclub@btinternet.com
END:VEVENT
BEGIN:VEVENT
DTSTART;TZID=Europe/London:20290305T193000
DTEND;TZID=Europe/London:20290305T220000
DTSTAMP:20260425T135511
CREATED:20260327T153612Z
LAST-MODIFIED:20260329T111521Z
UID:10007207-1867433400-1867442400@westmidlandsfencing.org.uk
SUMMARY:Sutton Coldfield Fencing Club
DESCRIPTION:19:30-20:30 Junior Club\n20:30-22:00 Adult Club
URL:https://westmidlandsfencing.org.uk/event/sutton-coldfield-fencing-club/2029-03-05
LOCATION:Wyndley Leisure Centre\, Clifton Rd\, Sutton Coldfield\, West Midlands\, B73 6EN\, United Kingdom
CATEGORIES:Club Night
ORGANIZER;CN="Sutton Coldfield Fencing Club":MAILTO:scfencingclub@btinternet.com
END:VEVENT
BEGIN:VEVENT
DTSTART;TZID=Europe/London:20290312T193000
DTEND;TZID=Europe/London:20290312T220000
DTSTAMP:20260425T135511
CREATED:20260327T153612Z
LAST-MODIFIED:20260329T111521Z
UID:10007208-1868038200-1868047200@westmidlandsfencing.org.uk
SUMMARY:Sutton Coldfield Fencing Club
DESCRIPTION:19:30-20:30 Junior Club\n20:30-22:00 Adult Club
URL:https://westmidlandsfencing.org.uk/event/sutton-coldfield-fencing-club/2029-03-12
LOCATION:Wyndley Leisure Centre\, Clifton Rd\, Sutton Coldfield\, West Midlands\, B73 6EN\, United Kingdom
CATEGORIES:Club Night
ORGANIZER;CN="Sutton Coldfield Fencing Club":MAILTO:scfencingclub@btinternet.com
END:VEVENT
BEGIN:VEVENT
DTSTART;TZID=Europe/London:20290319T193000
DTEND;TZID=Europe/London:20290319T220000
DTSTAMP:20260425T135511
CREATED:20260327T153612Z
LAST-MODIFIED:20260329T111521Z
UID:10007209-1868643000-1868652000@westmidlandsfencing.org.uk
SUMMARY:Sutton Coldfield Fencing Club
DESCRIPTION:19:30-20:30 Junior Club\n20:30-22:00 Adult Club
URL:https://westmidlandsfencing.org.uk/event/sutton-coldfield-fencing-club/2029-03-19
LOCATION:Wyndley Leisure Centre\, Clifton Rd\, Sutton Coldfield\, West Midlands\, B73 6EN\, United Kingdom
CATEGORIES:Club Night
ORGANIZER;CN="Sutton Coldfield Fencing Club":MAILTO:scfencingclub@btinternet.com
END:VEVENT
BEGIN:VEVENT
DTSTART;TZID=Europe/London:20290326T193000
DTEND;TZID=Europe/London:20290326T220000
DTSTAMP:20260425T135511
CREATED:20260327T153612Z
LAST-MODIFIED:20260329T111521Z
UID:10007210-1869247800-1869256800@westmidlandsfencing.org.uk
SUMMARY:Sutton Coldfield Fencing Club
DESCRIPTION:19:30-20:30 Junior Club\n20:30-22:00 Adult Club
URL:https://westmidlandsfencing.org.uk/event/sutton-coldfield-fencing-club/2029-03-26
LOCATION:Wyndley Leisure Centre\, Clifton Rd\, Sutton Coldfield\, West Midlands\, B73 6EN\, United Kingdom
CATEGORIES:Club Night
ORGANIZER;CN="Sutton Coldfield Fencing Club":MAILTO:scfencingclub@btinternet.com
END:VEVENT
BEGIN:VEVENT
DTSTART;TZID=Europe/London:20290402T193000
DTEND;TZID=Europe/London:20290402T220000
DTSTAMP:20260425T135511
CREATED:20260327T153612Z
LAST-MODIFIED:20260329T111521Z
UID:10007211-1869852600-1869861600@westmidlandsfencing.org.uk
SUMMARY:Sutton Coldfield Fencing Club
DESCRIPTION:19:30-20:30 Junior Club\n20:30-22:00 Adult Club
URL:https://westmidlandsfencing.org.uk/event/sutton-coldfield-fencing-club/2029-04-02
LOCATION:Wyndley Leisure Centre\, Clifton Rd\, Sutton Coldfield\, West Midlands\, B73 6EN\, United Kingdom
CATEGORIES:Club Night
ORGANIZER;CN="Sutton Coldfield Fencing Club":MAILTO:scfencingclub@btinternet.com
END:VEVENT
BEGIN:VEVENT
DTSTART;TZID=Europe/London:20290409T193000
DTEND;TZID=Europe/London:20290409T220000
DTSTAMP:20260425T135511
CREATED:20260327T153612Z
LAST-MODIFIED:20260329T111521Z
UID:10007212-1870457400-1870466400@westmidlandsfencing.org.uk
SUMMARY:Sutton Coldfield Fencing Club
DESCRIPTION:19:30-20:30 Junior Club\n20:30-22:00 Adult Club
URL:https://westmidlandsfencing.org.uk/event/sutton-coldfield-fencing-club/2029-04-09
LOCATION:Wyndley Leisure Centre\, Clifton Rd\, Sutton Coldfield\, West Midlands\, B73 6EN\, United Kingdom
CATEGORIES:Club Night
ORGANIZER;CN="Sutton Coldfield Fencing Club":MAILTO:scfencingclub@btinternet.com
END:VEVENT
BEGIN:VEVENT
DTSTART;TZID=Europe/London:20290416T193000
DTEND;TZID=Europe/London:20290416T220000
DTSTAMP:20260425T135511
CREATED:20260327T153612Z
LAST-MODIFIED:20260329T111521Z
UID:10007213-1871062200-1871071200@westmidlandsfencing.org.uk
SUMMARY:Sutton Coldfield Fencing Club
DESCRIPTION:19:30-20:30 Junior Club\n20:30-22:00 Adult Club
URL:https://westmidlandsfencing.org.uk/event/sutton-coldfield-fencing-club/2029-04-16
LOCATION:Wyndley Leisure Centre\, Clifton Rd\, Sutton Coldfield\, West Midlands\, B73 6EN\, United Kingdom
CATEGORIES:Club Night
ORGANIZER;CN="Sutton Coldfield Fencing Club":MAILTO:scfencingclub@btinternet.com
END:VEVENT
BEGIN:VEVENT
DTSTART;TZID=Europe/London:20290423T193000
DTEND;TZID=Europe/London:20290423T220000
DTSTAMP:20260425T135511
CREATED:20260327T153612Z
LAST-MODIFIED:20260329T111521Z
UID:10007214-1871667000-1871676000@westmidlandsfencing.org.uk
SUMMARY:Sutton Coldfield Fencing Club
DESCRIPTION:19:30-20:30 Junior Club\n20:30-22:00 Adult Club
URL:https://westmidlandsfencing.org.uk/event/sutton-coldfield-fencing-club/2029-04-23
LOCATION:Wyndley Leisure Centre\, Clifton Rd\, Sutton Coldfield\, West Midlands\, B73 6EN\, United Kingdom
CATEGORIES:Club Night
ORGANIZER;CN="Sutton Coldfield Fencing Club":MAILTO:scfencingclub@btinternet.com
END:VEVENT
BEGIN:VEVENT
DTSTART;TZID=Europe/London:20290430T193000
DTEND;TZID=Europe/London:20290430T220000
DTSTAMP:20260425T135511
CREATED:20260327T153612Z
LAST-MODIFIED:20260329T111521Z
UID:10007215-1872271800-1872280800@westmidlandsfencing.org.uk
SUMMARY:Sutton Coldfield Fencing Club
DESCRIPTION:19:30-20:30 Junior Club\n20:30-22:00 Adult Club
URL:https://westmidlandsfencing.org.uk/event/sutton-coldfield-fencing-club/2029-04-30
LOCATION:Wyndley Leisure Centre\, Clifton Rd\, Sutton Coldfield\, West Midlands\, B73 6EN\, United Kingdom
CATEGORIES:Club Night
ORGANIZER;CN="Sutton Coldfield Fencing Club":MAILTO:scfencingclub@btinternet.com
END:VEVENT
BEGIN:VEVENT
DTSTART;TZID=Europe/London:20290507T193000
DTEND;TZID=Europe/London:20290507T220000
DTSTAMP:20260425T135511
CREATED:20260327T153612Z
LAST-MODIFIED:20260329T111521Z
UID:10007216-1872876600-1872885600@westmidlandsfencing.org.uk
SUMMARY:Sutton Coldfield Fencing Club
DESCRIPTION:19:30-20:30 Junior Club\n20:30-22:00 Adult Club
URL:https://westmidlandsfencing.org.uk/event/sutton-coldfield-fencing-club/2029-05-07
LOCATION:Wyndley Leisure Centre\, Clifton Rd\, Sutton Coldfield\, West Midlands\, B73 6EN\, United Kingdom
CATEGORIES:Club Night
ORGANIZER;CN="Sutton Coldfield Fencing Club":MAILTO:scfencingclub@btinternet.com
END:VEVENT
BEGIN:VEVENT
DTSTART;TZID=Europe/London:20290514T193000
DTEND;TZID=Europe/London:20290514T220000
DTSTAMP:20260425T135511
CREATED:20260327T153612Z
LAST-MODIFIED:20260329T111521Z
UID:10007217-1873481400-1873490400@westmidlandsfencing.org.uk
SUMMARY:Sutton Coldfield Fencing Club
DESCRIPTION:19:30-20:30 Junior Club\n20:30-22:00 Adult Club
URL:https://westmidlandsfencing.org.uk/event/sutton-coldfield-fencing-club/2029-05-14
LOCATION:Wyndley Leisure Centre\, Clifton Rd\, Sutton Coldfield\, West Midlands\, B73 6EN\, United Kingdom
CATEGORIES:Club Night
ORGANIZER;CN="Sutton Coldfield Fencing Club":MAILTO:scfencingclub@btinternet.com
END:VEVENT
BEGIN:VEVENT
DTSTART;TZID=Europe/London:20290521T193000
DTEND;TZID=Europe/London:20290521T220000
DTSTAMP:20260425T135511
CREATED:20260327T153612Z
LAST-MODIFIED:20260329T111521Z
UID:10007218-1874086200-1874095200@westmidlandsfencing.org.uk
SUMMARY:Sutton Coldfield Fencing Club
DESCRIPTION:19:30-20:30 Junior Club\n20:30-22:00 Adult Club
URL:https://westmidlandsfencing.org.uk/event/sutton-coldfield-fencing-club/2029-05-21
LOCATION:Wyndley Leisure Centre\, Clifton Rd\, Sutton Coldfield\, West Midlands\, B73 6EN\, United Kingdom
CATEGORIES:Club Night
ORGANIZER;CN="Sutton Coldfield Fencing Club":MAILTO:scfencingclub@btinternet.com
END:VEVENT
BEGIN:VEVENT
DTSTART;TZID=Europe/London:20290528T193000
DTEND;TZID=Europe/London:20290528T220000
DTSTAMP:20260425T135511
CREATED:20260327T153612Z
LAST-MODIFIED:20260329T111521Z
UID:10007219-1874691000-1874700000@westmidlandsfencing.org.uk
SUMMARY:Sutton Coldfield Fencing Club
DESCRIPTION:19:30-20:30 Junior Club\n20:30-22:00 Adult Club
URL:https://westmidlandsfencing.org.uk/event/sutton-coldfield-fencing-club/2029-05-28
LOCATION:Wyndley Leisure Centre\, Clifton Rd\, Sutton Coldfield\, West Midlands\, B73 6EN\, United Kingdom
CATEGORIES:Club Night
ORGANIZER;CN="Sutton Coldfield Fencing Club":MAILTO:scfencingclub@btinternet.com
END:VEVENT
END:VCALENDAR