BEGIN:VCALENDAR
VERSION:2.0
PRODID:-//West Midlands Region Fencing - ECPv6.15.20//NONSGML v1.0//EN
CALSCALE:GREGORIAN
METHOD:PUBLISH
X-ORIGINAL-URL:https://westmidlandsfencing.org.uk
X-WR-CALDESC:Events for West Midlands Region Fencing
REFRESH-INTERVAL;VALUE=DURATION:PT1H
X-Robots-Tag:noindex
X-PUBLISHED-TTL:PT1H
BEGIN:VTIMEZONE
TZID:Europe/London
BEGIN:DAYLIGHT
TZOFFSETFROM:+0000
TZOFFSETTO:+0100
TZNAME:BST
DTSTART:20280326T010000
END:DAYLIGHT
BEGIN:STANDARD
TZOFFSETFROM:+0100
TZOFFSETTO:+0000
TZNAME:GMT
DTSTART:20281029T010000
END:STANDARD
BEGIN:DAYLIGHT
TZOFFSETFROM:+0000
TZOFFSETTO:+0100
TZNAME:BST
DTSTART:20290325T010000
END:DAYLIGHT
BEGIN:STANDARD
TZOFFSETFROM:+0100
TZOFFSETTO:+0000
TZNAME:GMT
DTSTART:20291028T010000
END:STANDARD
BEGIN:DAYLIGHT
TZOFFSETFROM:+0000
TZOFFSETTO:+0100
TZNAME:BST
DTSTART:20300331T010000
END:DAYLIGHT
BEGIN:STANDARD
TZOFFSETFROM:+0100
TZOFFSETTO:+0000
TZNAME:GMT
DTSTART:20301027T010000
END:STANDARD
BEGIN:DAYLIGHT
TZOFFSETFROM:+0000
TZOFFSETTO:+0100
TZNAME:BST
DTSTART:20310330T010000
END:DAYLIGHT
BEGIN:STANDARD
TZOFFSETFROM:+0100
TZOFFSETTO:+0000
TZNAME:GMT
DTSTART:20311026T010000
END:STANDARD
END:VTIMEZONE
BEGIN:VEVENT
DTSTART;TZID=Europe/London:20290716T193000
DTEND;TZID=Europe/London:20290716T220000
DTSTAMP:20260425T180740
CREATED:20260327T153612Z
LAST-MODIFIED:20260329T111521Z
UID:10007226-1878924600-1878933600@westmidlandsfencing.org.uk
SUMMARY:Sutton Coldfield Fencing Club
DESCRIPTION:19:30-20:30 Junior Club\n20:30-22:00 Adult Club
URL:https://westmidlandsfencing.org.uk/event/sutton-coldfield-fencing-club/2029-07-16
LOCATION:Wyndley Leisure Centre\, Clifton Rd\, Sutton Coldfield\, West Midlands\, B73 6EN\, United Kingdom
CATEGORIES:Club Night
ORGANIZER;CN="Sutton Coldfield Fencing Club":MAILTO:scfencingclub@btinternet.com
END:VEVENT
BEGIN:VEVENT
DTSTART;TZID=Europe/London:20290723T193000
DTEND;TZID=Europe/London:20290723T220000
DTSTAMP:20260425T180740
CREATED:20260327T153612Z
LAST-MODIFIED:20260329T111521Z
UID:10007227-1879529400-1879538400@westmidlandsfencing.org.uk
SUMMARY:Sutton Coldfield Fencing Club
DESCRIPTION:19:30-20:30 Junior Club\n20:30-22:00 Adult Club
URL:https://westmidlandsfencing.org.uk/event/sutton-coldfield-fencing-club/2029-07-23
LOCATION:Wyndley Leisure Centre\, Clifton Rd\, Sutton Coldfield\, West Midlands\, B73 6EN\, United Kingdom
CATEGORIES:Club Night
ORGANIZER;CN="Sutton Coldfield Fencing Club":MAILTO:scfencingclub@btinternet.com
END:VEVENT
BEGIN:VEVENT
DTSTART;TZID=Europe/London:20290730T193000
DTEND;TZID=Europe/London:20290730T220000
DTSTAMP:20260425T180740
CREATED:20260327T153612Z
LAST-MODIFIED:20260329T111521Z
UID:10007228-1880134200-1880143200@westmidlandsfencing.org.uk
SUMMARY:Sutton Coldfield Fencing Club
DESCRIPTION:19:30-20:30 Junior Club\n20:30-22:00 Adult Club
URL:https://westmidlandsfencing.org.uk/event/sutton-coldfield-fencing-club/2029-07-30
LOCATION:Wyndley Leisure Centre\, Clifton Rd\, Sutton Coldfield\, West Midlands\, B73 6EN\, United Kingdom
CATEGORIES:Club Night
ORGANIZER;CN="Sutton Coldfield Fencing Club":MAILTO:scfencingclub@btinternet.com
END:VEVENT
BEGIN:VEVENT
DTSTART;TZID=Europe/London:20290806T193000
DTEND;TZID=Europe/London:20290806T220000
DTSTAMP:20260425T180740
CREATED:20260327T153612Z
LAST-MODIFIED:20260329T111521Z
UID:10007229-1880739000-1880748000@westmidlandsfencing.org.uk
SUMMARY:Sutton Coldfield Fencing Club
DESCRIPTION:19:30-20:30 Junior Club\n20:30-22:00 Adult Club
URL:https://westmidlandsfencing.org.uk/event/sutton-coldfield-fencing-club/2029-08-06
LOCATION:Wyndley Leisure Centre\, Clifton Rd\, Sutton Coldfield\, West Midlands\, B73 6EN\, United Kingdom
CATEGORIES:Club Night
ORGANIZER;CN="Sutton Coldfield Fencing Club":MAILTO:scfencingclub@btinternet.com
END:VEVENT
BEGIN:VEVENT
DTSTART;TZID=Europe/London:20290813T193000
DTEND;TZID=Europe/London:20290813T220000
DTSTAMP:20260425T180740
CREATED:20260327T153612Z
LAST-MODIFIED:20260329T111521Z
UID:10007230-1881343800-1881352800@westmidlandsfencing.org.uk
SUMMARY:Sutton Coldfield Fencing Club
DESCRIPTION:19:30-20:30 Junior Club\n20:30-22:00 Adult Club
URL:https://westmidlandsfencing.org.uk/event/sutton-coldfield-fencing-club/2029-08-13
LOCATION:Wyndley Leisure Centre\, Clifton Rd\, Sutton Coldfield\, West Midlands\, B73 6EN\, United Kingdom
CATEGORIES:Club Night
ORGANIZER;CN="Sutton Coldfield Fencing Club":MAILTO:scfencingclub@btinternet.com
END:VEVENT
BEGIN:VEVENT
DTSTART;TZID=Europe/London:20290820T193000
DTEND;TZID=Europe/London:20290820T220000
DTSTAMP:20260425T180740
CREATED:20260327T153612Z
LAST-MODIFIED:20260329T111521Z
UID:10007231-1881948600-1881957600@westmidlandsfencing.org.uk
SUMMARY:Sutton Coldfield Fencing Club
DESCRIPTION:19:30-20:30 Junior Club\n20:30-22:00 Adult Club
URL:https://westmidlandsfencing.org.uk/event/sutton-coldfield-fencing-club/2029-08-20
LOCATION:Wyndley Leisure Centre\, Clifton Rd\, Sutton Coldfield\, West Midlands\, B73 6EN\, United Kingdom
CATEGORIES:Club Night
ORGANIZER;CN="Sutton Coldfield Fencing Club":MAILTO:scfencingclub@btinternet.com
END:VEVENT
BEGIN:VEVENT
DTSTART;TZID=Europe/London:20290827T193000
DTEND;TZID=Europe/London:20290827T220000
DTSTAMP:20260425T180740
CREATED:20260327T153612Z
LAST-MODIFIED:20260329T111521Z
UID:10007232-1882553400-1882562400@westmidlandsfencing.org.uk
SUMMARY:Sutton Coldfield Fencing Club
DESCRIPTION:19:30-20:30 Junior Club\n20:30-22:00 Adult Club
URL:https://westmidlandsfencing.org.uk/event/sutton-coldfield-fencing-club/2029-08-27
LOCATION:Wyndley Leisure Centre\, Clifton Rd\, Sutton Coldfield\, West Midlands\, B73 6EN\, United Kingdom
CATEGORIES:Club Night
ORGANIZER;CN="Sutton Coldfield Fencing Club":MAILTO:scfencingclub@btinternet.com
END:VEVENT
BEGIN:VEVENT
DTSTART;TZID=Europe/London:20290903T193000
DTEND;TZID=Europe/London:20290903T220000
DTSTAMP:20260425T180740
CREATED:20260327T153612Z
LAST-MODIFIED:20260329T111521Z
UID:10007233-1883158200-1883167200@westmidlandsfencing.org.uk
SUMMARY:Sutton Coldfield Fencing Club
DESCRIPTION:19:30-20:30 Junior Club\n20:30-22:00 Adult Club
URL:https://westmidlandsfencing.org.uk/event/sutton-coldfield-fencing-club/2029-09-03
LOCATION:Wyndley Leisure Centre\, Clifton Rd\, Sutton Coldfield\, West Midlands\, B73 6EN\, United Kingdom
CATEGORIES:Club Night
ORGANIZER;CN="Sutton Coldfield Fencing Club":MAILTO:scfencingclub@btinternet.com
END:VEVENT
BEGIN:VEVENT
DTSTART;TZID=Europe/London:20290910T193000
DTEND;TZID=Europe/London:20290910T220000
DTSTAMP:20260425T180740
CREATED:20260327T153612Z
LAST-MODIFIED:20260329T111521Z
UID:10007234-1883763000-1883772000@westmidlandsfencing.org.uk
SUMMARY:Sutton Coldfield Fencing Club
DESCRIPTION:19:30-20:30 Junior Club\n20:30-22:00 Adult Club
URL:https://westmidlandsfencing.org.uk/event/sutton-coldfield-fencing-club/2029-09-10
LOCATION:Wyndley Leisure Centre\, Clifton Rd\, Sutton Coldfield\, West Midlands\, B73 6EN\, United Kingdom
CATEGORIES:Club Night
ORGANIZER;CN="Sutton Coldfield Fencing Club":MAILTO:scfencingclub@btinternet.com
END:VEVENT
BEGIN:VEVENT
DTSTART;TZID=Europe/London:20290917T193000
DTEND;TZID=Europe/London:20290917T220000
DTSTAMP:20260425T180740
CREATED:20260327T153612Z
LAST-MODIFIED:20260329T111521Z
UID:10007235-1884367800-1884376800@westmidlandsfencing.org.uk
SUMMARY:Sutton Coldfield Fencing Club
DESCRIPTION:19:30-20:30 Junior Club\n20:30-22:00 Adult Club
URL:https://westmidlandsfencing.org.uk/event/sutton-coldfield-fencing-club/2029-09-17
LOCATION:Wyndley Leisure Centre\, Clifton Rd\, Sutton Coldfield\, West Midlands\, B73 6EN\, United Kingdom
CATEGORIES:Club Night
ORGANIZER;CN="Sutton Coldfield Fencing Club":MAILTO:scfencingclub@btinternet.com
END:VEVENT
BEGIN:VEVENT
DTSTART;TZID=Europe/London:20290924T193000
DTEND;TZID=Europe/London:20290924T220000
DTSTAMP:20260425T180740
CREATED:20260327T153612Z
LAST-MODIFIED:20260329T111521Z
UID:10007236-1884972600-1884981600@westmidlandsfencing.org.uk
SUMMARY:Sutton Coldfield Fencing Club
DESCRIPTION:19:30-20:30 Junior Club\n20:30-22:00 Adult Club
URL:https://westmidlandsfencing.org.uk/event/sutton-coldfield-fencing-club/2029-09-24
LOCATION:Wyndley Leisure Centre\, Clifton Rd\, Sutton Coldfield\, West Midlands\, B73 6EN\, United Kingdom
CATEGORIES:Club Night
ORGANIZER;CN="Sutton Coldfield Fencing Club":MAILTO:scfencingclub@btinternet.com
END:VEVENT
BEGIN:VEVENT
DTSTART;TZID=Europe/London:20291001T193000
DTEND;TZID=Europe/London:20291001T220000
DTSTAMP:20260425T180740
CREATED:20260327T153612Z
LAST-MODIFIED:20260329T111521Z
UID:10007237-1885577400-1885586400@westmidlandsfencing.org.uk
SUMMARY:Sutton Coldfield Fencing Club
DESCRIPTION:19:30-20:30 Junior Club\n20:30-22:00 Adult Club
URL:https://westmidlandsfencing.org.uk/event/sutton-coldfield-fencing-club/2029-10-01
LOCATION:Wyndley Leisure Centre\, Clifton Rd\, Sutton Coldfield\, West Midlands\, B73 6EN\, United Kingdom
CATEGORIES:Club Night
ORGANIZER;CN="Sutton Coldfield Fencing Club":MAILTO:scfencingclub@btinternet.com
END:VEVENT
BEGIN:VEVENT
DTSTART;TZID=Europe/London:20291008T193000
DTEND;TZID=Europe/London:20291008T220000
DTSTAMP:20260425T180740
CREATED:20260327T153612Z
LAST-MODIFIED:20260329T111521Z
UID:10007238-1886182200-1886191200@westmidlandsfencing.org.uk
SUMMARY:Sutton Coldfield Fencing Club
DESCRIPTION:19:30-20:30 Junior Club\n20:30-22:00 Adult Club
URL:https://westmidlandsfencing.org.uk/event/sutton-coldfield-fencing-club/2029-10-08
LOCATION:Wyndley Leisure Centre\, Clifton Rd\, Sutton Coldfield\, West Midlands\, B73 6EN\, United Kingdom
CATEGORIES:Club Night
ORGANIZER;CN="Sutton Coldfield Fencing Club":MAILTO:scfencingclub@btinternet.com
END:VEVENT
BEGIN:VEVENT
DTSTART;TZID=Europe/London:20291015T193000
DTEND;TZID=Europe/London:20291015T220000
DTSTAMP:20260425T180740
CREATED:20260327T153612Z
LAST-MODIFIED:20260329T111521Z
UID:10007239-1886787000-1886796000@westmidlandsfencing.org.uk
SUMMARY:Sutton Coldfield Fencing Club
DESCRIPTION:19:30-20:30 Junior Club\n20:30-22:00 Adult Club
URL:https://westmidlandsfencing.org.uk/event/sutton-coldfield-fencing-club/2029-10-15
LOCATION:Wyndley Leisure Centre\, Clifton Rd\, Sutton Coldfield\, West Midlands\, B73 6EN\, United Kingdom
CATEGORIES:Club Night
ORGANIZER;CN="Sutton Coldfield Fencing Club":MAILTO:scfencingclub@btinternet.com
END:VEVENT
BEGIN:VEVENT
DTSTART;TZID=Europe/London:20291022T193000
DTEND;TZID=Europe/London:20291022T220000
DTSTAMP:20260425T180740
CREATED:20260327T153612Z
LAST-MODIFIED:20260329T111521Z
UID:10007240-1887391800-1887400800@westmidlandsfencing.org.uk
SUMMARY:Sutton Coldfield Fencing Club
DESCRIPTION:19:30-20:30 Junior Club\n20:30-22:00 Adult Club
URL:https://westmidlandsfencing.org.uk/event/sutton-coldfield-fencing-club/2029-10-22
LOCATION:Wyndley Leisure Centre\, Clifton Rd\, Sutton Coldfield\, West Midlands\, B73 6EN\, United Kingdom
CATEGORIES:Club Night
ORGANIZER;CN="Sutton Coldfield Fencing Club":MAILTO:scfencingclub@btinternet.com
END:VEVENT
BEGIN:VEVENT
DTSTART;TZID=Europe/London:20291029T193000
DTEND;TZID=Europe/London:20291029T220000
DTSTAMP:20260425T180740
CREATED:20260327T153612Z
LAST-MODIFIED:20260329T111521Z
UID:10007241-1887996600-1888005600@westmidlandsfencing.org.uk
SUMMARY:Sutton Coldfield Fencing Club
DESCRIPTION:19:30-20:30 Junior Club\n20:30-22:00 Adult Club
URL:https://westmidlandsfencing.org.uk/event/sutton-coldfield-fencing-club/2029-10-29
LOCATION:Wyndley Leisure Centre\, Clifton Rd\, Sutton Coldfield\, West Midlands\, B73 6EN\, United Kingdom
CATEGORIES:Club Night
ORGANIZER;CN="Sutton Coldfield Fencing Club":MAILTO:scfencingclub@btinternet.com
END:VEVENT
BEGIN:VEVENT
DTSTART;TZID=Europe/London:20291105T193000
DTEND;TZID=Europe/London:20291105T220000
DTSTAMP:20260425T180740
CREATED:20260327T153612Z
LAST-MODIFIED:20260329T111521Z
UID:10007242-1888601400-1888610400@westmidlandsfencing.org.uk
SUMMARY:Sutton Coldfield Fencing Club
DESCRIPTION:19:30-20:30 Junior Club\n20:30-22:00 Adult Club
URL:https://westmidlandsfencing.org.uk/event/sutton-coldfield-fencing-club/2029-11-05
LOCATION:Wyndley Leisure Centre\, Clifton Rd\, Sutton Coldfield\, West Midlands\, B73 6EN\, United Kingdom
CATEGORIES:Club Night
ORGANIZER;CN="Sutton Coldfield Fencing Club":MAILTO:scfencingclub@btinternet.com
END:VEVENT
BEGIN:VEVENT
DTSTART;TZID=Europe/London:20291112T193000
DTEND;TZID=Europe/London:20291112T220000
DTSTAMP:20260425T180740
CREATED:20260327T153612Z
LAST-MODIFIED:20260329T111521Z
UID:10007243-1889206200-1889215200@westmidlandsfencing.org.uk
SUMMARY:Sutton Coldfield Fencing Club
DESCRIPTION:19:30-20:30 Junior Club\n20:30-22:00 Adult Club
URL:https://westmidlandsfencing.org.uk/event/sutton-coldfield-fencing-club/2029-11-12
LOCATION:Wyndley Leisure Centre\, Clifton Rd\, Sutton Coldfield\, West Midlands\, B73 6EN\, United Kingdom
CATEGORIES:Club Night
ORGANIZER;CN="Sutton Coldfield Fencing Club":MAILTO:scfencingclub@btinternet.com
END:VEVENT
BEGIN:VEVENT
DTSTART;TZID=Europe/London:20291119T193000
DTEND;TZID=Europe/London:20291119T220000
DTSTAMP:20260425T180740
CREATED:20260327T153612Z
LAST-MODIFIED:20260329T111521Z
UID:10007244-1889811000-1889820000@westmidlandsfencing.org.uk
SUMMARY:Sutton Coldfield Fencing Club
DESCRIPTION:19:30-20:30 Junior Club\n20:30-22:00 Adult Club
URL:https://westmidlandsfencing.org.uk/event/sutton-coldfield-fencing-club/2029-11-19
LOCATION:Wyndley Leisure Centre\, Clifton Rd\, Sutton Coldfield\, West Midlands\, B73 6EN\, United Kingdom
CATEGORIES:Club Night
ORGANIZER;CN="Sutton Coldfield Fencing Club":MAILTO:scfencingclub@btinternet.com
END:VEVENT
BEGIN:VEVENT
DTSTART;TZID=Europe/London:20291126T193000
DTEND;TZID=Europe/London:20291126T220000
DTSTAMP:20260425T180740
CREATED:20260327T153612Z
LAST-MODIFIED:20260329T111521Z
UID:10007245-1890415800-1890424800@westmidlandsfencing.org.uk
SUMMARY:Sutton Coldfield Fencing Club
DESCRIPTION:19:30-20:30 Junior Club\n20:30-22:00 Adult Club
URL:https://westmidlandsfencing.org.uk/event/sutton-coldfield-fencing-club/2029-11-26
LOCATION:Wyndley Leisure Centre\, Clifton Rd\, Sutton Coldfield\, West Midlands\, B73 6EN\, United Kingdom
CATEGORIES:Club Night
ORGANIZER;CN="Sutton Coldfield Fencing Club":MAILTO:scfencingclub@btinternet.com
END:VEVENT
BEGIN:VEVENT
DTSTART;TZID=Europe/London:20291203T193000
DTEND;TZID=Europe/London:20291203T220000
DTSTAMP:20260425T180740
CREATED:20260327T153612Z
LAST-MODIFIED:20260329T111521Z
UID:10007246-1891020600-1891029600@westmidlandsfencing.org.uk
SUMMARY:Sutton Coldfield Fencing Club
DESCRIPTION:19:30-20:30 Junior Club\n20:30-22:00 Adult Club
URL:https://westmidlandsfencing.org.uk/event/sutton-coldfield-fencing-club/2029-12-03
LOCATION:Wyndley Leisure Centre\, Clifton Rd\, Sutton Coldfield\, West Midlands\, B73 6EN\, United Kingdom
CATEGORIES:Club Night
ORGANIZER;CN="Sutton Coldfield Fencing Club":MAILTO:scfencingclub@btinternet.com
END:VEVENT
BEGIN:VEVENT
DTSTART;TZID=Europe/London:20291210T193000
DTEND;TZID=Europe/London:20291210T220000
DTSTAMP:20260425T180741
CREATED:20260327T153612Z
LAST-MODIFIED:20260329T111521Z
UID:10007247-1891625400-1891634400@westmidlandsfencing.org.uk
SUMMARY:Sutton Coldfield Fencing Club
DESCRIPTION:19:30-20:30 Junior Club\n20:30-22:00 Adult Club
URL:https://westmidlandsfencing.org.uk/event/sutton-coldfield-fencing-club/2029-12-10
LOCATION:Wyndley Leisure Centre\, Clifton Rd\, Sutton Coldfield\, West Midlands\, B73 6EN\, United Kingdom
CATEGORIES:Club Night
ORGANIZER;CN="Sutton Coldfield Fencing Club":MAILTO:scfencingclub@btinternet.com
END:VEVENT
BEGIN:VEVENT
DTSTART;TZID=Europe/London:20291217T193000
DTEND;TZID=Europe/London:20291217T220000
DTSTAMP:20260425T180741
CREATED:20260327T153612Z
LAST-MODIFIED:20260329T111521Z
UID:10007248-1892230200-1892239200@westmidlandsfencing.org.uk
SUMMARY:Sutton Coldfield Fencing Club
DESCRIPTION:19:30-20:30 Junior Club\n20:30-22:00 Adult Club
URL:https://westmidlandsfencing.org.uk/event/sutton-coldfield-fencing-club/2029-12-17
LOCATION:Wyndley Leisure Centre\, Clifton Rd\, Sutton Coldfield\, West Midlands\, B73 6EN\, United Kingdom
CATEGORIES:Club Night
ORGANIZER;CN="Sutton Coldfield Fencing Club":MAILTO:scfencingclub@btinternet.com
END:VEVENT
BEGIN:VEVENT
DTSTART;TZID=Europe/London:20291224T193000
DTEND;TZID=Europe/London:20291224T220000
DTSTAMP:20260425T180741
CREATED:20260327T153612Z
LAST-MODIFIED:20260329T111521Z
UID:10007249-1892835000-1892844000@westmidlandsfencing.org.uk
SUMMARY:Sutton Coldfield Fencing Club
DESCRIPTION:19:30-20:30 Junior Club\n20:30-22:00 Adult Club
URL:https://westmidlandsfencing.org.uk/event/sutton-coldfield-fencing-club/2029-12-24
LOCATION:Wyndley Leisure Centre\, Clifton Rd\, Sutton Coldfield\, West Midlands\, B73 6EN\, United Kingdom
CATEGORIES:Club Night
ORGANIZER;CN="Sutton Coldfield Fencing Club":MAILTO:scfencingclub@btinternet.com
END:VEVENT
BEGIN:VEVENT
DTSTART;TZID=Europe/London:20291231T193000
DTEND;TZID=Europe/London:20291231T220000
DTSTAMP:20260425T180741
CREATED:20260327T153612Z
LAST-MODIFIED:20260329T111521Z
UID:10007250-1893439800-1893448800@westmidlandsfencing.org.uk
SUMMARY:Sutton Coldfield Fencing Club
DESCRIPTION:19:30-20:30 Junior Club\n20:30-22:00 Adult Club
URL:https://westmidlandsfencing.org.uk/event/sutton-coldfield-fencing-club/2029-12-31
LOCATION:Wyndley Leisure Centre\, Clifton Rd\, Sutton Coldfield\, West Midlands\, B73 6EN\, United Kingdom
CATEGORIES:Club Night
ORGANIZER;CN="Sutton Coldfield Fencing Club":MAILTO:scfencingclub@btinternet.com
END:VEVENT
BEGIN:VEVENT
DTSTART;TZID=Europe/London:20300107T193000
DTEND;TZID=Europe/London:20300107T220000
DTSTAMP:20260425T180741
CREATED:20260327T153612Z
LAST-MODIFIED:20260329T111521Z
UID:10007251-1894044600-1894053600@westmidlandsfencing.org.uk
SUMMARY:Sutton Coldfield Fencing Club
DESCRIPTION:19:30-20:30 Junior Club\n20:30-22:00 Adult Club
URL:https://westmidlandsfencing.org.uk/event/sutton-coldfield-fencing-club/2030-01-07
LOCATION:Wyndley Leisure Centre\, Clifton Rd\, Sutton Coldfield\, West Midlands\, B73 6EN\, United Kingdom
CATEGORIES:Club Night
ORGANIZER;CN="Sutton Coldfield Fencing Club":MAILTO:scfencingclub@btinternet.com
END:VEVENT
BEGIN:VEVENT
DTSTART;TZID=Europe/London:20300114T193000
DTEND;TZID=Europe/London:20300114T220000
DTSTAMP:20260425T180741
CREATED:20260327T153612Z
LAST-MODIFIED:20260329T111521Z
UID:10007252-1894649400-1894658400@westmidlandsfencing.org.uk
SUMMARY:Sutton Coldfield Fencing Club
DESCRIPTION:19:30-20:30 Junior Club\n20:30-22:00 Adult Club
URL:https://westmidlandsfencing.org.uk/event/sutton-coldfield-fencing-club/2030-01-14
LOCATION:Wyndley Leisure Centre\, Clifton Rd\, Sutton Coldfield\, West Midlands\, B73 6EN\, United Kingdom
CATEGORIES:Club Night
ORGANIZER;CN="Sutton Coldfield Fencing Club":MAILTO:scfencingclub@btinternet.com
END:VEVENT
BEGIN:VEVENT
DTSTART;TZID=Europe/London:20300121T193000
DTEND;TZID=Europe/London:20300121T220000
DTSTAMP:20260425T180741
CREATED:20260327T153612Z
LAST-MODIFIED:20260329T111521Z
UID:10007253-1895254200-1895263200@westmidlandsfencing.org.uk
SUMMARY:Sutton Coldfield Fencing Club
DESCRIPTION:19:30-20:30 Junior Club\n20:30-22:00 Adult Club
URL:https://westmidlandsfencing.org.uk/event/sutton-coldfield-fencing-club/2030-01-21
LOCATION:Wyndley Leisure Centre\, Clifton Rd\, Sutton Coldfield\, West Midlands\, B73 6EN\, United Kingdom
CATEGORIES:Club Night
ORGANIZER;CN="Sutton Coldfield Fencing Club":MAILTO:scfencingclub@btinternet.com
END:VEVENT
BEGIN:VEVENT
DTSTART;TZID=Europe/London:20300128T193000
DTEND;TZID=Europe/London:20300128T220000
DTSTAMP:20260425T180741
CREATED:20260327T153612Z
LAST-MODIFIED:20260329T111521Z
UID:10007254-1895859000-1895868000@westmidlandsfencing.org.uk
SUMMARY:Sutton Coldfield Fencing Club
DESCRIPTION:19:30-20:30 Junior Club\n20:30-22:00 Adult Club
URL:https://westmidlandsfencing.org.uk/event/sutton-coldfield-fencing-club/2030-01-28
LOCATION:Wyndley Leisure Centre\, Clifton Rd\, Sutton Coldfield\, West Midlands\, B73 6EN\, United Kingdom
CATEGORIES:Club Night
ORGANIZER;CN="Sutton Coldfield Fencing Club":MAILTO:scfencingclub@btinternet.com
END:VEVENT
BEGIN:VEVENT
DTSTART;TZID=Europe/London:20300204T193000
DTEND;TZID=Europe/London:20300204T220000
DTSTAMP:20260425T180741
CREATED:20260327T153612Z
LAST-MODIFIED:20260329T111521Z
UID:10007255-1896463800-1896472800@westmidlandsfencing.org.uk
SUMMARY:Sutton Coldfield Fencing Club
DESCRIPTION:19:30-20:30 Junior Club\n20:30-22:00 Adult Club
URL:https://westmidlandsfencing.org.uk/event/sutton-coldfield-fencing-club/2030-02-04
LOCATION:Wyndley Leisure Centre\, Clifton Rd\, Sutton Coldfield\, West Midlands\, B73 6EN\, United Kingdom
CATEGORIES:Club Night
ORGANIZER;CN="Sutton Coldfield Fencing Club":MAILTO:scfencingclub@btinternet.com
END:VEVENT
END:VCALENDAR