BEGIN:VCALENDAR
VERSION:2.0
PRODID:-//West Midlands Region Fencing - ECPv6.15.20//NONSGML v1.0//EN
CALSCALE:GREGORIAN
METHOD:PUBLISH
X-ORIGINAL-URL:https://westmidlandsfencing.org.uk
X-WR-CALDESC:Events for West Midlands Region Fencing
REFRESH-INTERVAL;VALUE=DURATION:PT1H
X-Robots-Tag:noindex
X-PUBLISHED-TTL:PT1H
BEGIN:VTIMEZONE
TZID:Europe/London
BEGIN:DAYLIGHT
TZOFFSETFROM:+0000
TZOFFSETTO:+0100
TZNAME:BST
DTSTART:20260329T010000
END:DAYLIGHT
BEGIN:STANDARD
TZOFFSETFROM:+0100
TZOFFSETTO:+0000
TZNAME:GMT
DTSTART:20261025T010000
END:STANDARD
BEGIN:DAYLIGHT
TZOFFSETFROM:+0000
TZOFFSETTO:+0100
TZNAME:BST
DTSTART:20270328T010000
END:DAYLIGHT
BEGIN:STANDARD
TZOFFSETFROM:+0100
TZOFFSETTO:+0000
TZNAME:GMT
DTSTART:20271031T010000
END:STANDARD
BEGIN:DAYLIGHT
TZOFFSETFROM:+0000
TZOFFSETTO:+0100
TZNAME:BST
DTSTART:20280326T010000
END:DAYLIGHT
BEGIN:STANDARD
TZOFFSETFROM:+0100
TZOFFSETTO:+0000
TZNAME:GMT
DTSTART:20281029T010000
END:STANDARD
BEGIN:DAYLIGHT
TZOFFSETFROM:+0000
TZOFFSETTO:+0100
TZNAME:BST
DTSTART:20290325T010000
END:DAYLIGHT
BEGIN:STANDARD
TZOFFSETFROM:+0100
TZOFFSETTO:+0000
TZNAME:GMT
DTSTART:20291028T010000
END:STANDARD
END:VTIMEZONE
BEGIN:VEVENT
DTSTART;TZID=Europe/London:20270913T193000
DTEND;TZID=Europe/London:20270913T220000
DTSTAMP:20260421T112652
CREATED:20260327T153612Z
LAST-MODIFIED:20260329T111521Z
UID:10007130-1820863800-1820872800@westmidlandsfencing.org.uk
SUMMARY:Sutton Coldfield Fencing Club
DESCRIPTION:19:30-20:30 Junior Club\n20:30-22:00 Adult Club
URL:https://westmidlandsfencing.org.uk/event/sutton-coldfield-fencing-club/2027-09-13
LOCATION:Wyndley Leisure Centre\, Clifton Rd\, Sutton Coldfield\, West Midlands\, B73 6EN\, United Kingdom
CATEGORIES:Club Night
ORGANIZER;CN="Sutton Coldfield Fencing Club":MAILTO:scfencingclub@btinternet.com
END:VEVENT
BEGIN:VEVENT
DTSTART;TZID=Europe/London:20270920T193000
DTEND;TZID=Europe/London:20270920T220000
DTSTAMP:20260421T112652
CREATED:20260327T153612Z
LAST-MODIFIED:20260329T111521Z
UID:10007131-1821468600-1821477600@westmidlandsfencing.org.uk
SUMMARY:Sutton Coldfield Fencing Club
DESCRIPTION:19:30-20:30 Junior Club\n20:30-22:00 Adult Club
URL:https://westmidlandsfencing.org.uk/event/sutton-coldfield-fencing-club/2027-09-20
LOCATION:Wyndley Leisure Centre\, Clifton Rd\, Sutton Coldfield\, West Midlands\, B73 6EN\, United Kingdom
CATEGORIES:Club Night
ORGANIZER;CN="Sutton Coldfield Fencing Club":MAILTO:scfencingclub@btinternet.com
END:VEVENT
BEGIN:VEVENT
DTSTART;TZID=Europe/London:20270927T193000
DTEND;TZID=Europe/London:20270927T220000
DTSTAMP:20260421T112652
CREATED:20260327T153612Z
LAST-MODIFIED:20260329T111521Z
UID:10007132-1822073400-1822082400@westmidlandsfencing.org.uk
SUMMARY:Sutton Coldfield Fencing Club
DESCRIPTION:19:30-20:30 Junior Club\n20:30-22:00 Adult Club
URL:https://westmidlandsfencing.org.uk/event/sutton-coldfield-fencing-club/2027-09-27
LOCATION:Wyndley Leisure Centre\, Clifton Rd\, Sutton Coldfield\, West Midlands\, B73 6EN\, United Kingdom
CATEGORIES:Club Night
ORGANIZER;CN="Sutton Coldfield Fencing Club":MAILTO:scfencingclub@btinternet.com
END:VEVENT
BEGIN:VEVENT
DTSTART;TZID=Europe/London:20271004T193000
DTEND;TZID=Europe/London:20271004T220000
DTSTAMP:20260421T112652
CREATED:20260327T153612Z
LAST-MODIFIED:20260329T111521Z
UID:10007133-1822678200-1822687200@westmidlandsfencing.org.uk
SUMMARY:Sutton Coldfield Fencing Club
DESCRIPTION:19:30-20:30 Junior Club\n20:30-22:00 Adult Club
URL:https://westmidlandsfencing.org.uk/event/sutton-coldfield-fencing-club/2027-10-04
LOCATION:Wyndley Leisure Centre\, Clifton Rd\, Sutton Coldfield\, West Midlands\, B73 6EN\, United Kingdom
CATEGORIES:Club Night
ORGANIZER;CN="Sutton Coldfield Fencing Club":MAILTO:scfencingclub@btinternet.com
END:VEVENT
BEGIN:VEVENT
DTSTART;TZID=Europe/London:20271011T193000
DTEND;TZID=Europe/London:20271011T220000
DTSTAMP:20260421T112652
CREATED:20260327T153612Z
LAST-MODIFIED:20260329T111521Z
UID:10007134-1823283000-1823292000@westmidlandsfencing.org.uk
SUMMARY:Sutton Coldfield Fencing Club
DESCRIPTION:19:30-20:30 Junior Club\n20:30-22:00 Adult Club
URL:https://westmidlandsfencing.org.uk/event/sutton-coldfield-fencing-club/2027-10-11
LOCATION:Wyndley Leisure Centre\, Clifton Rd\, Sutton Coldfield\, West Midlands\, B73 6EN\, United Kingdom
CATEGORIES:Club Night
ORGANIZER;CN="Sutton Coldfield Fencing Club":MAILTO:scfencingclub@btinternet.com
END:VEVENT
BEGIN:VEVENT
DTSTART;TZID=Europe/London:20271018T193000
DTEND;TZID=Europe/London:20271018T220000
DTSTAMP:20260421T112652
CREATED:20260327T153612Z
LAST-MODIFIED:20260329T111521Z
UID:10007135-1823887800-1823896800@westmidlandsfencing.org.uk
SUMMARY:Sutton Coldfield Fencing Club
DESCRIPTION:19:30-20:30 Junior Club\n20:30-22:00 Adult Club
URL:https://westmidlandsfencing.org.uk/event/sutton-coldfield-fencing-club/2027-10-18
LOCATION:Wyndley Leisure Centre\, Clifton Rd\, Sutton Coldfield\, West Midlands\, B73 6EN\, United Kingdom
CATEGORIES:Club Night
ORGANIZER;CN="Sutton Coldfield Fencing Club":MAILTO:scfencingclub@btinternet.com
END:VEVENT
BEGIN:VEVENT
DTSTART;TZID=Europe/London:20271025T193000
DTEND;TZID=Europe/London:20271025T220000
DTSTAMP:20260421T112652
CREATED:20260327T153612Z
LAST-MODIFIED:20260329T111521Z
UID:10007136-1824492600-1824501600@westmidlandsfencing.org.uk
SUMMARY:Sutton Coldfield Fencing Club
DESCRIPTION:19:30-20:30 Junior Club\n20:30-22:00 Adult Club
URL:https://westmidlandsfencing.org.uk/event/sutton-coldfield-fencing-club/2027-10-25
LOCATION:Wyndley Leisure Centre\, Clifton Rd\, Sutton Coldfield\, West Midlands\, B73 6EN\, United Kingdom
CATEGORIES:Club Night
ORGANIZER;CN="Sutton Coldfield Fencing Club":MAILTO:scfencingclub@btinternet.com
END:VEVENT
BEGIN:VEVENT
DTSTART;TZID=Europe/London:20271101T193000
DTEND;TZID=Europe/London:20271101T220000
DTSTAMP:20260421T112652
CREATED:20260327T153612Z
LAST-MODIFIED:20260329T111521Z
UID:10007137-1825097400-1825106400@westmidlandsfencing.org.uk
SUMMARY:Sutton Coldfield Fencing Club
DESCRIPTION:19:30-20:30 Junior Club\n20:30-22:00 Adult Club
URL:https://westmidlandsfencing.org.uk/event/sutton-coldfield-fencing-club/2027-11-01
LOCATION:Wyndley Leisure Centre\, Clifton Rd\, Sutton Coldfield\, West Midlands\, B73 6EN\, United Kingdom
CATEGORIES:Club Night
ORGANIZER;CN="Sutton Coldfield Fencing Club":MAILTO:scfencingclub@btinternet.com
END:VEVENT
BEGIN:VEVENT
DTSTART;TZID=Europe/London:20271108T193000
DTEND;TZID=Europe/London:20271108T220000
DTSTAMP:20260421T112652
CREATED:20260327T153612Z
LAST-MODIFIED:20260329T111521Z
UID:10007138-1825702200-1825711200@westmidlandsfencing.org.uk
SUMMARY:Sutton Coldfield Fencing Club
DESCRIPTION:19:30-20:30 Junior Club\n20:30-22:00 Adult Club
URL:https://westmidlandsfencing.org.uk/event/sutton-coldfield-fencing-club/2027-11-08
LOCATION:Wyndley Leisure Centre\, Clifton Rd\, Sutton Coldfield\, West Midlands\, B73 6EN\, United Kingdom
CATEGORIES:Club Night
ORGANIZER;CN="Sutton Coldfield Fencing Club":MAILTO:scfencingclub@btinternet.com
END:VEVENT
BEGIN:VEVENT
DTSTART;TZID=Europe/London:20271115T193000
DTEND;TZID=Europe/London:20271115T220000
DTSTAMP:20260421T112652
CREATED:20260327T153612Z
LAST-MODIFIED:20260329T111521Z
UID:10007139-1826307000-1826316000@westmidlandsfencing.org.uk
SUMMARY:Sutton Coldfield Fencing Club
DESCRIPTION:19:30-20:30 Junior Club\n20:30-22:00 Adult Club
URL:https://westmidlandsfencing.org.uk/event/sutton-coldfield-fencing-club/2027-11-15
LOCATION:Wyndley Leisure Centre\, Clifton Rd\, Sutton Coldfield\, West Midlands\, B73 6EN\, United Kingdom
CATEGORIES:Club Night
ORGANIZER;CN="Sutton Coldfield Fencing Club":MAILTO:scfencingclub@btinternet.com
END:VEVENT
BEGIN:VEVENT
DTSTART;TZID=Europe/London:20271122T193000
DTEND;TZID=Europe/London:20271122T220000
DTSTAMP:20260421T112652
CREATED:20260327T153612Z
LAST-MODIFIED:20260329T111521Z
UID:10007140-1826911800-1826920800@westmidlandsfencing.org.uk
SUMMARY:Sutton Coldfield Fencing Club
DESCRIPTION:19:30-20:30 Junior Club\n20:30-22:00 Adult Club
URL:https://westmidlandsfencing.org.uk/event/sutton-coldfield-fencing-club/2027-11-22
LOCATION:Wyndley Leisure Centre\, Clifton Rd\, Sutton Coldfield\, West Midlands\, B73 6EN\, United Kingdom
CATEGORIES:Club Night
ORGANIZER;CN="Sutton Coldfield Fencing Club":MAILTO:scfencingclub@btinternet.com
END:VEVENT
BEGIN:VEVENT
DTSTART;TZID=Europe/London:20271129T193000
DTEND;TZID=Europe/London:20271129T220000
DTSTAMP:20260421T112652
CREATED:20260327T153612Z
LAST-MODIFIED:20260329T111521Z
UID:10007141-1827516600-1827525600@westmidlandsfencing.org.uk
SUMMARY:Sutton Coldfield Fencing Club
DESCRIPTION:19:30-20:30 Junior Club\n20:30-22:00 Adult Club
URL:https://westmidlandsfencing.org.uk/event/sutton-coldfield-fencing-club/2027-11-29
LOCATION:Wyndley Leisure Centre\, Clifton Rd\, Sutton Coldfield\, West Midlands\, B73 6EN\, United Kingdom
CATEGORIES:Club Night
ORGANIZER;CN="Sutton Coldfield Fencing Club":MAILTO:scfencingclub@btinternet.com
END:VEVENT
BEGIN:VEVENT
DTSTART;TZID=Europe/London:20271206T193000
DTEND;TZID=Europe/London:20271206T220000
DTSTAMP:20260421T112652
CREATED:20260327T153612Z
LAST-MODIFIED:20260329T111521Z
UID:10007142-1828121400-1828130400@westmidlandsfencing.org.uk
SUMMARY:Sutton Coldfield Fencing Club
DESCRIPTION:19:30-20:30 Junior Club\n20:30-22:00 Adult Club
URL:https://westmidlandsfencing.org.uk/event/sutton-coldfield-fencing-club/2027-12-06
LOCATION:Wyndley Leisure Centre\, Clifton Rd\, Sutton Coldfield\, West Midlands\, B73 6EN\, United Kingdom
CATEGORIES:Club Night
ORGANIZER;CN="Sutton Coldfield Fencing Club":MAILTO:scfencingclub@btinternet.com
END:VEVENT
BEGIN:VEVENT
DTSTART;TZID=Europe/London:20271213T193000
DTEND;TZID=Europe/London:20271213T220000
DTSTAMP:20260421T112652
CREATED:20260327T153612Z
LAST-MODIFIED:20260329T111521Z
UID:10007143-1828726200-1828735200@westmidlandsfencing.org.uk
SUMMARY:Sutton Coldfield Fencing Club
DESCRIPTION:19:30-20:30 Junior Club\n20:30-22:00 Adult Club
URL:https://westmidlandsfencing.org.uk/event/sutton-coldfield-fencing-club/2027-12-13
LOCATION:Wyndley Leisure Centre\, Clifton Rd\, Sutton Coldfield\, West Midlands\, B73 6EN\, United Kingdom
CATEGORIES:Club Night
ORGANIZER;CN="Sutton Coldfield Fencing Club":MAILTO:scfencingclub@btinternet.com
END:VEVENT
BEGIN:VEVENT
DTSTART;TZID=Europe/London:20271220T193000
DTEND;TZID=Europe/London:20271220T220000
DTSTAMP:20260421T112652
CREATED:20260327T153612Z
LAST-MODIFIED:20260329T111521Z
UID:10007144-1829331000-1829340000@westmidlandsfencing.org.uk
SUMMARY:Sutton Coldfield Fencing Club
DESCRIPTION:19:30-20:30 Junior Club\n20:30-22:00 Adult Club
URL:https://westmidlandsfencing.org.uk/event/sutton-coldfield-fencing-club/2027-12-20
LOCATION:Wyndley Leisure Centre\, Clifton Rd\, Sutton Coldfield\, West Midlands\, B73 6EN\, United Kingdom
CATEGORIES:Club Night
ORGANIZER;CN="Sutton Coldfield Fencing Club":MAILTO:scfencingclub@btinternet.com
END:VEVENT
BEGIN:VEVENT
DTSTART;TZID=Europe/London:20271227T193000
DTEND;TZID=Europe/London:20271227T220000
DTSTAMP:20260421T112652
CREATED:20260327T153612Z
LAST-MODIFIED:20260329T111521Z
UID:10007145-1829935800-1829944800@westmidlandsfencing.org.uk
SUMMARY:Sutton Coldfield Fencing Club
DESCRIPTION:19:30-20:30 Junior Club\n20:30-22:00 Adult Club
URL:https://westmidlandsfencing.org.uk/event/sutton-coldfield-fencing-club/2027-12-27
LOCATION:Wyndley Leisure Centre\, Clifton Rd\, Sutton Coldfield\, West Midlands\, B73 6EN\, United Kingdom
CATEGORIES:Club Night
ORGANIZER;CN="Sutton Coldfield Fencing Club":MAILTO:scfencingclub@btinternet.com
END:VEVENT
BEGIN:VEVENT
DTSTART;TZID=Europe/London:20280103T193000
DTEND;TZID=Europe/London:20280103T220000
DTSTAMP:20260421T112652
CREATED:20260327T153612Z
LAST-MODIFIED:20260329T111521Z
UID:10007146-1830540600-1830549600@westmidlandsfencing.org.uk
SUMMARY:Sutton Coldfield Fencing Club
DESCRIPTION:19:30-20:30 Junior Club\n20:30-22:00 Adult Club
URL:https://westmidlandsfencing.org.uk/event/sutton-coldfield-fencing-club/2028-01-03
LOCATION:Wyndley Leisure Centre\, Clifton Rd\, Sutton Coldfield\, West Midlands\, B73 6EN\, United Kingdom
CATEGORIES:Club Night
ORGANIZER;CN="Sutton Coldfield Fencing Club":MAILTO:scfencingclub@btinternet.com
END:VEVENT
BEGIN:VEVENT
DTSTART;TZID=Europe/London:20280110T193000
DTEND;TZID=Europe/London:20280110T220000
DTSTAMP:20260421T112652
CREATED:20260327T153612Z
LAST-MODIFIED:20260329T111521Z
UID:10007147-1831145400-1831154400@westmidlandsfencing.org.uk
SUMMARY:Sutton Coldfield Fencing Club
DESCRIPTION:19:30-20:30 Junior Club\n20:30-22:00 Adult Club
URL:https://westmidlandsfencing.org.uk/event/sutton-coldfield-fencing-club/2028-01-10
LOCATION:Wyndley Leisure Centre\, Clifton Rd\, Sutton Coldfield\, West Midlands\, B73 6EN\, United Kingdom
CATEGORIES:Club Night
ORGANIZER;CN="Sutton Coldfield Fencing Club":MAILTO:scfencingclub@btinternet.com
END:VEVENT
BEGIN:VEVENT
DTSTART;TZID=Europe/London:20280117T193000
DTEND;TZID=Europe/London:20280117T220000
DTSTAMP:20260421T112652
CREATED:20260327T153612Z
LAST-MODIFIED:20260329T111521Z
UID:10007148-1831750200-1831759200@westmidlandsfencing.org.uk
SUMMARY:Sutton Coldfield Fencing Club
DESCRIPTION:19:30-20:30 Junior Club\n20:30-22:00 Adult Club
URL:https://westmidlandsfencing.org.uk/event/sutton-coldfield-fencing-club/2028-01-17
LOCATION:Wyndley Leisure Centre\, Clifton Rd\, Sutton Coldfield\, West Midlands\, B73 6EN\, United Kingdom
CATEGORIES:Club Night
ORGANIZER;CN="Sutton Coldfield Fencing Club":MAILTO:scfencingclub@btinternet.com
END:VEVENT
BEGIN:VEVENT
DTSTART;TZID=Europe/London:20280124T193000
DTEND;TZID=Europe/London:20280124T220000
DTSTAMP:20260421T112652
CREATED:20260327T153612Z
LAST-MODIFIED:20260329T111521Z
UID:10007149-1832355000-1832364000@westmidlandsfencing.org.uk
SUMMARY:Sutton Coldfield Fencing Club
DESCRIPTION:19:30-20:30 Junior Club\n20:30-22:00 Adult Club
URL:https://westmidlandsfencing.org.uk/event/sutton-coldfield-fencing-club/2028-01-24
LOCATION:Wyndley Leisure Centre\, Clifton Rd\, Sutton Coldfield\, West Midlands\, B73 6EN\, United Kingdom
CATEGORIES:Club Night
ORGANIZER;CN="Sutton Coldfield Fencing Club":MAILTO:scfencingclub@btinternet.com
END:VEVENT
BEGIN:VEVENT
DTSTART;TZID=Europe/London:20280131T193000
DTEND;TZID=Europe/London:20280131T220000
DTSTAMP:20260421T112652
CREATED:20260327T153612Z
LAST-MODIFIED:20260329T111521Z
UID:10007150-1832959800-1832968800@westmidlandsfencing.org.uk
SUMMARY:Sutton Coldfield Fencing Club
DESCRIPTION:19:30-20:30 Junior Club\n20:30-22:00 Adult Club
URL:https://westmidlandsfencing.org.uk/event/sutton-coldfield-fencing-club/2028-01-31
LOCATION:Wyndley Leisure Centre\, Clifton Rd\, Sutton Coldfield\, West Midlands\, B73 6EN\, United Kingdom
CATEGORIES:Club Night
ORGANIZER;CN="Sutton Coldfield Fencing Club":MAILTO:scfencingclub@btinternet.com
END:VEVENT
BEGIN:VEVENT
DTSTART;TZID=Europe/London:20280207T193000
DTEND;TZID=Europe/London:20280207T220000
DTSTAMP:20260421T112652
CREATED:20260327T153612Z
LAST-MODIFIED:20260329T111521Z
UID:10007151-1833564600-1833573600@westmidlandsfencing.org.uk
SUMMARY:Sutton Coldfield Fencing Club
DESCRIPTION:19:30-20:30 Junior Club\n20:30-22:00 Adult Club
URL:https://westmidlandsfencing.org.uk/event/sutton-coldfield-fencing-club/2028-02-07
LOCATION:Wyndley Leisure Centre\, Clifton Rd\, Sutton Coldfield\, West Midlands\, B73 6EN\, United Kingdom
CATEGORIES:Club Night
ORGANIZER;CN="Sutton Coldfield Fencing Club":MAILTO:scfencingclub@btinternet.com
END:VEVENT
BEGIN:VEVENT
DTSTART;TZID=Europe/London:20280214T193000
DTEND;TZID=Europe/London:20280214T220000
DTSTAMP:20260421T112652
CREATED:20260327T153612Z
LAST-MODIFIED:20260329T111521Z
UID:10007152-1834169400-1834178400@westmidlandsfencing.org.uk
SUMMARY:Sutton Coldfield Fencing Club
DESCRIPTION:19:30-20:30 Junior Club\n20:30-22:00 Adult Club
URL:https://westmidlandsfencing.org.uk/event/sutton-coldfield-fencing-club/2028-02-14
LOCATION:Wyndley Leisure Centre\, Clifton Rd\, Sutton Coldfield\, West Midlands\, B73 6EN\, United Kingdom
CATEGORIES:Club Night
ORGANIZER;CN="Sutton Coldfield Fencing Club":MAILTO:scfencingclub@btinternet.com
END:VEVENT
BEGIN:VEVENT
DTSTART;TZID=Europe/London:20280221T193000
DTEND;TZID=Europe/London:20280221T220000
DTSTAMP:20260421T112652
CREATED:20260327T153612Z
LAST-MODIFIED:20260329T111521Z
UID:10007153-1834774200-1834783200@westmidlandsfencing.org.uk
SUMMARY:Sutton Coldfield Fencing Club
DESCRIPTION:19:30-20:30 Junior Club\n20:30-22:00 Adult Club
URL:https://westmidlandsfencing.org.uk/event/sutton-coldfield-fencing-club/2028-02-21
LOCATION:Wyndley Leisure Centre\, Clifton Rd\, Sutton Coldfield\, West Midlands\, B73 6EN\, United Kingdom
CATEGORIES:Club Night
ORGANIZER;CN="Sutton Coldfield Fencing Club":MAILTO:scfencingclub@btinternet.com
END:VEVENT
BEGIN:VEVENT
DTSTART;TZID=Europe/London:20280228T193000
DTEND;TZID=Europe/London:20280228T220000
DTSTAMP:20260421T112652
CREATED:20260327T153612Z
LAST-MODIFIED:20260329T111521Z
UID:10007154-1835379000-1835388000@westmidlandsfencing.org.uk
SUMMARY:Sutton Coldfield Fencing Club
DESCRIPTION:19:30-20:30 Junior Club\n20:30-22:00 Adult Club
URL:https://westmidlandsfencing.org.uk/event/sutton-coldfield-fencing-club/2028-02-28
LOCATION:Wyndley Leisure Centre\, Clifton Rd\, Sutton Coldfield\, West Midlands\, B73 6EN\, United Kingdom
CATEGORIES:Club Night
ORGANIZER;CN="Sutton Coldfield Fencing Club":MAILTO:scfencingclub@btinternet.com
END:VEVENT
BEGIN:VEVENT
DTSTART;TZID=Europe/London:20280306T193000
DTEND;TZID=Europe/London:20280306T220000
DTSTAMP:20260421T112652
CREATED:20260327T153612Z
LAST-MODIFIED:20260329T111521Z
UID:10007155-1835983800-1835992800@westmidlandsfencing.org.uk
SUMMARY:Sutton Coldfield Fencing Club
DESCRIPTION:19:30-20:30 Junior Club\n20:30-22:00 Adult Club
URL:https://westmidlandsfencing.org.uk/event/sutton-coldfield-fencing-club/2028-03-06
LOCATION:Wyndley Leisure Centre\, Clifton Rd\, Sutton Coldfield\, West Midlands\, B73 6EN\, United Kingdom
CATEGORIES:Club Night
ORGANIZER;CN="Sutton Coldfield Fencing Club":MAILTO:scfencingclub@btinternet.com
END:VEVENT
BEGIN:VEVENT
DTSTART;TZID=Europe/London:20280313T193000
DTEND;TZID=Europe/London:20280313T220000
DTSTAMP:20260421T112652
CREATED:20260327T153612Z
LAST-MODIFIED:20260329T111521Z
UID:10007156-1836588600-1836597600@westmidlandsfencing.org.uk
SUMMARY:Sutton Coldfield Fencing Club
DESCRIPTION:19:30-20:30 Junior Club\n20:30-22:00 Adult Club
URL:https://westmidlandsfencing.org.uk/event/sutton-coldfield-fencing-club/2028-03-13
LOCATION:Wyndley Leisure Centre\, Clifton Rd\, Sutton Coldfield\, West Midlands\, B73 6EN\, United Kingdom
CATEGORIES:Club Night
ORGANIZER;CN="Sutton Coldfield Fencing Club":MAILTO:scfencingclub@btinternet.com
END:VEVENT
BEGIN:VEVENT
DTSTART;TZID=Europe/London:20280320T193000
DTEND;TZID=Europe/London:20280320T220000
DTSTAMP:20260421T112652
CREATED:20260327T153612Z
LAST-MODIFIED:20260329T111521Z
UID:10007157-1837193400-1837202400@westmidlandsfencing.org.uk
SUMMARY:Sutton Coldfield Fencing Club
DESCRIPTION:19:30-20:30 Junior Club\n20:30-22:00 Adult Club
URL:https://westmidlandsfencing.org.uk/event/sutton-coldfield-fencing-club/2028-03-20
LOCATION:Wyndley Leisure Centre\, Clifton Rd\, Sutton Coldfield\, West Midlands\, B73 6EN\, United Kingdom
CATEGORIES:Club Night
ORGANIZER;CN="Sutton Coldfield Fencing Club":MAILTO:scfencingclub@btinternet.com
END:VEVENT
BEGIN:VEVENT
DTSTART;TZID=Europe/London:20280327T193000
DTEND;TZID=Europe/London:20280327T220000
DTSTAMP:20260421T112652
CREATED:20260327T153612Z
LAST-MODIFIED:20260329T111521Z
UID:10007158-1837798200-1837807200@westmidlandsfencing.org.uk
SUMMARY:Sutton Coldfield Fencing Club
DESCRIPTION:19:30-20:30 Junior Club\n20:30-22:00 Adult Club
URL:https://westmidlandsfencing.org.uk/event/sutton-coldfield-fencing-club/2028-03-27
LOCATION:Wyndley Leisure Centre\, Clifton Rd\, Sutton Coldfield\, West Midlands\, B73 6EN\, United Kingdom
CATEGORIES:Club Night
ORGANIZER;CN="Sutton Coldfield Fencing Club":MAILTO:scfencingclub@btinternet.com
END:VEVENT
BEGIN:VEVENT
DTSTART;TZID=Europe/London:20280403T193000
DTEND;TZID=Europe/London:20280403T220000
DTSTAMP:20260421T112652
CREATED:20260327T153612Z
LAST-MODIFIED:20260329T111521Z
UID:10007159-1838403000-1838412000@westmidlandsfencing.org.uk
SUMMARY:Sutton Coldfield Fencing Club
DESCRIPTION:19:30-20:30 Junior Club\n20:30-22:00 Adult Club
URL:https://westmidlandsfencing.org.uk/event/sutton-coldfield-fencing-club/2028-04-03
LOCATION:Wyndley Leisure Centre\, Clifton Rd\, Sutton Coldfield\, West Midlands\, B73 6EN\, United Kingdom
CATEGORIES:Club Night
ORGANIZER;CN="Sutton Coldfield Fencing Club":MAILTO:scfencingclub@btinternet.com
END:VEVENT
END:VCALENDAR