BEGIN:VCALENDAR
VERSION:2.0
PRODID:-//West Midlands Region Fencing - ECPv6.15.20//NONSGML v1.0//EN
CALSCALE:GREGORIAN
METHOD:PUBLISH
X-ORIGINAL-URL:https://westmidlandsfencing.org.uk
X-WR-CALDESC:Events for West Midlands Region Fencing
REFRESH-INTERVAL;VALUE=DURATION:PT1H
X-Robots-Tag:noindex
X-PUBLISHED-TTL:PT1H
BEGIN:VTIMEZONE
TZID:Europe/London
BEGIN:DAYLIGHT
TZOFFSETFROM:+0000
TZOFFSETTO:+0100
TZNAME:BST
DTSTART:20270328T010000
END:DAYLIGHT
BEGIN:STANDARD
TZOFFSETFROM:+0100
TZOFFSETTO:+0000
TZNAME:GMT
DTSTART:20271031T010000
END:STANDARD
BEGIN:DAYLIGHT
TZOFFSETFROM:+0000
TZOFFSETTO:+0100
TZNAME:BST
DTSTART:20280326T010000
END:DAYLIGHT
BEGIN:STANDARD
TZOFFSETFROM:+0100
TZOFFSETTO:+0000
TZNAME:GMT
DTSTART:20281029T010000
END:STANDARD
BEGIN:DAYLIGHT
TZOFFSETFROM:+0000
TZOFFSETTO:+0100
TZNAME:BST
DTSTART:20290325T010000
END:DAYLIGHT
BEGIN:STANDARD
TZOFFSETFROM:+0100
TZOFFSETTO:+0000
TZNAME:GMT
DTSTART:20291028T010000
END:STANDARD
END:VTIMEZONE
BEGIN:VEVENT
DTSTART;TZID=Europe/London:20280228T193000
DTEND;TZID=Europe/London:20280228T220000
DTSTAMP:20260423T150943
CREATED:20260327T153612Z
LAST-MODIFIED:20260329T111521Z
UID:10007154-1835379000-1835388000@westmidlandsfencing.org.uk
SUMMARY:Sutton Coldfield Fencing Club
DESCRIPTION:19:30-20:30 Junior Club\n20:30-22:00 Adult Club
URL:https://westmidlandsfencing.org.uk/event/sutton-coldfield-fencing-club/2028-02-28
LOCATION:Wyndley Leisure Centre\, Clifton Rd\, Sutton Coldfield\, West Midlands\, B73 6EN\, United Kingdom
CATEGORIES:Club Night
ORGANIZER;CN="Sutton Coldfield Fencing Club":MAILTO:scfencingclub@btinternet.com
END:VEVENT
BEGIN:VEVENT
DTSTART;TZID=Europe/London:20280306T193000
DTEND;TZID=Europe/London:20280306T220000
DTSTAMP:20260423T150943
CREATED:20260327T153612Z
LAST-MODIFIED:20260329T111521Z
UID:10007155-1835983800-1835992800@westmidlandsfencing.org.uk
SUMMARY:Sutton Coldfield Fencing Club
DESCRIPTION:19:30-20:30 Junior Club\n20:30-22:00 Adult Club
URL:https://westmidlandsfencing.org.uk/event/sutton-coldfield-fencing-club/2028-03-06
LOCATION:Wyndley Leisure Centre\, Clifton Rd\, Sutton Coldfield\, West Midlands\, B73 6EN\, United Kingdom
CATEGORIES:Club Night
ORGANIZER;CN="Sutton Coldfield Fencing Club":MAILTO:scfencingclub@btinternet.com
END:VEVENT
BEGIN:VEVENT
DTSTART;TZID=Europe/London:20280313T193000
DTEND;TZID=Europe/London:20280313T220000
DTSTAMP:20260423T150943
CREATED:20260327T153612Z
LAST-MODIFIED:20260329T111521Z
UID:10007156-1836588600-1836597600@westmidlandsfencing.org.uk
SUMMARY:Sutton Coldfield Fencing Club
DESCRIPTION:19:30-20:30 Junior Club\n20:30-22:00 Adult Club
URL:https://westmidlandsfencing.org.uk/event/sutton-coldfield-fencing-club/2028-03-13
LOCATION:Wyndley Leisure Centre\, Clifton Rd\, Sutton Coldfield\, West Midlands\, B73 6EN\, United Kingdom
CATEGORIES:Club Night
ORGANIZER;CN="Sutton Coldfield Fencing Club":MAILTO:scfencingclub@btinternet.com
END:VEVENT
BEGIN:VEVENT
DTSTART;TZID=Europe/London:20280320T193000
DTEND;TZID=Europe/London:20280320T220000
DTSTAMP:20260423T150943
CREATED:20260327T153612Z
LAST-MODIFIED:20260329T111521Z
UID:10007157-1837193400-1837202400@westmidlandsfencing.org.uk
SUMMARY:Sutton Coldfield Fencing Club
DESCRIPTION:19:30-20:30 Junior Club\n20:30-22:00 Adult Club
URL:https://westmidlandsfencing.org.uk/event/sutton-coldfield-fencing-club/2028-03-20
LOCATION:Wyndley Leisure Centre\, Clifton Rd\, Sutton Coldfield\, West Midlands\, B73 6EN\, United Kingdom
CATEGORIES:Club Night
ORGANIZER;CN="Sutton Coldfield Fencing Club":MAILTO:scfencingclub@btinternet.com
END:VEVENT
BEGIN:VEVENT
DTSTART;TZID=Europe/London:20280327T193000
DTEND;TZID=Europe/London:20280327T220000
DTSTAMP:20260423T150943
CREATED:20260327T153612Z
LAST-MODIFIED:20260329T111521Z
UID:10007158-1837798200-1837807200@westmidlandsfencing.org.uk
SUMMARY:Sutton Coldfield Fencing Club
DESCRIPTION:19:30-20:30 Junior Club\n20:30-22:00 Adult Club
URL:https://westmidlandsfencing.org.uk/event/sutton-coldfield-fencing-club/2028-03-27
LOCATION:Wyndley Leisure Centre\, Clifton Rd\, Sutton Coldfield\, West Midlands\, B73 6EN\, United Kingdom
CATEGORIES:Club Night
ORGANIZER;CN="Sutton Coldfield Fencing Club":MAILTO:scfencingclub@btinternet.com
END:VEVENT
BEGIN:VEVENT
DTSTART;TZID=Europe/London:20280403T193000
DTEND;TZID=Europe/London:20280403T220000
DTSTAMP:20260423T150943
CREATED:20260327T153612Z
LAST-MODIFIED:20260329T111521Z
UID:10007159-1838403000-1838412000@westmidlandsfencing.org.uk
SUMMARY:Sutton Coldfield Fencing Club
DESCRIPTION:19:30-20:30 Junior Club\n20:30-22:00 Adult Club
URL:https://westmidlandsfencing.org.uk/event/sutton-coldfield-fencing-club/2028-04-03
LOCATION:Wyndley Leisure Centre\, Clifton Rd\, Sutton Coldfield\, West Midlands\, B73 6EN\, United Kingdom
CATEGORIES:Club Night
ORGANIZER;CN="Sutton Coldfield Fencing Club":MAILTO:scfencingclub@btinternet.com
END:VEVENT
BEGIN:VEVENT
DTSTART;TZID=Europe/London:20280410T193000
DTEND;TZID=Europe/London:20280410T220000
DTSTAMP:20260423T150943
CREATED:20260327T153612Z
LAST-MODIFIED:20260329T111521Z
UID:10007160-1839007800-1839016800@westmidlandsfencing.org.uk
SUMMARY:Sutton Coldfield Fencing Club
DESCRIPTION:19:30-20:30 Junior Club\n20:30-22:00 Adult Club
URL:https://westmidlandsfencing.org.uk/event/sutton-coldfield-fencing-club/2028-04-10
LOCATION:Wyndley Leisure Centre\, Clifton Rd\, Sutton Coldfield\, West Midlands\, B73 6EN\, United Kingdom
CATEGORIES:Club Night
ORGANIZER;CN="Sutton Coldfield Fencing Club":MAILTO:scfencingclub@btinternet.com
END:VEVENT
BEGIN:VEVENT
DTSTART;TZID=Europe/London:20280417T193000
DTEND;TZID=Europe/London:20280417T220000
DTSTAMP:20260423T150943
CREATED:20260327T153612Z
LAST-MODIFIED:20260329T111521Z
UID:10007161-1839612600-1839621600@westmidlandsfencing.org.uk
SUMMARY:Sutton Coldfield Fencing Club
DESCRIPTION:19:30-20:30 Junior Club\n20:30-22:00 Adult Club
URL:https://westmidlandsfencing.org.uk/event/sutton-coldfield-fencing-club/2028-04-17
LOCATION:Wyndley Leisure Centre\, Clifton Rd\, Sutton Coldfield\, West Midlands\, B73 6EN\, United Kingdom
CATEGORIES:Club Night
ORGANIZER;CN="Sutton Coldfield Fencing Club":MAILTO:scfencingclub@btinternet.com
END:VEVENT
BEGIN:VEVENT
DTSTART;TZID=Europe/London:20280424T193000
DTEND;TZID=Europe/London:20280424T220000
DTSTAMP:20260423T150943
CREATED:20260327T153612Z
LAST-MODIFIED:20260329T111521Z
UID:10007162-1840217400-1840226400@westmidlandsfencing.org.uk
SUMMARY:Sutton Coldfield Fencing Club
DESCRIPTION:19:30-20:30 Junior Club\n20:30-22:00 Adult Club
URL:https://westmidlandsfencing.org.uk/event/sutton-coldfield-fencing-club/2028-04-24
LOCATION:Wyndley Leisure Centre\, Clifton Rd\, Sutton Coldfield\, West Midlands\, B73 6EN\, United Kingdom
CATEGORIES:Club Night
ORGANIZER;CN="Sutton Coldfield Fencing Club":MAILTO:scfencingclub@btinternet.com
END:VEVENT
BEGIN:VEVENT
DTSTART;TZID=Europe/London:20280501T193000
DTEND;TZID=Europe/London:20280501T220000
DTSTAMP:20260423T150943
CREATED:20260327T153612Z
LAST-MODIFIED:20260329T111521Z
UID:10007163-1840822200-1840831200@westmidlandsfencing.org.uk
SUMMARY:Sutton Coldfield Fencing Club
DESCRIPTION:19:30-20:30 Junior Club\n20:30-22:00 Adult Club
URL:https://westmidlandsfencing.org.uk/event/sutton-coldfield-fencing-club/2028-05-01
LOCATION:Wyndley Leisure Centre\, Clifton Rd\, Sutton Coldfield\, West Midlands\, B73 6EN\, United Kingdom
CATEGORIES:Club Night
ORGANIZER;CN="Sutton Coldfield Fencing Club":MAILTO:scfencingclub@btinternet.com
END:VEVENT
BEGIN:VEVENT
DTSTART;TZID=Europe/London:20280508T193000
DTEND;TZID=Europe/London:20280508T220000
DTSTAMP:20260423T150943
CREATED:20260327T153612Z
LAST-MODIFIED:20260329T111521Z
UID:10007164-1841427000-1841436000@westmidlandsfencing.org.uk
SUMMARY:Sutton Coldfield Fencing Club
DESCRIPTION:19:30-20:30 Junior Club\n20:30-22:00 Adult Club
URL:https://westmidlandsfencing.org.uk/event/sutton-coldfield-fencing-club/2028-05-08
LOCATION:Wyndley Leisure Centre\, Clifton Rd\, Sutton Coldfield\, West Midlands\, B73 6EN\, United Kingdom
CATEGORIES:Club Night
ORGANIZER;CN="Sutton Coldfield Fencing Club":MAILTO:scfencingclub@btinternet.com
END:VEVENT
BEGIN:VEVENT
DTSTART;TZID=Europe/London:20280515T193000
DTEND;TZID=Europe/London:20280515T220000
DTSTAMP:20260423T150943
CREATED:20260327T153612Z
LAST-MODIFIED:20260329T111521Z
UID:10007165-1842031800-1842040800@westmidlandsfencing.org.uk
SUMMARY:Sutton Coldfield Fencing Club
DESCRIPTION:19:30-20:30 Junior Club\n20:30-22:00 Adult Club
URL:https://westmidlandsfencing.org.uk/event/sutton-coldfield-fencing-club/2028-05-15
LOCATION:Wyndley Leisure Centre\, Clifton Rd\, Sutton Coldfield\, West Midlands\, B73 6EN\, United Kingdom
CATEGORIES:Club Night
ORGANIZER;CN="Sutton Coldfield Fencing Club":MAILTO:scfencingclub@btinternet.com
END:VEVENT
BEGIN:VEVENT
DTSTART;TZID=Europe/London:20280522T193000
DTEND;TZID=Europe/London:20280522T220000
DTSTAMP:20260423T150943
CREATED:20260327T153612Z
LAST-MODIFIED:20260329T111521Z
UID:10007166-1842636600-1842645600@westmidlandsfencing.org.uk
SUMMARY:Sutton Coldfield Fencing Club
DESCRIPTION:19:30-20:30 Junior Club\n20:30-22:00 Adult Club
URL:https://westmidlandsfencing.org.uk/event/sutton-coldfield-fencing-club/2028-05-22
LOCATION:Wyndley Leisure Centre\, Clifton Rd\, Sutton Coldfield\, West Midlands\, B73 6EN\, United Kingdom
CATEGORIES:Club Night
ORGANIZER;CN="Sutton Coldfield Fencing Club":MAILTO:scfencingclub@btinternet.com
END:VEVENT
BEGIN:VEVENT
DTSTART;TZID=Europe/London:20280529T193000
DTEND;TZID=Europe/London:20280529T220000
DTSTAMP:20260423T150943
CREATED:20260327T153612Z
LAST-MODIFIED:20260329T111521Z
UID:10007167-1843241400-1843250400@westmidlandsfencing.org.uk
SUMMARY:Sutton Coldfield Fencing Club
DESCRIPTION:19:30-20:30 Junior Club\n20:30-22:00 Adult Club
URL:https://westmidlandsfencing.org.uk/event/sutton-coldfield-fencing-club/2028-05-29
LOCATION:Wyndley Leisure Centre\, Clifton Rd\, Sutton Coldfield\, West Midlands\, B73 6EN\, United Kingdom
CATEGORIES:Club Night
ORGANIZER;CN="Sutton Coldfield Fencing Club":MAILTO:scfencingclub@btinternet.com
END:VEVENT
BEGIN:VEVENT
DTSTART;TZID=Europe/London:20280605T193000
DTEND;TZID=Europe/London:20280605T220000
DTSTAMP:20260423T150943
CREATED:20260327T153612Z
LAST-MODIFIED:20260329T111521Z
UID:10007168-1843846200-1843855200@westmidlandsfencing.org.uk
SUMMARY:Sutton Coldfield Fencing Club
DESCRIPTION:19:30-20:30 Junior Club\n20:30-22:00 Adult Club
URL:https://westmidlandsfencing.org.uk/event/sutton-coldfield-fencing-club/2028-06-05
LOCATION:Wyndley Leisure Centre\, Clifton Rd\, Sutton Coldfield\, West Midlands\, B73 6EN\, United Kingdom
CATEGORIES:Club Night
ORGANIZER;CN="Sutton Coldfield Fencing Club":MAILTO:scfencingclub@btinternet.com
END:VEVENT
BEGIN:VEVENT
DTSTART;TZID=Europe/London:20280612T193000
DTEND;TZID=Europe/London:20280612T220000
DTSTAMP:20260423T150943
CREATED:20260327T153612Z
LAST-MODIFIED:20260329T111521Z
UID:10007169-1844451000-1844460000@westmidlandsfencing.org.uk
SUMMARY:Sutton Coldfield Fencing Club
DESCRIPTION:19:30-20:30 Junior Club\n20:30-22:00 Adult Club
URL:https://westmidlandsfencing.org.uk/event/sutton-coldfield-fencing-club/2028-06-12
LOCATION:Wyndley Leisure Centre\, Clifton Rd\, Sutton Coldfield\, West Midlands\, B73 6EN\, United Kingdom
CATEGORIES:Club Night
ORGANIZER;CN="Sutton Coldfield Fencing Club":MAILTO:scfencingclub@btinternet.com
END:VEVENT
BEGIN:VEVENT
DTSTART;TZID=Europe/London:20280619T193000
DTEND;TZID=Europe/London:20280619T220000
DTSTAMP:20260423T150943
CREATED:20260327T153612Z
LAST-MODIFIED:20260329T111521Z
UID:10007170-1845055800-1845064800@westmidlandsfencing.org.uk
SUMMARY:Sutton Coldfield Fencing Club
DESCRIPTION:19:30-20:30 Junior Club\n20:30-22:00 Adult Club
URL:https://westmidlandsfencing.org.uk/event/sutton-coldfield-fencing-club/2028-06-19
LOCATION:Wyndley Leisure Centre\, Clifton Rd\, Sutton Coldfield\, West Midlands\, B73 6EN\, United Kingdom
CATEGORIES:Club Night
ORGANIZER;CN="Sutton Coldfield Fencing Club":MAILTO:scfencingclub@btinternet.com
END:VEVENT
BEGIN:VEVENT
DTSTART;TZID=Europe/London:20280626T193000
DTEND;TZID=Europe/London:20280626T220000
DTSTAMP:20260423T150943
CREATED:20260327T153612Z
LAST-MODIFIED:20260329T111521Z
UID:10007171-1845660600-1845669600@westmidlandsfencing.org.uk
SUMMARY:Sutton Coldfield Fencing Club
DESCRIPTION:19:30-20:30 Junior Club\n20:30-22:00 Adult Club
URL:https://westmidlandsfencing.org.uk/event/sutton-coldfield-fencing-club/2028-06-26
LOCATION:Wyndley Leisure Centre\, Clifton Rd\, Sutton Coldfield\, West Midlands\, B73 6EN\, United Kingdom
CATEGORIES:Club Night
ORGANIZER;CN="Sutton Coldfield Fencing Club":MAILTO:scfencingclub@btinternet.com
END:VEVENT
BEGIN:VEVENT
DTSTART;TZID=Europe/London:20280703T193000
DTEND;TZID=Europe/London:20280703T220000
DTSTAMP:20260423T150943
CREATED:20260327T153612Z
LAST-MODIFIED:20260329T111521Z
UID:10007172-1846265400-1846274400@westmidlandsfencing.org.uk
SUMMARY:Sutton Coldfield Fencing Club
DESCRIPTION:19:30-20:30 Junior Club\n20:30-22:00 Adult Club
URL:https://westmidlandsfencing.org.uk/event/sutton-coldfield-fencing-club/2028-07-03
LOCATION:Wyndley Leisure Centre\, Clifton Rd\, Sutton Coldfield\, West Midlands\, B73 6EN\, United Kingdom
CATEGORIES:Club Night
ORGANIZER;CN="Sutton Coldfield Fencing Club":MAILTO:scfencingclub@btinternet.com
END:VEVENT
BEGIN:VEVENT
DTSTART;TZID=Europe/London:20280710T193000
DTEND;TZID=Europe/London:20280710T220000
DTSTAMP:20260423T150943
CREATED:20260327T153612Z
LAST-MODIFIED:20260329T111521Z
UID:10007173-1846870200-1846879200@westmidlandsfencing.org.uk
SUMMARY:Sutton Coldfield Fencing Club
DESCRIPTION:19:30-20:30 Junior Club\n20:30-22:00 Adult Club
URL:https://westmidlandsfencing.org.uk/event/sutton-coldfield-fencing-club/2028-07-10
LOCATION:Wyndley Leisure Centre\, Clifton Rd\, Sutton Coldfield\, West Midlands\, B73 6EN\, United Kingdom
CATEGORIES:Club Night
ORGANIZER;CN="Sutton Coldfield Fencing Club":MAILTO:scfencingclub@btinternet.com
END:VEVENT
BEGIN:VEVENT
DTSTART;TZID=Europe/London:20280717T193000
DTEND;TZID=Europe/London:20280717T220000
DTSTAMP:20260423T150943
CREATED:20260327T153612Z
LAST-MODIFIED:20260329T111521Z
UID:10007174-1847475000-1847484000@westmidlandsfencing.org.uk
SUMMARY:Sutton Coldfield Fencing Club
DESCRIPTION:19:30-20:30 Junior Club\n20:30-22:00 Adult Club
URL:https://westmidlandsfencing.org.uk/event/sutton-coldfield-fencing-club/2028-07-17
LOCATION:Wyndley Leisure Centre\, Clifton Rd\, Sutton Coldfield\, West Midlands\, B73 6EN\, United Kingdom
CATEGORIES:Club Night
ORGANIZER;CN="Sutton Coldfield Fencing Club":MAILTO:scfencingclub@btinternet.com
END:VEVENT
BEGIN:VEVENT
DTSTART;TZID=Europe/London:20280724T193000
DTEND;TZID=Europe/London:20280724T220000
DTSTAMP:20260423T150943
CREATED:20260327T153612Z
LAST-MODIFIED:20260329T111521Z
UID:10007175-1848079800-1848088800@westmidlandsfencing.org.uk
SUMMARY:Sutton Coldfield Fencing Club
DESCRIPTION:19:30-20:30 Junior Club\n20:30-22:00 Adult Club
URL:https://westmidlandsfencing.org.uk/event/sutton-coldfield-fencing-club/2028-07-24
LOCATION:Wyndley Leisure Centre\, Clifton Rd\, Sutton Coldfield\, West Midlands\, B73 6EN\, United Kingdom
CATEGORIES:Club Night
ORGANIZER;CN="Sutton Coldfield Fencing Club":MAILTO:scfencingclub@btinternet.com
END:VEVENT
BEGIN:VEVENT
DTSTART;TZID=Europe/London:20280731T193000
DTEND;TZID=Europe/London:20280731T220000
DTSTAMP:20260423T150943
CREATED:20260327T153612Z
LAST-MODIFIED:20260329T111521Z
UID:10007176-1848684600-1848693600@westmidlandsfencing.org.uk
SUMMARY:Sutton Coldfield Fencing Club
DESCRIPTION:19:30-20:30 Junior Club\n20:30-22:00 Adult Club
URL:https://westmidlandsfencing.org.uk/event/sutton-coldfield-fencing-club/2028-07-31
LOCATION:Wyndley Leisure Centre\, Clifton Rd\, Sutton Coldfield\, West Midlands\, B73 6EN\, United Kingdom
CATEGORIES:Club Night
ORGANIZER;CN="Sutton Coldfield Fencing Club":MAILTO:scfencingclub@btinternet.com
END:VEVENT
BEGIN:VEVENT
DTSTART;TZID=Europe/London:20280807T193000
DTEND;TZID=Europe/London:20280807T220000
DTSTAMP:20260423T150943
CREATED:20260327T153612Z
LAST-MODIFIED:20260329T111521Z
UID:10007177-1849289400-1849298400@westmidlandsfencing.org.uk
SUMMARY:Sutton Coldfield Fencing Club
DESCRIPTION:19:30-20:30 Junior Club\n20:30-22:00 Adult Club
URL:https://westmidlandsfencing.org.uk/event/sutton-coldfield-fencing-club/2028-08-07
LOCATION:Wyndley Leisure Centre\, Clifton Rd\, Sutton Coldfield\, West Midlands\, B73 6EN\, United Kingdom
CATEGORIES:Club Night
ORGANIZER;CN="Sutton Coldfield Fencing Club":MAILTO:scfencingclub@btinternet.com
END:VEVENT
BEGIN:VEVENT
DTSTART;TZID=Europe/London:20280814T193000
DTEND;TZID=Europe/London:20280814T220000
DTSTAMP:20260423T150943
CREATED:20260327T153612Z
LAST-MODIFIED:20260329T111521Z
UID:10007178-1849894200-1849903200@westmidlandsfencing.org.uk
SUMMARY:Sutton Coldfield Fencing Club
DESCRIPTION:19:30-20:30 Junior Club\n20:30-22:00 Adult Club
URL:https://westmidlandsfencing.org.uk/event/sutton-coldfield-fencing-club/2028-08-14
LOCATION:Wyndley Leisure Centre\, Clifton Rd\, Sutton Coldfield\, West Midlands\, B73 6EN\, United Kingdom
CATEGORIES:Club Night
ORGANIZER;CN="Sutton Coldfield Fencing Club":MAILTO:scfencingclub@btinternet.com
END:VEVENT
BEGIN:VEVENT
DTSTART;TZID=Europe/London:20280821T193000
DTEND;TZID=Europe/London:20280821T220000
DTSTAMP:20260423T150943
CREATED:20260327T153612Z
LAST-MODIFIED:20260329T111521Z
UID:10007179-1850499000-1850508000@westmidlandsfencing.org.uk
SUMMARY:Sutton Coldfield Fencing Club
DESCRIPTION:19:30-20:30 Junior Club\n20:30-22:00 Adult Club
URL:https://westmidlandsfencing.org.uk/event/sutton-coldfield-fencing-club/2028-08-21
LOCATION:Wyndley Leisure Centre\, Clifton Rd\, Sutton Coldfield\, West Midlands\, B73 6EN\, United Kingdom
CATEGORIES:Club Night
ORGANIZER;CN="Sutton Coldfield Fencing Club":MAILTO:scfencingclub@btinternet.com
END:VEVENT
BEGIN:VEVENT
DTSTART;TZID=Europe/London:20280828T193000
DTEND;TZID=Europe/London:20280828T220000
DTSTAMP:20260423T150943
CREATED:20260327T153612Z
LAST-MODIFIED:20260329T111521Z
UID:10007180-1851103800-1851112800@westmidlandsfencing.org.uk
SUMMARY:Sutton Coldfield Fencing Club
DESCRIPTION:19:30-20:30 Junior Club\n20:30-22:00 Adult Club
URL:https://westmidlandsfencing.org.uk/event/sutton-coldfield-fencing-club/2028-08-28
LOCATION:Wyndley Leisure Centre\, Clifton Rd\, Sutton Coldfield\, West Midlands\, B73 6EN\, United Kingdom
CATEGORIES:Club Night
ORGANIZER;CN="Sutton Coldfield Fencing Club":MAILTO:scfencingclub@btinternet.com
END:VEVENT
BEGIN:VEVENT
DTSTART;TZID=Europe/London:20280904T193000
DTEND;TZID=Europe/London:20280904T220000
DTSTAMP:20260423T150943
CREATED:20260327T153612Z
LAST-MODIFIED:20260329T111521Z
UID:10007181-1851708600-1851717600@westmidlandsfencing.org.uk
SUMMARY:Sutton Coldfield Fencing Club
DESCRIPTION:19:30-20:30 Junior Club\n20:30-22:00 Adult Club
URL:https://westmidlandsfencing.org.uk/event/sutton-coldfield-fencing-club/2028-09-04
LOCATION:Wyndley Leisure Centre\, Clifton Rd\, Sutton Coldfield\, West Midlands\, B73 6EN\, United Kingdom
CATEGORIES:Club Night
ORGANIZER;CN="Sutton Coldfield Fencing Club":MAILTO:scfencingclub@btinternet.com
END:VEVENT
BEGIN:VEVENT
DTSTART;TZID=Europe/London:20280911T193000
DTEND;TZID=Europe/London:20280911T220000
DTSTAMP:20260423T150943
CREATED:20260327T153612Z
LAST-MODIFIED:20260329T111521Z
UID:10007182-1852313400-1852322400@westmidlandsfencing.org.uk
SUMMARY:Sutton Coldfield Fencing Club
DESCRIPTION:19:30-20:30 Junior Club\n20:30-22:00 Adult Club
URL:https://westmidlandsfencing.org.uk/event/sutton-coldfield-fencing-club/2028-09-11
LOCATION:Wyndley Leisure Centre\, Clifton Rd\, Sutton Coldfield\, West Midlands\, B73 6EN\, United Kingdom
CATEGORIES:Club Night
ORGANIZER;CN="Sutton Coldfield Fencing Club":MAILTO:scfencingclub@btinternet.com
END:VEVENT
BEGIN:VEVENT
DTSTART;TZID=Europe/London:20280918T193000
DTEND;TZID=Europe/London:20280918T220000
DTSTAMP:20260423T150943
CREATED:20260327T153612Z
LAST-MODIFIED:20260329T111521Z
UID:10007183-1852918200-1852927200@westmidlandsfencing.org.uk
SUMMARY:Sutton Coldfield Fencing Club
DESCRIPTION:19:30-20:30 Junior Club\n20:30-22:00 Adult Club
URL:https://westmidlandsfencing.org.uk/event/sutton-coldfield-fencing-club/2028-09-18
LOCATION:Wyndley Leisure Centre\, Clifton Rd\, Sutton Coldfield\, West Midlands\, B73 6EN\, United Kingdom
CATEGORIES:Club Night
ORGANIZER;CN="Sutton Coldfield Fencing Club":MAILTO:scfencingclub@btinternet.com
END:VEVENT
END:VCALENDAR