BEGIN:VCALENDAR
VERSION:2.0
PRODID:-//West Midlands Region Fencing - ECPv6.15.20//NONSGML v1.0//EN
CALSCALE:GREGORIAN
METHOD:PUBLISH
X-WR-CALNAME:West Midlands Region Fencing
X-ORIGINAL-URL:https://westmidlandsfencing.org.uk
X-WR-CALDESC:Events for West Midlands Region Fencing
REFRESH-INTERVAL;VALUE=DURATION:PT1H
X-Robots-Tag:noindex
X-PUBLISHED-TTL:PT1H
BEGIN:VTIMEZONE
TZID:Europe/London
BEGIN:DAYLIGHT
TZOFFSETFROM:+0000
TZOFFSETTO:+0100
TZNAME:BST
DTSTART:20250330T010000
END:DAYLIGHT
BEGIN:STANDARD
TZOFFSETFROM:+0100
TZOFFSETTO:+0000
TZNAME:GMT
DTSTART:20251026T010000
END:STANDARD
BEGIN:DAYLIGHT
TZOFFSETFROM:+0000
TZOFFSETTO:+0100
TZNAME:BST
DTSTART:20260329T010000
END:DAYLIGHT
BEGIN:STANDARD
TZOFFSETFROM:+0100
TZOFFSETTO:+0000
TZNAME:GMT
DTSTART:20261025T010000
END:STANDARD
BEGIN:DAYLIGHT
TZOFFSETFROM:+0000
TZOFFSETTO:+0100
TZNAME:BST
DTSTART:20270328T010000
END:DAYLIGHT
BEGIN:STANDARD
TZOFFSETFROM:+0100
TZOFFSETTO:+0000
TZNAME:GMT
DTSTART:20271031T010000
END:STANDARD
END:VTIMEZONE
BEGIN:VEVENT
DTSTART;VALUE=DATE:20260419
DTEND;VALUE=DATE:20260420
DTSTAMP:20260421T173228
CREATED:20260327T160448Z
LAST-MODIFIED:20260328T141244Z
UID:10001311-1776556800-1776643199@westmidlandsfencing.org.uk
SUMMARY:Referee Course – Foil Level 2
DESCRIPTION:Practical Assessment Venue:\nPerdiswell Leisure Centre\, Bilford Rd\, Worcester\, Worcestershire\, WR3 8DX \nSchedule\nThis is a guide and may be subject to small changes. You will be contacted a week before the online theory with final details. \n\n\n\nDate\nTime\nSubject\nVenue\n\n\nSun 29 Mar 2026\nTBC\nOnline Theory & Exam\nZoom Meeting\n\n\nSun 19 Apr 2026\n8am (tbc)\n*Short Seminar and recap\nPerdiswell Leisure Centre\, Worcester\n\n\n8.30am (tbc)\nPractical Assessments†\n\n\n\n*Candidates who pass the theory exam will then do a practical assessment as part of the competition.\n†You may be required to stay until the conclusion of the event. \nDress Code: Smart dress\, e.g. shirt with collar or similar (no jeans). \nThe course will be run by Lynne Melia\, a former FIE referee\, British Fencing  accredited Referee Instructor and Mentor. Applicants must be current members of British Fencing and have a good knowledge of foil with competitive experience. The course will be run with theory preparation and exam a week before via Zoom. On the day of the practical assessments\, a short seminar will take place before to answer last minute questions.  You do not need level 1 foil to join this course.
URL:https://westmidlandsfencing.org.uk/event/referee-course-foil-level-2
LOCATION:Perdiswell Leisure Centre\, Bilford Rd\, Worcester\, Worcestershire\, WR3 8DX\, United Kingdom
CATEGORIES:Courses
ATTACH;FMTTYPE=image/png:https://westmidlandsfencing.org.uk/wp-content/uploads/2019/06/cropped-WMR-Web-logo-New-e1774707158688.png
ORGANIZER;CN="West Midlands Region Fencing":MAILTO:fencing@westmidlandsfencing.org.uk
END:VEVENT
END:VCALENDAR