BEGIN:VCALENDAR
VERSION:2.0
PRODID:-//West Midlands Region Fencing - ECPv6.15.20//NONSGML v1.0//EN
CALSCALE:GREGORIAN
METHOD:PUBLISH
X-ORIGINAL-URL:https://westmidlandsfencing.org.uk
X-WR-CALDESC:Events for West Midlands Region Fencing
REFRESH-INTERVAL;VALUE=DURATION:PT1H
X-Robots-Tag:noindex
X-PUBLISHED-TTL:PT1H
BEGIN:VTIMEZONE
TZID:Europe/London
BEGIN:DAYLIGHT
TZOFFSETFROM:+0000
TZOFFSETTO:+0100
TZNAME:BST
DTSTART:20250330T010000
END:DAYLIGHT
BEGIN:STANDARD
TZOFFSETFROM:+0100
TZOFFSETTO:+0000
TZNAME:GMT
DTSTART:20251026T010000
END:STANDARD
BEGIN:DAYLIGHT
TZOFFSETFROM:+0000
TZOFFSETTO:+0100
TZNAME:BST
DTSTART:20260329T010000
END:DAYLIGHT
BEGIN:STANDARD
TZOFFSETFROM:+0100
TZOFFSETTO:+0000
TZNAME:GMT
DTSTART:20261025T010000
END:STANDARD
BEGIN:DAYLIGHT
TZOFFSETFROM:+0000
TZOFFSETTO:+0100
TZNAME:BST
DTSTART:20270328T010000
END:DAYLIGHT
BEGIN:STANDARD
TZOFFSETFROM:+0100
TZOFFSETTO:+0000
TZNAME:GMT
DTSTART:20271031T010000
END:STANDARD
END:VTIMEZONE
BEGIN:VEVENT
DTSTART;TZID=Europe/London:20260415T193000
DTEND;TZID=Europe/London:20260415T220000
DTSTAMP:20260419T134312
CREATED:20260327T164617Z
LAST-MODIFIED:20260327T164617Z
UID:10004965-1776281400-1776290400@westmidlandsfencing.org.uk
SUMMARY:Shrewsbury Fencing Club
DESCRIPTION:Friendly warm ups and gentle footwork sessions to maintain or improve your standard. \nWe usually run 3 or 4 pistes with all weapons and every level is welcome! \nBeginners Courses available\, Use the contact us page. \nIndividual lessons are available \nWe charge £5.00 for adults and £4.00 for juniors (14 +)\, but your first visit is always free.
URL:https://westmidlandsfencing.org.uk/event/shrewsbury-fencing-club/2026-04-15
LOCATION:Belvidere School Sports Hall\, Belvidere Lane\, Shrewsbury\, SY2 5RJ\, United Kingdom
CATEGORIES:Club Night
ORGANIZER;CN="Shrewsbury Fencing Club":MAILTO:a.byrne2@wlv.ac.uk
END:VEVENT
BEGIN:VEVENT
DTSTART;TZID=Europe/London:20260408T193000
DTEND;TZID=Europe/London:20260408T220000
DTSTAMP:20260419T134312
CREATED:20260327T164617Z
LAST-MODIFIED:20260327T164617Z
UID:10004964-1775676600-1775685600@westmidlandsfencing.org.uk
SUMMARY:Shrewsbury Fencing Club
DESCRIPTION:Friendly warm ups and gentle footwork sessions to maintain or improve your standard. \nWe usually run 3 or 4 pistes with all weapons and every level is welcome! \nBeginners Courses available\, Use the contact us page. \nIndividual lessons are available \nWe charge £5.00 for adults and £4.00 for juniors (14 +)\, but your first visit is always free.
URL:https://westmidlandsfencing.org.uk/event/shrewsbury-fencing-club/2026-04-08
LOCATION:Belvidere School Sports Hall\, Belvidere Lane\, Shrewsbury\, SY2 5RJ\, United Kingdom
CATEGORIES:Club Night
ORGANIZER;CN="Shrewsbury Fencing Club":MAILTO:a.byrne2@wlv.ac.uk
END:VEVENT
BEGIN:VEVENT
DTSTART;TZID=Europe/London:20260401T193000
DTEND;TZID=Europe/London:20260401T220000
DTSTAMP:20260419T134312
CREATED:20260327T164617Z
LAST-MODIFIED:20260327T164617Z
UID:10004963-1775071800-1775080800@westmidlandsfencing.org.uk
SUMMARY:Shrewsbury Fencing Club
DESCRIPTION:Friendly warm ups and gentle footwork sessions to maintain or improve your standard. \nWe usually run 3 or 4 pistes with all weapons and every level is welcome! \nBeginners Courses available\, Use the contact us page. \nIndividual lessons are available \nWe charge £5.00 for adults and £4.00 for juniors (14 +)\, but your first visit is always free.
URL:https://westmidlandsfencing.org.uk/event/shrewsbury-fencing-club/2026-04-01
LOCATION:Belvidere School Sports Hall\, Belvidere Lane\, Shrewsbury\, SY2 5RJ\, United Kingdom
CATEGORIES:Club Night
ORGANIZER;CN="Shrewsbury Fencing Club":MAILTO:a.byrne2@wlv.ac.uk
END:VEVENT
END:VCALENDAR