BEGIN:VCALENDAR
VERSION:2.0
PRODID:-//West Midlands Region Fencing - ECPv6.15.20//NONSGML v1.0//EN
CALSCALE:GREGORIAN
METHOD:PUBLISH
X-WR-CALNAME:West Midlands Region Fencing
X-ORIGINAL-URL:https://westmidlandsfencing.org.uk
X-WR-CALDESC:Events for West Midlands Region Fencing
REFRESH-INTERVAL;VALUE=DURATION:PT1H
X-Robots-Tag:noindex
X-PUBLISHED-TTL:PT1H
BEGIN:VTIMEZONE
TZID:Europe/London
BEGIN:DAYLIGHT
TZOFFSETFROM:+0000
TZOFFSETTO:+0100
TZNAME:BST
DTSTART:20250330T010000
END:DAYLIGHT
BEGIN:STANDARD
TZOFFSETFROM:+0100
TZOFFSETTO:+0000
TZNAME:GMT
DTSTART:20251026T010000
END:STANDARD
BEGIN:DAYLIGHT
TZOFFSETFROM:+0000
TZOFFSETTO:+0100
TZNAME:BST
DTSTART:20260329T010000
END:DAYLIGHT
BEGIN:STANDARD
TZOFFSETFROM:+0100
TZOFFSETTO:+0000
TZNAME:GMT
DTSTART:20261025T010000
END:STANDARD
BEGIN:DAYLIGHT
TZOFFSETFROM:+0000
TZOFFSETTO:+0100
TZNAME:BST
DTSTART:20270328T010000
END:DAYLIGHT
BEGIN:STANDARD
TZOFFSETFROM:+0100
TZOFFSETTO:+0000
TZNAME:GMT
DTSTART:20271031T010000
END:STANDARD
END:VTIMEZONE
BEGIN:VEVENT
DTSTART;TZID=Europe/London:20260420T190000
DTEND;TZID=Europe/London:20260420T210000
DTSTAMP:20260421T120107
CREATED:20260327T162223Z
LAST-MODIFIED:20260327T162223Z
UID:10002617-1776711600-1776718800@westmidlandsfencing.org.uk
SUMMARY:KK fencing Club (Sabre)
DESCRIPTION:
URL:https://westmidlandsfencing.org.uk/event/kk-fencing-club-sabre/2026-04-20
LOCATION:Castle Farm Leisure Centre\, Fishponds Road\, Coventry\, Warwickshire\, CV8 1EY\, United Kingdom
CATEGORIES:Club Night
ORGANIZER;CN="KK Fencing Club":MAILTO:kkfencingclub@gmail.com
END:VEVENT
BEGIN:VEVENT
DTSTART;TZID=Europe/London:20260413T190000
DTEND;TZID=Europe/London:20260413T210000
DTSTAMP:20260421T120107
CREATED:20260327T162223Z
LAST-MODIFIED:20260327T162223Z
UID:10002616-1776106800-1776114000@westmidlandsfencing.org.uk
SUMMARY:KK fencing Club (Sabre)
DESCRIPTION:
URL:https://westmidlandsfencing.org.uk/event/kk-fencing-club-sabre/2026-04-13
LOCATION:Castle Farm Leisure Centre\, Fishponds Road\, Coventry\, Warwickshire\, CV8 1EY\, United Kingdom
CATEGORIES:Club Night
ORGANIZER;CN="KK Fencing Club":MAILTO:kkfencingclub@gmail.com
END:VEVENT
BEGIN:VEVENT
DTSTART;TZID=Europe/London:20260406T190000
DTEND;TZID=Europe/London:20260406T210000
DTSTAMP:20260421T120107
CREATED:20260327T162223Z
LAST-MODIFIED:20260327T162223Z
UID:10002615-1775502000-1775509200@westmidlandsfencing.org.uk
SUMMARY:KK fencing Club (Sabre)
DESCRIPTION:
URL:https://westmidlandsfencing.org.uk/event/kk-fencing-club-sabre/2026-04-06
LOCATION:Castle Farm Leisure Centre\, Fishponds Road\, Coventry\, Warwickshire\, CV8 1EY\, United Kingdom
CATEGORIES:Club Night
ORGANIZER;CN="KK Fencing Club":MAILTO:kkfencingclub@gmail.com
END:VEVENT
BEGIN:VEVENT
DTSTART;TZID=Europe/London:20260330T190000
DTEND;TZID=Europe/London:20260330T210000
DTSTAMP:20260421T120107
CREATED:20260327T162223Z
LAST-MODIFIED:20260327T162223Z
UID:10002614-1774897200-1774904400@westmidlandsfencing.org.uk
SUMMARY:KK fencing Club (Sabre)
DESCRIPTION:
URL:https://westmidlandsfencing.org.uk/event/kk-fencing-club-sabre/2026-03-30
LOCATION:Castle Farm Leisure Centre\, Fishponds Road\, Coventry\, Warwickshire\, CV8 1EY\, United Kingdom
CATEGORIES:Club Night
ORGANIZER;CN="KK Fencing Club":MAILTO:kkfencingclub@gmail.com
END:VEVENT
END:VCALENDAR