BEGIN:VCALENDAR
VERSION:2.0
PRODID:-//West Midlands Region Fencing - ECPv6.15.20//NONSGML v1.0//EN
CALSCALE:GREGORIAN
METHOD:PUBLISH
X-ORIGINAL-URL:https://westmidlandsfencing.org.uk
X-WR-CALDESC:Events for West Midlands Region Fencing
REFRESH-INTERVAL;VALUE=DURATION:PT1H
X-Robots-Tag:noindex
X-PUBLISHED-TTL:PT1H
BEGIN:VTIMEZONE
TZID:Europe/London
BEGIN:DAYLIGHT
TZOFFSETFROM:+0000
TZOFFSETTO:+0100
TZNAME:BST
DTSTART:20260329T010000
END:DAYLIGHT
BEGIN:STANDARD
TZOFFSETFROM:+0100
TZOFFSETTO:+0000
TZNAME:GMT
DTSTART:20261025T010000
END:STANDARD
BEGIN:DAYLIGHT
TZOFFSETFROM:+0000
TZOFFSETTO:+0100
TZNAME:BST
DTSTART:20270328T010000
END:DAYLIGHT
BEGIN:STANDARD
TZOFFSETFROM:+0100
TZOFFSETTO:+0000
TZNAME:GMT
DTSTART:20271031T010000
END:STANDARD
BEGIN:DAYLIGHT
TZOFFSETFROM:+0000
TZOFFSETTO:+0100
TZNAME:BST
DTSTART:20280326T010000
END:DAYLIGHT
BEGIN:STANDARD
TZOFFSETFROM:+0100
TZOFFSETTO:+0000
TZNAME:GMT
DTSTART:20281029T010000
END:STANDARD
END:VTIMEZONE
BEGIN:VEVENT
DTSTART;TZID=Europe/London:20270923T183000
DTEND;TZID=Europe/London:20270923T213000
DTSTAMP:20260421T122225
CREATED:20260327T163251Z
LAST-MODIFIED:20260327T163251Z
UID:10004257-1821724200-1821735000@westmidlandsfencing.org.uk
SUMMARY:Hereford Fencing Centre
DESCRIPTION:
URL:https://westmidlandsfencing.org.uk/event/hereford-fencing-centre-4/2027-09-23
LOCATION:Hereford Fencing Centre\, Unit 23 Ramsden Rd\, Hereford\, Herefordshire\, HR2 6NT\, United Kingdom
CATEGORIES:Club Night
END:VEVENT
BEGIN:VEVENT
DTSTART;TZID=Europe/London:20270924T173000
DTEND;TZID=Europe/London:20270924T190000
DTSTAMP:20260421T122225
CREATED:20260327T163403Z
LAST-MODIFIED:20260327T163403Z
UID:10004519-1821807000-1821812400@westmidlandsfencing.org.uk
SUMMARY:Hereford Fencing Centre
DESCRIPTION:
URL:https://westmidlandsfencing.org.uk/event/hereford-fencing-centre-5/2027-09-24
LOCATION:Hereford Fencing Centre\, Unit 23 Ramsden Rd\, Hereford\, Herefordshire\, HR2 6NT\, United Kingdom
CATEGORIES:Club Night
END:VEVENT
BEGIN:VEVENT
DTSTART;TZID=Europe/London:20270927T180000
DTEND;TZID=Europe/London:20270927T213000
DTSTAMP:20260421T122225
CREATED:20260327T143854Z
LAST-MODIFIED:20260327T143854Z
UID:10000079-1822068000-1822080600@westmidlandsfencing.org.uk
SUMMARY:Hereford Fencing Centre
DESCRIPTION:Foil and Epee
URL:https://westmidlandsfencing.org.uk/event/hereford-fencing-centre/2027-09-27
LOCATION:Hereford Fencing Centre\, Unit 23 Ramsden Rd\, Hereford\, Herefordshire\, HR2 6NT\, United Kingdom
END:VEVENT
BEGIN:VEVENT
DTSTART;TZID=Europe/London:20270928T171500
DTEND;TZID=Europe/London:20270928T211500
DTSTAMP:20260421T122225
CREATED:20260327T153835Z
LAST-MODIFIED:20260327T160620Z
UID:10001389-1822151700-1822166100@westmidlandsfencing.org.uk
SUMMARY:Hereford Fencing Centre
DESCRIPTION:Foil and Epee \nMusketeers 5:15-6:15pm\nMusketeers 6:15-7:15pm\nJunior/Seniors 7:15 – 9:15pm
URL:https://westmidlandsfencing.org.uk/event/hereford-fencing-centre-2/2027-09-28
LOCATION:Hereford Fencing Centre\, Unit 23 Ramsden Rd\, Hereford\, Herefordshire\, HR2 6NT\, United Kingdom
CATEGORIES:Club Night
END:VEVENT
BEGIN:VEVENT
DTSTART;TZID=Europe/London:20270929T183000
DTEND;TZID=Europe/London:20270929T213000
DTSTAMP:20260421T122225
CREATED:20260327T163138Z
LAST-MODIFIED:20260327T163138Z
UID:10003997-1822242600-1822253400@westmidlandsfencing.org.uk
SUMMARY:Hereford Fencing Centre
DESCRIPTION:
URL:https://westmidlandsfencing.org.uk/event/hereford-fencing-centre-3/2027-09-29
LOCATION:Hereford Fencing Centre\, Unit 23 Ramsden Rd\, Hereford\, Herefordshire\, HR2 6NT\, United Kingdom
CATEGORIES:Club Night
END:VEVENT
BEGIN:VEVENT
DTSTART;TZID=Europe/London:20270930T183000
DTEND;TZID=Europe/London:20270930T213000
DTSTAMP:20260421T122225
CREATED:20260327T163251Z
LAST-MODIFIED:20260327T163251Z
UID:10004258-1822329000-1822339800@westmidlandsfencing.org.uk
SUMMARY:Hereford Fencing Centre
DESCRIPTION:
URL:https://westmidlandsfencing.org.uk/event/hereford-fencing-centre-4/2027-09-30
LOCATION:Hereford Fencing Centre\, Unit 23 Ramsden Rd\, Hereford\, Herefordshire\, HR2 6NT\, United Kingdom
CATEGORIES:Club Night
END:VEVENT
BEGIN:VEVENT
DTSTART;TZID=Europe/London:20271001T173000
DTEND;TZID=Europe/London:20271001T190000
DTSTAMP:20260421T122225
CREATED:20260327T163403Z
LAST-MODIFIED:20260327T163403Z
UID:10004520-1822411800-1822417200@westmidlandsfencing.org.uk
SUMMARY:Hereford Fencing Centre
DESCRIPTION:
URL:https://westmidlandsfencing.org.uk/event/hereford-fencing-centre-5/2027-10-01
LOCATION:Hereford Fencing Centre\, Unit 23 Ramsden Rd\, Hereford\, Herefordshire\, HR2 6NT\, United Kingdom
CATEGORIES:Club Night
END:VEVENT
BEGIN:VEVENT
DTSTART;TZID=Europe/London:20271004T180000
DTEND;TZID=Europe/London:20271004T213000
DTSTAMP:20260421T122225
CREATED:20260327T143854Z
LAST-MODIFIED:20260327T143854Z
UID:10000080-1822672800-1822685400@westmidlandsfencing.org.uk
SUMMARY:Hereford Fencing Centre
DESCRIPTION:Foil and Epee
URL:https://westmidlandsfencing.org.uk/event/hereford-fencing-centre/2027-10-04
LOCATION:Hereford Fencing Centre\, Unit 23 Ramsden Rd\, Hereford\, Herefordshire\, HR2 6NT\, United Kingdom
END:VEVENT
BEGIN:VEVENT
DTSTART;TZID=Europe/London:20271005T171500
DTEND;TZID=Europe/London:20271005T211500
DTSTAMP:20260421T122225
CREATED:20260327T153835Z
LAST-MODIFIED:20260327T160620Z
UID:10001390-1822756500-1822770900@westmidlandsfencing.org.uk
SUMMARY:Hereford Fencing Centre
DESCRIPTION:Foil and Epee \nMusketeers 5:15-6:15pm\nMusketeers 6:15-7:15pm\nJunior/Seniors 7:15 – 9:15pm
URL:https://westmidlandsfencing.org.uk/event/hereford-fencing-centre-2/2027-10-05
LOCATION:Hereford Fencing Centre\, Unit 23 Ramsden Rd\, Hereford\, Herefordshire\, HR2 6NT\, United Kingdom
CATEGORIES:Club Night
END:VEVENT
BEGIN:VEVENT
DTSTART;TZID=Europe/London:20271006T183000
DTEND;TZID=Europe/London:20271006T213000
DTSTAMP:20260421T122225
CREATED:20260327T163138Z
LAST-MODIFIED:20260327T163138Z
UID:10003998-1822847400-1822858200@westmidlandsfencing.org.uk
SUMMARY:Hereford Fencing Centre
DESCRIPTION:
URL:https://westmidlandsfencing.org.uk/event/hereford-fencing-centre-3/2027-10-06
LOCATION:Hereford Fencing Centre\, Unit 23 Ramsden Rd\, Hereford\, Herefordshire\, HR2 6NT\, United Kingdom
CATEGORIES:Club Night
END:VEVENT
BEGIN:VEVENT
DTSTART;TZID=Europe/London:20271007T183000
DTEND;TZID=Europe/London:20271007T213000
DTSTAMP:20260421T122225
CREATED:20260327T163251Z
LAST-MODIFIED:20260327T163251Z
UID:10004259-1822933800-1822944600@westmidlandsfencing.org.uk
SUMMARY:Hereford Fencing Centre
DESCRIPTION:
URL:https://westmidlandsfencing.org.uk/event/hereford-fencing-centre-4/2027-10-07
LOCATION:Hereford Fencing Centre\, Unit 23 Ramsden Rd\, Hereford\, Herefordshire\, HR2 6NT\, United Kingdom
CATEGORIES:Club Night
END:VEVENT
BEGIN:VEVENT
DTSTART;TZID=Europe/London:20271008T173000
DTEND;TZID=Europe/London:20271008T190000
DTSTAMP:20260421T122225
CREATED:20260327T163403Z
LAST-MODIFIED:20260327T163403Z
UID:10004521-1823016600-1823022000@westmidlandsfencing.org.uk
SUMMARY:Hereford Fencing Centre
DESCRIPTION:
URL:https://westmidlandsfencing.org.uk/event/hereford-fencing-centre-5/2027-10-08
LOCATION:Hereford Fencing Centre\, Unit 23 Ramsden Rd\, Hereford\, Herefordshire\, HR2 6NT\, United Kingdom
CATEGORIES:Club Night
END:VEVENT
BEGIN:VEVENT
DTSTART;TZID=Europe/London:20271011T180000
DTEND;TZID=Europe/London:20271011T213000
DTSTAMP:20260421T122225
CREATED:20260327T143854Z
LAST-MODIFIED:20260327T143854Z
UID:10000081-1823277600-1823290200@westmidlandsfencing.org.uk
SUMMARY:Hereford Fencing Centre
DESCRIPTION:Foil and Epee
URL:https://westmidlandsfencing.org.uk/event/hereford-fencing-centre/2027-10-11
LOCATION:Hereford Fencing Centre\, Unit 23 Ramsden Rd\, Hereford\, Herefordshire\, HR2 6NT\, United Kingdom
END:VEVENT
BEGIN:VEVENT
DTSTART;TZID=Europe/London:20271012T171500
DTEND;TZID=Europe/London:20271012T211500
DTSTAMP:20260421T122225
CREATED:20260327T153835Z
LAST-MODIFIED:20260327T160620Z
UID:10001391-1823361300-1823375700@westmidlandsfencing.org.uk
SUMMARY:Hereford Fencing Centre
DESCRIPTION:Foil and Epee \nMusketeers 5:15-6:15pm\nMusketeers 6:15-7:15pm\nJunior/Seniors 7:15 – 9:15pm
URL:https://westmidlandsfencing.org.uk/event/hereford-fencing-centre-2/2027-10-12
LOCATION:Hereford Fencing Centre\, Unit 23 Ramsden Rd\, Hereford\, Herefordshire\, HR2 6NT\, United Kingdom
CATEGORIES:Club Night
END:VEVENT
BEGIN:VEVENT
DTSTART;TZID=Europe/London:20271013T183000
DTEND;TZID=Europe/London:20271013T213000
DTSTAMP:20260421T122225
CREATED:20260327T163138Z
LAST-MODIFIED:20260327T163138Z
UID:10003999-1823452200-1823463000@westmidlandsfencing.org.uk
SUMMARY:Hereford Fencing Centre
DESCRIPTION:
URL:https://westmidlandsfencing.org.uk/event/hereford-fencing-centre-3/2027-10-13
LOCATION:Hereford Fencing Centre\, Unit 23 Ramsden Rd\, Hereford\, Herefordshire\, HR2 6NT\, United Kingdom
CATEGORIES:Club Night
END:VEVENT
BEGIN:VEVENT
DTSTART;TZID=Europe/London:20271014T183000
DTEND;TZID=Europe/London:20271014T213000
DTSTAMP:20260421T122225
CREATED:20260327T163251Z
LAST-MODIFIED:20260327T163251Z
UID:10004260-1823538600-1823549400@westmidlandsfencing.org.uk
SUMMARY:Hereford Fencing Centre
DESCRIPTION:
URL:https://westmidlandsfencing.org.uk/event/hereford-fencing-centre-4/2027-10-14
LOCATION:Hereford Fencing Centre\, Unit 23 Ramsden Rd\, Hereford\, Herefordshire\, HR2 6NT\, United Kingdom
CATEGORIES:Club Night
END:VEVENT
BEGIN:VEVENT
DTSTART;TZID=Europe/London:20271015T173000
DTEND;TZID=Europe/London:20271015T190000
DTSTAMP:20260421T122225
CREATED:20260327T163403Z
LAST-MODIFIED:20260327T163403Z
UID:10004522-1823621400-1823626800@westmidlandsfencing.org.uk
SUMMARY:Hereford Fencing Centre
DESCRIPTION:
URL:https://westmidlandsfencing.org.uk/event/hereford-fencing-centre-5/2027-10-15
LOCATION:Hereford Fencing Centre\, Unit 23 Ramsden Rd\, Hereford\, Herefordshire\, HR2 6NT\, United Kingdom
CATEGORIES:Club Night
END:VEVENT
BEGIN:VEVENT
DTSTART;TZID=Europe/London:20271018T180000
DTEND;TZID=Europe/London:20271018T213000
DTSTAMP:20260421T122225
CREATED:20260327T143854Z
LAST-MODIFIED:20260327T143854Z
UID:10000082-1823882400-1823895000@westmidlandsfencing.org.uk
SUMMARY:Hereford Fencing Centre
DESCRIPTION:Foil and Epee
URL:https://westmidlandsfencing.org.uk/event/hereford-fencing-centre/2027-10-18
LOCATION:Hereford Fencing Centre\, Unit 23 Ramsden Rd\, Hereford\, Herefordshire\, HR2 6NT\, United Kingdom
END:VEVENT
BEGIN:VEVENT
DTSTART;TZID=Europe/London:20271019T171500
DTEND;TZID=Europe/London:20271019T211500
DTSTAMP:20260421T122225
CREATED:20260327T153835Z
LAST-MODIFIED:20260327T160620Z
UID:10001392-1823966100-1823980500@westmidlandsfencing.org.uk
SUMMARY:Hereford Fencing Centre
DESCRIPTION:Foil and Epee \nMusketeers 5:15-6:15pm\nMusketeers 6:15-7:15pm\nJunior/Seniors 7:15 – 9:15pm
URL:https://westmidlandsfencing.org.uk/event/hereford-fencing-centre-2/2027-10-19
LOCATION:Hereford Fencing Centre\, Unit 23 Ramsden Rd\, Hereford\, Herefordshire\, HR2 6NT\, United Kingdom
CATEGORIES:Club Night
END:VEVENT
BEGIN:VEVENT
DTSTART;TZID=Europe/London:20271020T183000
DTEND;TZID=Europe/London:20271020T213000
DTSTAMP:20260421T122225
CREATED:20260327T163138Z
LAST-MODIFIED:20260327T163138Z
UID:10004000-1824057000-1824067800@westmidlandsfencing.org.uk
SUMMARY:Hereford Fencing Centre
DESCRIPTION:
URL:https://westmidlandsfencing.org.uk/event/hereford-fencing-centre-3/2027-10-20
LOCATION:Hereford Fencing Centre\, Unit 23 Ramsden Rd\, Hereford\, Herefordshire\, HR2 6NT\, United Kingdom
CATEGORIES:Club Night
END:VEVENT
BEGIN:VEVENT
DTSTART;TZID=Europe/London:20271021T183000
DTEND;TZID=Europe/London:20271021T213000
DTSTAMP:20260421T122225
CREATED:20260327T163251Z
LAST-MODIFIED:20260327T163251Z
UID:10004261-1824143400-1824154200@westmidlandsfencing.org.uk
SUMMARY:Hereford Fencing Centre
DESCRIPTION:
URL:https://westmidlandsfencing.org.uk/event/hereford-fencing-centre-4/2027-10-21
LOCATION:Hereford Fencing Centre\, Unit 23 Ramsden Rd\, Hereford\, Herefordshire\, HR2 6NT\, United Kingdom
CATEGORIES:Club Night
END:VEVENT
BEGIN:VEVENT
DTSTART;TZID=Europe/London:20271022T173000
DTEND;TZID=Europe/London:20271022T190000
DTSTAMP:20260421T122225
CREATED:20260327T163403Z
LAST-MODIFIED:20260327T163403Z
UID:10004523-1824226200-1824231600@westmidlandsfencing.org.uk
SUMMARY:Hereford Fencing Centre
DESCRIPTION:
URL:https://westmidlandsfencing.org.uk/event/hereford-fencing-centre-5/2027-10-22
LOCATION:Hereford Fencing Centre\, Unit 23 Ramsden Rd\, Hereford\, Herefordshire\, HR2 6NT\, United Kingdom
CATEGORIES:Club Night
END:VEVENT
BEGIN:VEVENT
DTSTART;TZID=Europe/London:20271025T180000
DTEND;TZID=Europe/London:20271025T213000
DTSTAMP:20260421T122225
CREATED:20260327T143854Z
LAST-MODIFIED:20260327T143854Z
UID:10000083-1824487200-1824499800@westmidlandsfencing.org.uk
SUMMARY:Hereford Fencing Centre
DESCRIPTION:Foil and Epee
URL:https://westmidlandsfencing.org.uk/event/hereford-fencing-centre/2027-10-25
LOCATION:Hereford Fencing Centre\, Unit 23 Ramsden Rd\, Hereford\, Herefordshire\, HR2 6NT\, United Kingdom
END:VEVENT
BEGIN:VEVENT
DTSTART;TZID=Europe/London:20271026T171500
DTEND;TZID=Europe/London:20271026T211500
DTSTAMP:20260421T122225
CREATED:20260327T153835Z
LAST-MODIFIED:20260327T160620Z
UID:10001393-1824570900-1824585300@westmidlandsfencing.org.uk
SUMMARY:Hereford Fencing Centre
DESCRIPTION:Foil and Epee \nMusketeers 5:15-6:15pm\nMusketeers 6:15-7:15pm\nJunior/Seniors 7:15 – 9:15pm
URL:https://westmidlandsfencing.org.uk/event/hereford-fencing-centre-2/2027-10-26
LOCATION:Hereford Fencing Centre\, Unit 23 Ramsden Rd\, Hereford\, Herefordshire\, HR2 6NT\, United Kingdom
CATEGORIES:Club Night
END:VEVENT
BEGIN:VEVENT
DTSTART;TZID=Europe/London:20271027T183000
DTEND;TZID=Europe/London:20271027T213000
DTSTAMP:20260421T122225
CREATED:20260327T163138Z
LAST-MODIFIED:20260327T163138Z
UID:10004001-1824661800-1824672600@westmidlandsfencing.org.uk
SUMMARY:Hereford Fencing Centre
DESCRIPTION:
URL:https://westmidlandsfencing.org.uk/event/hereford-fencing-centre-3/2027-10-27
LOCATION:Hereford Fencing Centre\, Unit 23 Ramsden Rd\, Hereford\, Herefordshire\, HR2 6NT\, United Kingdom
CATEGORIES:Club Night
END:VEVENT
BEGIN:VEVENT
DTSTART;TZID=Europe/London:20271028T183000
DTEND;TZID=Europe/London:20271028T213000
DTSTAMP:20260421T122225
CREATED:20260327T163251Z
LAST-MODIFIED:20260327T163251Z
UID:10004262-1824748200-1824759000@westmidlandsfencing.org.uk
SUMMARY:Hereford Fencing Centre
DESCRIPTION:
URL:https://westmidlandsfencing.org.uk/event/hereford-fencing-centre-4/2027-10-28
LOCATION:Hereford Fencing Centre\, Unit 23 Ramsden Rd\, Hereford\, Herefordshire\, HR2 6NT\, United Kingdom
CATEGORIES:Club Night
END:VEVENT
BEGIN:VEVENT
DTSTART;TZID=Europe/London:20271029T173000
DTEND;TZID=Europe/London:20271029T190000
DTSTAMP:20260421T122225
CREATED:20260327T163403Z
LAST-MODIFIED:20260327T163403Z
UID:10004524-1824831000-1824836400@westmidlandsfencing.org.uk
SUMMARY:Hereford Fencing Centre
DESCRIPTION:
URL:https://westmidlandsfencing.org.uk/event/hereford-fencing-centre-5/2027-10-29
LOCATION:Hereford Fencing Centre\, Unit 23 Ramsden Rd\, Hereford\, Herefordshire\, HR2 6NT\, United Kingdom
CATEGORIES:Club Night
END:VEVENT
BEGIN:VEVENT
DTSTART;TZID=Europe/London:20271101T180000
DTEND;TZID=Europe/London:20271101T213000
DTSTAMP:20260421T122225
CREATED:20260327T143854Z
LAST-MODIFIED:20260327T143854Z
UID:10000084-1825092000-1825104600@westmidlandsfencing.org.uk
SUMMARY:Hereford Fencing Centre
DESCRIPTION:Foil and Epee
URL:https://westmidlandsfencing.org.uk/event/hereford-fencing-centre/2027-11-01
LOCATION:Hereford Fencing Centre\, Unit 23 Ramsden Rd\, Hereford\, Herefordshire\, HR2 6NT\, United Kingdom
END:VEVENT
BEGIN:VEVENT
DTSTART;TZID=Europe/London:20271102T171500
DTEND;TZID=Europe/London:20271102T211500
DTSTAMP:20260421T122225
CREATED:20260327T153835Z
LAST-MODIFIED:20260327T160620Z
UID:10001394-1825175700-1825190100@westmidlandsfencing.org.uk
SUMMARY:Hereford Fencing Centre
DESCRIPTION:Foil and Epee \nMusketeers 5:15-6:15pm\nMusketeers 6:15-7:15pm\nJunior/Seniors 7:15 – 9:15pm
URL:https://westmidlandsfencing.org.uk/event/hereford-fencing-centre-2/2027-11-02
LOCATION:Hereford Fencing Centre\, Unit 23 Ramsden Rd\, Hereford\, Herefordshire\, HR2 6NT\, United Kingdom
CATEGORIES:Club Night
END:VEVENT
BEGIN:VEVENT
DTSTART;TZID=Europe/London:20271103T183000
DTEND;TZID=Europe/London:20271103T213000
DTSTAMP:20260421T122225
CREATED:20260327T163138Z
LAST-MODIFIED:20260327T163138Z
UID:10004002-1825266600-1825277400@westmidlandsfencing.org.uk
SUMMARY:Hereford Fencing Centre
DESCRIPTION:
URL:https://westmidlandsfencing.org.uk/event/hereford-fencing-centre-3/2027-11-03
LOCATION:Hereford Fencing Centre\, Unit 23 Ramsden Rd\, Hereford\, Herefordshire\, HR2 6NT\, United Kingdom
CATEGORIES:Club Night
END:VEVENT
END:VCALENDAR