BEGIN:VCALENDAR
VERSION:2.0
PRODID:-//West Midlands Region Fencing - ECPv6.15.20//NONSGML v1.0//EN
CALSCALE:GREGORIAN
METHOD:PUBLISH
X-ORIGINAL-URL:https://westmidlandsfencing.org.uk
X-WR-CALDESC:Events for West Midlands Region Fencing
REFRESH-INTERVAL;VALUE=DURATION:PT1H
X-Robots-Tag:noindex
X-PUBLISHED-TTL:PT1H
BEGIN:VTIMEZONE
TZID:Europe/London
BEGIN:DAYLIGHT
TZOFFSETFROM:+0000
TZOFFSETTO:+0100
TZNAME:BST
DTSTART:20260329T010000
END:DAYLIGHT
BEGIN:STANDARD
TZOFFSETFROM:+0100
TZOFFSETTO:+0000
TZNAME:GMT
DTSTART:20261025T010000
END:STANDARD
BEGIN:DAYLIGHT
TZOFFSETFROM:+0000
TZOFFSETTO:+0100
TZNAME:BST
DTSTART:20270328T010000
END:DAYLIGHT
BEGIN:STANDARD
TZOFFSETFROM:+0100
TZOFFSETTO:+0000
TZNAME:GMT
DTSTART:20271031T010000
END:STANDARD
BEGIN:DAYLIGHT
TZOFFSETFROM:+0000
TZOFFSETTO:+0100
TZNAME:BST
DTSTART:20280326T010000
END:DAYLIGHT
BEGIN:STANDARD
TZOFFSETFROM:+0100
TZOFFSETTO:+0000
TZNAME:GMT
DTSTART:20281029T010000
END:STANDARD
BEGIN:DAYLIGHT
TZOFFSETFROM:+0000
TZOFFSETTO:+0100
TZNAME:BST
DTSTART:20290325T010000
END:DAYLIGHT
BEGIN:STANDARD
TZOFFSETFROM:+0100
TZOFFSETTO:+0000
TZNAME:GMT
DTSTART:20291028T010000
END:STANDARD
END:VTIMEZONE
BEGIN:VEVENT
DTSTART;TZID=Europe/London:20271222T183000
DTEND;TZID=Europe/London:20271222T213000
DTSTAMP:20260425T161244
CREATED:20260327T163138Z
LAST-MODIFIED:20260327T163138Z
UID:10004009-1829500200-1829511000@westmidlandsfencing.org.uk
SUMMARY:Hereford Fencing Centre
DESCRIPTION:
URL:https://westmidlandsfencing.org.uk/event/hereford-fencing-centre-3/2027-12-22
LOCATION:Hereford Fencing Centre\, Unit 23 Ramsden Rd\, Hereford\, Herefordshire\, HR2 6NT\, United Kingdom
CATEGORIES:Club Night
END:VEVENT
BEGIN:VEVENT
DTSTART;TZID=Europe/London:20271223T183000
DTEND;TZID=Europe/London:20271223T213000
DTSTAMP:20260425T161244
CREATED:20260327T163251Z
LAST-MODIFIED:20260327T163251Z
UID:10004270-1829586600-1829597400@westmidlandsfencing.org.uk
SUMMARY:Hereford Fencing Centre
DESCRIPTION:
URL:https://westmidlandsfencing.org.uk/event/hereford-fencing-centre-4/2027-12-23
LOCATION:Hereford Fencing Centre\, Unit 23 Ramsden Rd\, Hereford\, Herefordshire\, HR2 6NT\, United Kingdom
CATEGORIES:Club Night
END:VEVENT
BEGIN:VEVENT
DTSTART;TZID=Europe/London:20271224T173000
DTEND;TZID=Europe/London:20271224T190000
DTSTAMP:20260425T161244
CREATED:20260327T163403Z
LAST-MODIFIED:20260327T163403Z
UID:10004532-1829669400-1829674800@westmidlandsfencing.org.uk
SUMMARY:Hereford Fencing Centre
DESCRIPTION:
URL:https://westmidlandsfencing.org.uk/event/hereford-fencing-centre-5/2027-12-24
LOCATION:Hereford Fencing Centre\, Unit 23 Ramsden Rd\, Hereford\, Herefordshire\, HR2 6NT\, United Kingdom
CATEGORIES:Club Night
END:VEVENT
BEGIN:VEVENT
DTSTART;TZID=Europe/London:20271227T180000
DTEND;TZID=Europe/London:20271227T213000
DTSTAMP:20260425T161244
CREATED:20260327T143854Z
LAST-MODIFIED:20260327T143854Z
UID:10000092-1829930400-1829943000@westmidlandsfencing.org.uk
SUMMARY:Hereford Fencing Centre
DESCRIPTION:Foil and Epee
URL:https://westmidlandsfencing.org.uk/event/hereford-fencing-centre/2027-12-27
LOCATION:Hereford Fencing Centre\, Unit 23 Ramsden Rd\, Hereford\, Herefordshire\, HR2 6NT\, United Kingdom
END:VEVENT
BEGIN:VEVENT
DTSTART;TZID=Europe/London:20271228T171500
DTEND;TZID=Europe/London:20271228T211500
DTSTAMP:20260425T161244
CREATED:20260327T153835Z
LAST-MODIFIED:20260327T160620Z
UID:10001402-1830014100-1830028500@westmidlandsfencing.org.uk
SUMMARY:Hereford Fencing Centre
DESCRIPTION:Foil and Epee \nMusketeers 5:15-6:15pm\nMusketeers 6:15-7:15pm\nJunior/Seniors 7:15 – 9:15pm
URL:https://westmidlandsfencing.org.uk/event/hereford-fencing-centre-2/2027-12-28
LOCATION:Hereford Fencing Centre\, Unit 23 Ramsden Rd\, Hereford\, Herefordshire\, HR2 6NT\, United Kingdom
CATEGORIES:Club Night
END:VEVENT
BEGIN:VEVENT
DTSTART;TZID=Europe/London:20271229T183000
DTEND;TZID=Europe/London:20271229T213000
DTSTAMP:20260425T161244
CREATED:20260327T163138Z
LAST-MODIFIED:20260327T163138Z
UID:10004010-1830105000-1830115800@westmidlandsfencing.org.uk
SUMMARY:Hereford Fencing Centre
DESCRIPTION:
URL:https://westmidlandsfencing.org.uk/event/hereford-fencing-centre-3/2027-12-29
LOCATION:Hereford Fencing Centre\, Unit 23 Ramsden Rd\, Hereford\, Herefordshire\, HR2 6NT\, United Kingdom
CATEGORIES:Club Night
END:VEVENT
BEGIN:VEVENT
DTSTART;TZID=Europe/London:20271230T183000
DTEND;TZID=Europe/London:20271230T213000
DTSTAMP:20260425T161244
CREATED:20260327T163251Z
LAST-MODIFIED:20260327T163251Z
UID:10004271-1830191400-1830202200@westmidlandsfencing.org.uk
SUMMARY:Hereford Fencing Centre
DESCRIPTION:
URL:https://westmidlandsfencing.org.uk/event/hereford-fencing-centre-4/2027-12-30
LOCATION:Hereford Fencing Centre\, Unit 23 Ramsden Rd\, Hereford\, Herefordshire\, HR2 6NT\, United Kingdom
CATEGORIES:Club Night
END:VEVENT
BEGIN:VEVENT
DTSTART;TZID=Europe/London:20271231T173000
DTEND;TZID=Europe/London:20271231T190000
DTSTAMP:20260425T161244
CREATED:20260327T163403Z
LAST-MODIFIED:20260327T163403Z
UID:10004533-1830274200-1830279600@westmidlandsfencing.org.uk
SUMMARY:Hereford Fencing Centre
DESCRIPTION:
URL:https://westmidlandsfencing.org.uk/event/hereford-fencing-centre-5/2027-12-31
LOCATION:Hereford Fencing Centre\, Unit 23 Ramsden Rd\, Hereford\, Herefordshire\, HR2 6NT\, United Kingdom
CATEGORIES:Club Night
END:VEVENT
BEGIN:VEVENT
DTSTART;TZID=Europe/London:20280103T180000
DTEND;TZID=Europe/London:20280103T213000
DTSTAMP:20260425T161244
CREATED:20260327T143854Z
LAST-MODIFIED:20260327T143854Z
UID:10000093-1830535200-1830547800@westmidlandsfencing.org.uk
SUMMARY:Hereford Fencing Centre
DESCRIPTION:Foil and Epee
URL:https://westmidlandsfencing.org.uk/event/hereford-fencing-centre/2028-01-03
LOCATION:Hereford Fencing Centre\, Unit 23 Ramsden Rd\, Hereford\, Herefordshire\, HR2 6NT\, United Kingdom
END:VEVENT
BEGIN:VEVENT
DTSTART;TZID=Europe/London:20280104T171500
DTEND;TZID=Europe/London:20280104T211500
DTSTAMP:20260425T161244
CREATED:20260327T153835Z
LAST-MODIFIED:20260327T160620Z
UID:10001403-1830618900-1830633300@westmidlandsfencing.org.uk
SUMMARY:Hereford Fencing Centre
DESCRIPTION:Foil and Epee \nMusketeers 5:15-6:15pm\nMusketeers 6:15-7:15pm\nJunior/Seniors 7:15 – 9:15pm
URL:https://westmidlandsfencing.org.uk/event/hereford-fencing-centre-2/2028-01-04
LOCATION:Hereford Fencing Centre\, Unit 23 Ramsden Rd\, Hereford\, Herefordshire\, HR2 6NT\, United Kingdom
CATEGORIES:Club Night
END:VEVENT
BEGIN:VEVENT
DTSTART;TZID=Europe/London:20280105T183000
DTEND;TZID=Europe/London:20280105T213000
DTSTAMP:20260425T161244
CREATED:20260327T163138Z
LAST-MODIFIED:20260327T163138Z
UID:10004011-1830709800-1830720600@westmidlandsfencing.org.uk
SUMMARY:Hereford Fencing Centre
DESCRIPTION:
URL:https://westmidlandsfencing.org.uk/event/hereford-fencing-centre-3/2028-01-05
LOCATION:Hereford Fencing Centre\, Unit 23 Ramsden Rd\, Hereford\, Herefordshire\, HR2 6NT\, United Kingdom
CATEGORIES:Club Night
END:VEVENT
BEGIN:VEVENT
DTSTART;TZID=Europe/London:20280106T183000
DTEND;TZID=Europe/London:20280106T213000
DTSTAMP:20260425T161244
CREATED:20260327T163251Z
LAST-MODIFIED:20260327T163251Z
UID:10004272-1830796200-1830807000@westmidlandsfencing.org.uk
SUMMARY:Hereford Fencing Centre
DESCRIPTION:
URL:https://westmidlandsfencing.org.uk/event/hereford-fencing-centre-4/2028-01-06
LOCATION:Hereford Fencing Centre\, Unit 23 Ramsden Rd\, Hereford\, Herefordshire\, HR2 6NT\, United Kingdom
CATEGORIES:Club Night
END:VEVENT
BEGIN:VEVENT
DTSTART;TZID=Europe/London:20280107T173000
DTEND;TZID=Europe/London:20280107T190000
DTSTAMP:20260425T161244
CREATED:20260327T163403Z
LAST-MODIFIED:20260327T163403Z
UID:10004534-1830879000-1830884400@westmidlandsfencing.org.uk
SUMMARY:Hereford Fencing Centre
DESCRIPTION:
URL:https://westmidlandsfencing.org.uk/event/hereford-fencing-centre-5/2028-01-07
LOCATION:Hereford Fencing Centre\, Unit 23 Ramsden Rd\, Hereford\, Herefordshire\, HR2 6NT\, United Kingdom
CATEGORIES:Club Night
END:VEVENT
BEGIN:VEVENT
DTSTART;TZID=Europe/London:20280110T180000
DTEND;TZID=Europe/London:20280110T213000
DTSTAMP:20260425T161244
CREATED:20260327T143854Z
LAST-MODIFIED:20260327T143854Z
UID:10000094-1831140000-1831152600@westmidlandsfencing.org.uk
SUMMARY:Hereford Fencing Centre
DESCRIPTION:Foil and Epee
URL:https://westmidlandsfencing.org.uk/event/hereford-fencing-centre/2028-01-10
LOCATION:Hereford Fencing Centre\, Unit 23 Ramsden Rd\, Hereford\, Herefordshire\, HR2 6NT\, United Kingdom
END:VEVENT
BEGIN:VEVENT
DTSTART;TZID=Europe/London:20280111T171500
DTEND;TZID=Europe/London:20280111T211500
DTSTAMP:20260425T161244
CREATED:20260327T153835Z
LAST-MODIFIED:20260327T160620Z
UID:10001404-1831223700-1831238100@westmidlandsfencing.org.uk
SUMMARY:Hereford Fencing Centre
DESCRIPTION:Foil and Epee \nMusketeers 5:15-6:15pm\nMusketeers 6:15-7:15pm\nJunior/Seniors 7:15 – 9:15pm
URL:https://westmidlandsfencing.org.uk/event/hereford-fencing-centre-2/2028-01-11
LOCATION:Hereford Fencing Centre\, Unit 23 Ramsden Rd\, Hereford\, Herefordshire\, HR2 6NT\, United Kingdom
CATEGORIES:Club Night
END:VEVENT
BEGIN:VEVENT
DTSTART;TZID=Europe/London:20280112T183000
DTEND;TZID=Europe/London:20280112T213000
DTSTAMP:20260425T161244
CREATED:20260327T163138Z
LAST-MODIFIED:20260327T163138Z
UID:10004012-1831314600-1831325400@westmidlandsfencing.org.uk
SUMMARY:Hereford Fencing Centre
DESCRIPTION:
URL:https://westmidlandsfencing.org.uk/event/hereford-fencing-centre-3/2028-01-12
LOCATION:Hereford Fencing Centre\, Unit 23 Ramsden Rd\, Hereford\, Herefordshire\, HR2 6NT\, United Kingdom
CATEGORIES:Club Night
END:VEVENT
BEGIN:VEVENT
DTSTART;TZID=Europe/London:20280113T183000
DTEND;TZID=Europe/London:20280113T213000
DTSTAMP:20260425T161244
CREATED:20260327T163251Z
LAST-MODIFIED:20260327T163251Z
UID:10004273-1831401000-1831411800@westmidlandsfencing.org.uk
SUMMARY:Hereford Fencing Centre
DESCRIPTION:
URL:https://westmidlandsfencing.org.uk/event/hereford-fencing-centre-4/2028-01-13
LOCATION:Hereford Fencing Centre\, Unit 23 Ramsden Rd\, Hereford\, Herefordshire\, HR2 6NT\, United Kingdom
CATEGORIES:Club Night
END:VEVENT
BEGIN:VEVENT
DTSTART;TZID=Europe/London:20280114T173000
DTEND;TZID=Europe/London:20280114T190000
DTSTAMP:20260425T161244
CREATED:20260327T163403Z
LAST-MODIFIED:20260327T163403Z
UID:10004535-1831483800-1831489200@westmidlandsfencing.org.uk
SUMMARY:Hereford Fencing Centre
DESCRIPTION:
URL:https://westmidlandsfencing.org.uk/event/hereford-fencing-centre-5/2028-01-14
LOCATION:Hereford Fencing Centre\, Unit 23 Ramsden Rd\, Hereford\, Herefordshire\, HR2 6NT\, United Kingdom
CATEGORIES:Club Night
END:VEVENT
BEGIN:VEVENT
DTSTART;TZID=Europe/London:20280117T180000
DTEND;TZID=Europe/London:20280117T213000
DTSTAMP:20260425T161244
CREATED:20260327T143854Z
LAST-MODIFIED:20260327T143854Z
UID:10000095-1831744800-1831757400@westmidlandsfencing.org.uk
SUMMARY:Hereford Fencing Centre
DESCRIPTION:Foil and Epee
URL:https://westmidlandsfencing.org.uk/event/hereford-fencing-centre/2028-01-17
LOCATION:Hereford Fencing Centre\, Unit 23 Ramsden Rd\, Hereford\, Herefordshire\, HR2 6NT\, United Kingdom
END:VEVENT
BEGIN:VEVENT
DTSTART;TZID=Europe/London:20280118T171500
DTEND;TZID=Europe/London:20280118T211500
DTSTAMP:20260425T161244
CREATED:20260327T153835Z
LAST-MODIFIED:20260327T160620Z
UID:10001405-1831828500-1831842900@westmidlandsfencing.org.uk
SUMMARY:Hereford Fencing Centre
DESCRIPTION:Foil and Epee \nMusketeers 5:15-6:15pm\nMusketeers 6:15-7:15pm\nJunior/Seniors 7:15 – 9:15pm
URL:https://westmidlandsfencing.org.uk/event/hereford-fencing-centre-2/2028-01-18
LOCATION:Hereford Fencing Centre\, Unit 23 Ramsden Rd\, Hereford\, Herefordshire\, HR2 6NT\, United Kingdom
CATEGORIES:Club Night
END:VEVENT
BEGIN:VEVENT
DTSTART;TZID=Europe/London:20280119T183000
DTEND;TZID=Europe/London:20280119T213000
DTSTAMP:20260425T161244
CREATED:20260327T163138Z
LAST-MODIFIED:20260327T163138Z
UID:10004013-1831919400-1831930200@westmidlandsfencing.org.uk
SUMMARY:Hereford Fencing Centre
DESCRIPTION:
URL:https://westmidlandsfencing.org.uk/event/hereford-fencing-centre-3/2028-01-19
LOCATION:Hereford Fencing Centre\, Unit 23 Ramsden Rd\, Hereford\, Herefordshire\, HR2 6NT\, United Kingdom
CATEGORIES:Club Night
END:VEVENT
BEGIN:VEVENT
DTSTART;TZID=Europe/London:20280120T183000
DTEND;TZID=Europe/London:20280120T213000
DTSTAMP:20260425T161244
CREATED:20260327T163251Z
LAST-MODIFIED:20260327T163251Z
UID:10004274-1832005800-1832016600@westmidlandsfencing.org.uk
SUMMARY:Hereford Fencing Centre
DESCRIPTION:
URL:https://westmidlandsfencing.org.uk/event/hereford-fencing-centre-4/2028-01-20
LOCATION:Hereford Fencing Centre\, Unit 23 Ramsden Rd\, Hereford\, Herefordshire\, HR2 6NT\, United Kingdom
CATEGORIES:Club Night
END:VEVENT
BEGIN:VEVENT
DTSTART;TZID=Europe/London:20280121T173000
DTEND;TZID=Europe/London:20280121T190000
DTSTAMP:20260425T161244
CREATED:20260327T163403Z
LAST-MODIFIED:20260327T163403Z
UID:10004536-1832088600-1832094000@westmidlandsfencing.org.uk
SUMMARY:Hereford Fencing Centre
DESCRIPTION:
URL:https://westmidlandsfencing.org.uk/event/hereford-fencing-centre-5/2028-01-21
LOCATION:Hereford Fencing Centre\, Unit 23 Ramsden Rd\, Hereford\, Herefordshire\, HR2 6NT\, United Kingdom
CATEGORIES:Club Night
END:VEVENT
BEGIN:VEVENT
DTSTART;TZID=Europe/London:20280124T180000
DTEND;TZID=Europe/London:20280124T213000
DTSTAMP:20260425T161244
CREATED:20260327T143854Z
LAST-MODIFIED:20260327T143854Z
UID:10000096-1832349600-1832362200@westmidlandsfencing.org.uk
SUMMARY:Hereford Fencing Centre
DESCRIPTION:Foil and Epee
URL:https://westmidlandsfencing.org.uk/event/hereford-fencing-centre/2028-01-24
LOCATION:Hereford Fencing Centre\, Unit 23 Ramsden Rd\, Hereford\, Herefordshire\, HR2 6NT\, United Kingdom
END:VEVENT
BEGIN:VEVENT
DTSTART;TZID=Europe/London:20280125T171500
DTEND;TZID=Europe/London:20280125T211500
DTSTAMP:20260425T161244
CREATED:20260327T153835Z
LAST-MODIFIED:20260327T160620Z
UID:10001406-1832433300-1832447700@westmidlandsfencing.org.uk
SUMMARY:Hereford Fencing Centre
DESCRIPTION:Foil and Epee \nMusketeers 5:15-6:15pm\nMusketeers 6:15-7:15pm\nJunior/Seniors 7:15 – 9:15pm
URL:https://westmidlandsfencing.org.uk/event/hereford-fencing-centre-2/2028-01-25
LOCATION:Hereford Fencing Centre\, Unit 23 Ramsden Rd\, Hereford\, Herefordshire\, HR2 6NT\, United Kingdom
CATEGORIES:Club Night
END:VEVENT
BEGIN:VEVENT
DTSTART;TZID=Europe/London:20280126T183000
DTEND;TZID=Europe/London:20280126T213000
DTSTAMP:20260425T161244
CREATED:20260327T163138Z
LAST-MODIFIED:20260327T163138Z
UID:10004014-1832524200-1832535000@westmidlandsfencing.org.uk
SUMMARY:Hereford Fencing Centre
DESCRIPTION:
URL:https://westmidlandsfencing.org.uk/event/hereford-fencing-centre-3/2028-01-26
LOCATION:Hereford Fencing Centre\, Unit 23 Ramsden Rd\, Hereford\, Herefordshire\, HR2 6NT\, United Kingdom
CATEGORIES:Club Night
END:VEVENT
BEGIN:VEVENT
DTSTART;TZID=Europe/London:20280127T183000
DTEND;TZID=Europe/London:20280127T213000
DTSTAMP:20260425T161244
CREATED:20260327T163251Z
LAST-MODIFIED:20260327T163251Z
UID:10004275-1832610600-1832621400@westmidlandsfencing.org.uk
SUMMARY:Hereford Fencing Centre
DESCRIPTION:
URL:https://westmidlandsfencing.org.uk/event/hereford-fencing-centre-4/2028-01-27
LOCATION:Hereford Fencing Centre\, Unit 23 Ramsden Rd\, Hereford\, Herefordshire\, HR2 6NT\, United Kingdom
CATEGORIES:Club Night
END:VEVENT
BEGIN:VEVENT
DTSTART;TZID=Europe/London:20280128T173000
DTEND;TZID=Europe/London:20280128T190000
DTSTAMP:20260425T161244
CREATED:20260327T163403Z
LAST-MODIFIED:20260327T163403Z
UID:10004537-1832693400-1832698800@westmidlandsfencing.org.uk
SUMMARY:Hereford Fencing Centre
DESCRIPTION:
URL:https://westmidlandsfencing.org.uk/event/hereford-fencing-centre-5/2028-01-28
LOCATION:Hereford Fencing Centre\, Unit 23 Ramsden Rd\, Hereford\, Herefordshire\, HR2 6NT\, United Kingdom
CATEGORIES:Club Night
END:VEVENT
BEGIN:VEVENT
DTSTART;TZID=Europe/London:20280131T180000
DTEND;TZID=Europe/London:20280131T213000
DTSTAMP:20260425T161244
CREATED:20260327T143854Z
LAST-MODIFIED:20260327T143854Z
UID:10000097-1832954400-1832967000@westmidlandsfencing.org.uk
SUMMARY:Hereford Fencing Centre
DESCRIPTION:Foil and Epee
URL:https://westmidlandsfencing.org.uk/event/hereford-fencing-centre/2028-01-31
LOCATION:Hereford Fencing Centre\, Unit 23 Ramsden Rd\, Hereford\, Herefordshire\, HR2 6NT\, United Kingdom
END:VEVENT
BEGIN:VEVENT
DTSTART;TZID=Europe/London:20280201T171500
DTEND;TZID=Europe/London:20280201T211500
DTSTAMP:20260425T161244
CREATED:20260327T153835Z
LAST-MODIFIED:20260327T160620Z
UID:10001407-1833038100-1833052500@westmidlandsfencing.org.uk
SUMMARY:Hereford Fencing Centre
DESCRIPTION:Foil and Epee \nMusketeers 5:15-6:15pm\nMusketeers 6:15-7:15pm\nJunior/Seniors 7:15 – 9:15pm
URL:https://westmidlandsfencing.org.uk/event/hereford-fencing-centre-2/2028-02-01
LOCATION:Hereford Fencing Centre\, Unit 23 Ramsden Rd\, Hereford\, Herefordshire\, HR2 6NT\, United Kingdom
CATEGORIES:Club Night
END:VEVENT
END:VCALENDAR