BEGIN:VCALENDAR
VERSION:2.0
PRODID:-//West Midlands Region Fencing - ECPv6.15.20//NONSGML v1.0//EN
CALSCALE:GREGORIAN
METHOD:PUBLISH
X-ORIGINAL-URL:https://westmidlandsfencing.org.uk
X-WR-CALDESC:Events for West Midlands Region Fencing
REFRESH-INTERVAL;VALUE=DURATION:PT1H
X-Robots-Tag:noindex
X-PUBLISHED-TTL:PT1H
BEGIN:VTIMEZONE
TZID:Europe/London
BEGIN:DAYLIGHT
TZOFFSETFROM:+0000
TZOFFSETTO:+0100
TZNAME:BST
DTSTART:20250330T010000
END:DAYLIGHT
BEGIN:STANDARD
TZOFFSETFROM:+0100
TZOFFSETTO:+0000
TZNAME:GMT
DTSTART:20251026T010000
END:STANDARD
BEGIN:DAYLIGHT
TZOFFSETFROM:+0000
TZOFFSETTO:+0100
TZNAME:BST
DTSTART:20260329T010000
END:DAYLIGHT
BEGIN:STANDARD
TZOFFSETFROM:+0100
TZOFFSETTO:+0000
TZNAME:GMT
DTSTART:20261025T010000
END:STANDARD
BEGIN:DAYLIGHT
TZOFFSETFROM:+0000
TZOFFSETTO:+0100
TZNAME:BST
DTSTART:20270328T010000
END:DAYLIGHT
BEGIN:STANDARD
TZOFFSETFROM:+0100
TZOFFSETTO:+0000
TZNAME:GMT
DTSTART:20271031T010000
END:STANDARD
END:VTIMEZONE
BEGIN:VEVENT
DTSTART;TZID=Europe/London:20260417T193000
DTEND;TZID=Europe/London:20260417T213000
DTSTAMP:20260421T105944
CREATED:20260328T102212Z
LAST-MODIFIED:20260328T140750Z
UID:10006010-1776454200-1776461400@westmidlandsfencing.org.uk
SUMMARY:Kidderminster Fencing Club
DESCRIPTION:Foil and Epee
URL:https://westmidlandsfencing.org.uk/event/stourport-fencing-club/2026-04-17
LOCATION:King Charles I School and Sixth Form Centre\, Comberton Rd\, Kidderminster\, DY10 1XA\, United Kingdom
CATEGORIES:Club Night
END:VEVENT
BEGIN:VEVENT
DTSTART;TZID=Europe/London:20260410T193000
DTEND;TZID=Europe/London:20260410T213000
DTSTAMP:20260421T105944
CREATED:20260328T102212Z
LAST-MODIFIED:20260328T140750Z
UID:10006009-1775849400-1775856600@westmidlandsfencing.org.uk
SUMMARY:Kidderminster Fencing Club
DESCRIPTION:Foil and Epee
URL:https://westmidlandsfencing.org.uk/event/stourport-fencing-club/2026-04-10
LOCATION:King Charles I School and Sixth Form Centre\, Comberton Rd\, Kidderminster\, DY10 1XA\, United Kingdom
CATEGORIES:Club Night
END:VEVENT
BEGIN:VEVENT
DTSTART;TZID=Europe/London:20260403T193000
DTEND;TZID=Europe/London:20260403T213000
DTSTAMP:20260421T105944
CREATED:20260328T102212Z
LAST-MODIFIED:20260328T140750Z
UID:10006008-1775244600-1775251800@westmidlandsfencing.org.uk
SUMMARY:Kidderminster Fencing Club
DESCRIPTION:Foil and Epee
URL:https://westmidlandsfencing.org.uk/event/stourport-fencing-club/2026-04-03
LOCATION:King Charles I School and Sixth Form Centre\, Comberton Rd\, Kidderminster\, DY10 1XA\, United Kingdom
CATEGORIES:Club Night
END:VEVENT
END:VCALENDAR