BEGIN:VCALENDAR
VERSION:2.0
PRODID:-//West Midlands Region Fencing - ECPv6.15.20//NONSGML v1.0//EN
CALSCALE:GREGORIAN
METHOD:PUBLISH
X-ORIGINAL-URL:https://westmidlandsfencing.org.uk
X-WR-CALDESC:Events for West Midlands Region Fencing
REFRESH-INTERVAL;VALUE=DURATION:PT1H
X-Robots-Tag:noindex
X-PUBLISHED-TTL:PT1H
BEGIN:VTIMEZONE
TZID:Europe/London
BEGIN:DAYLIGHT
TZOFFSETFROM:+0000
TZOFFSETTO:+0100
TZNAME:BST
DTSTART:20250330T010000
END:DAYLIGHT
BEGIN:STANDARD
TZOFFSETFROM:+0100
TZOFFSETTO:+0000
TZNAME:GMT
DTSTART:20251026T010000
END:STANDARD
BEGIN:DAYLIGHT
TZOFFSETFROM:+0000
TZOFFSETTO:+0100
TZNAME:BST
DTSTART:20260329T010000
END:DAYLIGHT
BEGIN:STANDARD
TZOFFSETFROM:+0100
TZOFFSETTO:+0000
TZNAME:GMT
DTSTART:20261025T010000
END:STANDARD
BEGIN:DAYLIGHT
TZOFFSETFROM:+0000
TZOFFSETTO:+0100
TZNAME:BST
DTSTART:20270328T010000
END:DAYLIGHT
BEGIN:STANDARD
TZOFFSETFROM:+0100
TZOFFSETTO:+0000
TZNAME:GMT
DTSTART:20271031T010000
END:STANDARD
BEGIN:DAYLIGHT
TZOFFSETFROM:+0000
TZOFFSETTO:+0100
TZNAME:BST
DTSTART:20280326T010000
END:DAYLIGHT
BEGIN:STANDARD
TZOFFSETFROM:+0100
TZOFFSETTO:+0000
TZNAME:GMT
DTSTART:20281029T010000
END:STANDARD
END:VTIMEZONE
BEGIN:VEVENT
DTSTART;TZID=Europe/London:20260720T180000
DTEND;TZID=Europe/London:20260720T190000
DTSTAMP:20260426T050925
CREATED:20260328T103336Z
LAST-MODIFIED:20260328T104242Z
UID:10006546-1784570400-1784574000@westmidlandsfencing.org.uk
SUMMARY:Rugby And Daventry Fencing Club
DESCRIPTION:6-7 pm beginners (juniors)
URL:https://westmidlandsfencing.org.uk/event/rugby-and-daventry-fencing-club-2/2026-07-20
LOCATION:Rugby And Daventry Fencing Club\, Lodge Rd\, Daventry\, NN11 4FP\, United Kingdom
CATEGORIES:Club Night
ORGANIZER;CN="Rugby and Daventry Fencing Club":MAILTO:contact@radfencingclub.co.uk
END:VEVENT
BEGIN:VEVENT
DTSTART;TZID=Europe/London:20260727T180000
DTEND;TZID=Europe/London:20260727T190000
DTSTAMP:20260426T050925
CREATED:20260328T103336Z
LAST-MODIFIED:20260328T104242Z
UID:10006547-1785175200-1785178800@westmidlandsfencing.org.uk
SUMMARY:Rugby And Daventry Fencing Club
DESCRIPTION:6-7 pm beginners (juniors)
URL:https://westmidlandsfencing.org.uk/event/rugby-and-daventry-fencing-club-2/2026-07-27
LOCATION:Rugby And Daventry Fencing Club\, Lodge Rd\, Daventry\, NN11 4FP\, United Kingdom
CATEGORIES:Club Night
ORGANIZER;CN="Rugby and Daventry Fencing Club":MAILTO:contact@radfencingclub.co.uk
END:VEVENT
BEGIN:VEVENT
DTSTART;TZID=Europe/London:20260803T180000
DTEND;TZID=Europe/London:20260803T190000
DTSTAMP:20260426T050925
CREATED:20260328T103336Z
LAST-MODIFIED:20260328T104242Z
UID:10006548-1785780000-1785783600@westmidlandsfencing.org.uk
SUMMARY:Rugby And Daventry Fencing Club
DESCRIPTION:6-7 pm beginners (juniors)
URL:https://westmidlandsfencing.org.uk/event/rugby-and-daventry-fencing-club-2/2026-08-03
LOCATION:Rugby And Daventry Fencing Club\, Lodge Rd\, Daventry\, NN11 4FP\, United Kingdom
CATEGORIES:Club Night
ORGANIZER;CN="Rugby and Daventry Fencing Club":MAILTO:contact@radfencingclub.co.uk
END:VEVENT
BEGIN:VEVENT
DTSTART;TZID=Europe/London:20260810T180000
DTEND;TZID=Europe/London:20260810T190000
DTSTAMP:20260426T050925
CREATED:20260328T103336Z
LAST-MODIFIED:20260328T104242Z
UID:10006549-1786384800-1786388400@westmidlandsfencing.org.uk
SUMMARY:Rugby And Daventry Fencing Club
DESCRIPTION:6-7 pm beginners (juniors)
URL:https://westmidlandsfencing.org.uk/event/rugby-and-daventry-fencing-club-2/2026-08-10
LOCATION:Rugby And Daventry Fencing Club\, Lodge Rd\, Daventry\, NN11 4FP\, United Kingdom
CATEGORIES:Club Night
ORGANIZER;CN="Rugby and Daventry Fencing Club":MAILTO:contact@radfencingclub.co.uk
END:VEVENT
BEGIN:VEVENT
DTSTART;TZID=Europe/London:20260817T180000
DTEND;TZID=Europe/London:20260817T190000
DTSTAMP:20260426T050925
CREATED:20260328T103336Z
LAST-MODIFIED:20260328T104242Z
UID:10006550-1786989600-1786993200@westmidlandsfencing.org.uk
SUMMARY:Rugby And Daventry Fencing Club
DESCRIPTION:6-7 pm beginners (juniors)
URL:https://westmidlandsfencing.org.uk/event/rugby-and-daventry-fencing-club-2/2026-08-17
LOCATION:Rugby And Daventry Fencing Club\, Lodge Rd\, Daventry\, NN11 4FP\, United Kingdom
CATEGORIES:Club Night
ORGANIZER;CN="Rugby and Daventry Fencing Club":MAILTO:contact@radfencingclub.co.uk
END:VEVENT
BEGIN:VEVENT
DTSTART;TZID=Europe/London:20260824T180000
DTEND;TZID=Europe/London:20260824T190000
DTSTAMP:20260426T050925
CREATED:20260328T103336Z
LAST-MODIFIED:20260328T104242Z
UID:10006551-1787594400-1787598000@westmidlandsfencing.org.uk
SUMMARY:Rugby And Daventry Fencing Club
DESCRIPTION:6-7 pm beginners (juniors)
URL:https://westmidlandsfencing.org.uk/event/rugby-and-daventry-fencing-club-2/2026-08-24
LOCATION:Rugby And Daventry Fencing Club\, Lodge Rd\, Daventry\, NN11 4FP\, United Kingdom
CATEGORIES:Club Night
ORGANIZER;CN="Rugby and Daventry Fencing Club":MAILTO:contact@radfencingclub.co.uk
END:VEVENT
BEGIN:VEVENT
DTSTART;TZID=Europe/London:20260831T180000
DTEND;TZID=Europe/London:20260831T190000
DTSTAMP:20260426T050925
CREATED:20260328T103336Z
LAST-MODIFIED:20260328T104242Z
UID:10006552-1788199200-1788202800@westmidlandsfencing.org.uk
SUMMARY:Rugby And Daventry Fencing Club
DESCRIPTION:6-7 pm beginners (juniors)
URL:https://westmidlandsfencing.org.uk/event/rugby-and-daventry-fencing-club-2/2026-08-31
LOCATION:Rugby And Daventry Fencing Club\, Lodge Rd\, Daventry\, NN11 4FP\, United Kingdom
CATEGORIES:Club Night
ORGANIZER;CN="Rugby and Daventry Fencing Club":MAILTO:contact@radfencingclub.co.uk
END:VEVENT
BEGIN:VEVENT
DTSTART;TZID=Europe/London:20260907T180000
DTEND;TZID=Europe/London:20260907T190000
DTSTAMP:20260426T050925
CREATED:20260328T103336Z
LAST-MODIFIED:20260328T104242Z
UID:10006553-1788804000-1788807600@westmidlandsfencing.org.uk
SUMMARY:Rugby And Daventry Fencing Club
DESCRIPTION:6-7 pm beginners (juniors)
URL:https://westmidlandsfencing.org.uk/event/rugby-and-daventry-fencing-club-2/2026-09-07
LOCATION:Rugby And Daventry Fencing Club\, Lodge Rd\, Daventry\, NN11 4FP\, United Kingdom
CATEGORIES:Club Night
ORGANIZER;CN="Rugby and Daventry Fencing Club":MAILTO:contact@radfencingclub.co.uk
END:VEVENT
BEGIN:VEVENT
DTSTART;TZID=Europe/London:20260914T180000
DTEND;TZID=Europe/London:20260914T190000
DTSTAMP:20260426T050926
CREATED:20260328T103336Z
LAST-MODIFIED:20260328T104242Z
UID:10006554-1789408800-1789412400@westmidlandsfencing.org.uk
SUMMARY:Rugby And Daventry Fencing Club
DESCRIPTION:6-7 pm beginners (juniors)
URL:https://westmidlandsfencing.org.uk/event/rugby-and-daventry-fencing-club-2/2026-09-14
LOCATION:Rugby And Daventry Fencing Club\, Lodge Rd\, Daventry\, NN11 4FP\, United Kingdom
CATEGORIES:Club Night
ORGANIZER;CN="Rugby and Daventry Fencing Club":MAILTO:contact@radfencingclub.co.uk
END:VEVENT
BEGIN:VEVENT
DTSTART;TZID=Europe/London:20260921T180000
DTEND;TZID=Europe/London:20260921T190000
DTSTAMP:20260426T050926
CREATED:20260328T103336Z
LAST-MODIFIED:20260328T104242Z
UID:10006555-1790013600-1790017200@westmidlandsfencing.org.uk
SUMMARY:Rugby And Daventry Fencing Club
DESCRIPTION:6-7 pm beginners (juniors)
URL:https://westmidlandsfencing.org.uk/event/rugby-and-daventry-fencing-club-2/2026-09-21
LOCATION:Rugby And Daventry Fencing Club\, Lodge Rd\, Daventry\, NN11 4FP\, United Kingdom
CATEGORIES:Club Night
ORGANIZER;CN="Rugby and Daventry Fencing Club":MAILTO:contact@radfencingclub.co.uk
END:VEVENT
BEGIN:VEVENT
DTSTART;TZID=Europe/London:20260928T180000
DTEND;TZID=Europe/London:20260928T190000
DTSTAMP:20260426T050926
CREATED:20260328T103336Z
LAST-MODIFIED:20260328T104242Z
UID:10006556-1790618400-1790622000@westmidlandsfencing.org.uk
SUMMARY:Rugby And Daventry Fencing Club
DESCRIPTION:6-7 pm beginners (juniors)
URL:https://westmidlandsfencing.org.uk/event/rugby-and-daventry-fencing-club-2/2026-09-28
LOCATION:Rugby And Daventry Fencing Club\, Lodge Rd\, Daventry\, NN11 4FP\, United Kingdom
CATEGORIES:Club Night
ORGANIZER;CN="Rugby and Daventry Fencing Club":MAILTO:contact@radfencingclub.co.uk
END:VEVENT
BEGIN:VEVENT
DTSTART;TZID=Europe/London:20261005T180000
DTEND;TZID=Europe/London:20261005T190000
DTSTAMP:20260426T050926
CREATED:20260328T103336Z
LAST-MODIFIED:20260328T104242Z
UID:10006557-1791223200-1791226800@westmidlandsfencing.org.uk
SUMMARY:Rugby And Daventry Fencing Club
DESCRIPTION:6-7 pm beginners (juniors)
URL:https://westmidlandsfencing.org.uk/event/rugby-and-daventry-fencing-club-2/2026-10-05
LOCATION:Rugby And Daventry Fencing Club\, Lodge Rd\, Daventry\, NN11 4FP\, United Kingdom
CATEGORIES:Club Night
ORGANIZER;CN="Rugby and Daventry Fencing Club":MAILTO:contact@radfencingclub.co.uk
END:VEVENT
BEGIN:VEVENT
DTSTART;TZID=Europe/London:20261012T180000
DTEND;TZID=Europe/London:20261012T190000
DTSTAMP:20260426T050926
CREATED:20260328T103336Z
LAST-MODIFIED:20260328T104242Z
UID:10006558-1791828000-1791831600@westmidlandsfencing.org.uk
SUMMARY:Rugby And Daventry Fencing Club
DESCRIPTION:6-7 pm beginners (juniors)
URL:https://westmidlandsfencing.org.uk/event/rugby-and-daventry-fencing-club-2/2026-10-12
LOCATION:Rugby And Daventry Fencing Club\, Lodge Rd\, Daventry\, NN11 4FP\, United Kingdom
CATEGORIES:Club Night
ORGANIZER;CN="Rugby and Daventry Fencing Club":MAILTO:contact@radfencingclub.co.uk
END:VEVENT
BEGIN:VEVENT
DTSTART;TZID=Europe/London:20261019T180000
DTEND;TZID=Europe/London:20261019T190000
DTSTAMP:20260426T050926
CREATED:20260328T103336Z
LAST-MODIFIED:20260328T104242Z
UID:10006559-1792432800-1792436400@westmidlandsfencing.org.uk
SUMMARY:Rugby And Daventry Fencing Club
DESCRIPTION:6-7 pm beginners (juniors)
URL:https://westmidlandsfencing.org.uk/event/rugby-and-daventry-fencing-club-2/2026-10-19
LOCATION:Rugby And Daventry Fencing Club\, Lodge Rd\, Daventry\, NN11 4FP\, United Kingdom
CATEGORIES:Club Night
ORGANIZER;CN="Rugby and Daventry Fencing Club":MAILTO:contact@radfencingclub.co.uk
END:VEVENT
BEGIN:VEVENT
DTSTART;TZID=Europe/London:20261026T180000
DTEND;TZID=Europe/London:20261026T190000
DTSTAMP:20260426T050926
CREATED:20260328T103336Z
LAST-MODIFIED:20260328T104242Z
UID:10006560-1793037600-1793041200@westmidlandsfencing.org.uk
SUMMARY:Rugby And Daventry Fencing Club
DESCRIPTION:6-7 pm beginners (juniors)
URL:https://westmidlandsfencing.org.uk/event/rugby-and-daventry-fencing-club-2/2026-10-26
LOCATION:Rugby And Daventry Fencing Club\, Lodge Rd\, Daventry\, NN11 4FP\, United Kingdom
CATEGORIES:Club Night
ORGANIZER;CN="Rugby and Daventry Fencing Club":MAILTO:contact@radfencingclub.co.uk
END:VEVENT
BEGIN:VEVENT
DTSTART;TZID=Europe/London:20261102T180000
DTEND;TZID=Europe/London:20261102T190000
DTSTAMP:20260426T050926
CREATED:20260328T103336Z
LAST-MODIFIED:20260328T104242Z
UID:10006561-1793642400-1793646000@westmidlandsfencing.org.uk
SUMMARY:Rugby And Daventry Fencing Club
DESCRIPTION:6-7 pm beginners (juniors)
URL:https://westmidlandsfencing.org.uk/event/rugby-and-daventry-fencing-club-2/2026-11-02
LOCATION:Rugby And Daventry Fencing Club\, Lodge Rd\, Daventry\, NN11 4FP\, United Kingdom
CATEGORIES:Club Night
ORGANIZER;CN="Rugby and Daventry Fencing Club":MAILTO:contact@radfencingclub.co.uk
END:VEVENT
BEGIN:VEVENT
DTSTART;TZID=Europe/London:20261109T180000
DTEND;TZID=Europe/London:20261109T190000
DTSTAMP:20260426T050926
CREATED:20260328T103336Z
LAST-MODIFIED:20260328T104242Z
UID:10006562-1794247200-1794250800@westmidlandsfencing.org.uk
SUMMARY:Rugby And Daventry Fencing Club
DESCRIPTION:6-7 pm beginners (juniors)
URL:https://westmidlandsfencing.org.uk/event/rugby-and-daventry-fencing-club-2/2026-11-09
LOCATION:Rugby And Daventry Fencing Club\, Lodge Rd\, Daventry\, NN11 4FP\, United Kingdom
CATEGORIES:Club Night
ORGANIZER;CN="Rugby and Daventry Fencing Club":MAILTO:contact@radfencingclub.co.uk
END:VEVENT
BEGIN:VEVENT
DTSTART;TZID=Europe/London:20261116T180000
DTEND;TZID=Europe/London:20261116T190000
DTSTAMP:20260426T050926
CREATED:20260328T103336Z
LAST-MODIFIED:20260328T104242Z
UID:10006563-1794852000-1794855600@westmidlandsfencing.org.uk
SUMMARY:Rugby And Daventry Fencing Club
DESCRIPTION:6-7 pm beginners (juniors)
URL:https://westmidlandsfencing.org.uk/event/rugby-and-daventry-fencing-club-2/2026-11-16
LOCATION:Rugby And Daventry Fencing Club\, Lodge Rd\, Daventry\, NN11 4FP\, United Kingdom
CATEGORIES:Club Night
ORGANIZER;CN="Rugby and Daventry Fencing Club":MAILTO:contact@radfencingclub.co.uk
END:VEVENT
BEGIN:VEVENT
DTSTART;TZID=Europe/London:20261123T180000
DTEND;TZID=Europe/London:20261123T190000
DTSTAMP:20260426T050926
CREATED:20260328T103336Z
LAST-MODIFIED:20260328T104242Z
UID:10006564-1795456800-1795460400@westmidlandsfencing.org.uk
SUMMARY:Rugby And Daventry Fencing Club
DESCRIPTION:6-7 pm beginners (juniors)
URL:https://westmidlandsfencing.org.uk/event/rugby-and-daventry-fencing-club-2/2026-11-23
LOCATION:Rugby And Daventry Fencing Club\, Lodge Rd\, Daventry\, NN11 4FP\, United Kingdom
CATEGORIES:Club Night
ORGANIZER;CN="Rugby and Daventry Fencing Club":MAILTO:contact@radfencingclub.co.uk
END:VEVENT
BEGIN:VEVENT
DTSTART;TZID=Europe/London:20261130T180000
DTEND;TZID=Europe/London:20261130T190000
DTSTAMP:20260426T050926
CREATED:20260328T103336Z
LAST-MODIFIED:20260328T104242Z
UID:10006565-1796061600-1796065200@westmidlandsfencing.org.uk
SUMMARY:Rugby And Daventry Fencing Club
DESCRIPTION:6-7 pm beginners (juniors)
URL:https://westmidlandsfencing.org.uk/event/rugby-and-daventry-fencing-club-2/2026-11-30
LOCATION:Rugby And Daventry Fencing Club\, Lodge Rd\, Daventry\, NN11 4FP\, United Kingdom
CATEGORIES:Club Night
ORGANIZER;CN="Rugby and Daventry Fencing Club":MAILTO:contact@radfencingclub.co.uk
END:VEVENT
BEGIN:VEVENT
DTSTART;TZID=Europe/London:20261207T180000
DTEND;TZID=Europe/London:20261207T190000
DTSTAMP:20260426T050926
CREATED:20260328T103336Z
LAST-MODIFIED:20260328T104242Z
UID:10006566-1796666400-1796670000@westmidlandsfencing.org.uk
SUMMARY:Rugby And Daventry Fencing Club
DESCRIPTION:6-7 pm beginners (juniors)
URL:https://westmidlandsfencing.org.uk/event/rugby-and-daventry-fencing-club-2/2026-12-07
LOCATION:Rugby And Daventry Fencing Club\, Lodge Rd\, Daventry\, NN11 4FP\, United Kingdom
CATEGORIES:Club Night
ORGANIZER;CN="Rugby and Daventry Fencing Club":MAILTO:contact@radfencingclub.co.uk
END:VEVENT
BEGIN:VEVENT
DTSTART;TZID=Europe/London:20261214T180000
DTEND;TZID=Europe/London:20261214T190000
DTSTAMP:20260426T050926
CREATED:20260328T103336Z
LAST-MODIFIED:20260328T104242Z
UID:10006567-1797271200-1797274800@westmidlandsfencing.org.uk
SUMMARY:Rugby And Daventry Fencing Club
DESCRIPTION:6-7 pm beginners (juniors)
URL:https://westmidlandsfencing.org.uk/event/rugby-and-daventry-fencing-club-2/2026-12-14
LOCATION:Rugby And Daventry Fencing Club\, Lodge Rd\, Daventry\, NN11 4FP\, United Kingdom
CATEGORIES:Club Night
ORGANIZER;CN="Rugby and Daventry Fencing Club":MAILTO:contact@radfencingclub.co.uk
END:VEVENT
BEGIN:VEVENT
DTSTART;TZID=Europe/London:20261221T180000
DTEND;TZID=Europe/London:20261221T190000
DTSTAMP:20260426T050926
CREATED:20260328T103336Z
LAST-MODIFIED:20260328T104242Z
UID:10006568-1797876000-1797879600@westmidlandsfencing.org.uk
SUMMARY:Rugby And Daventry Fencing Club
DESCRIPTION:6-7 pm beginners (juniors)
URL:https://westmidlandsfencing.org.uk/event/rugby-and-daventry-fencing-club-2/2026-12-21
LOCATION:Rugby And Daventry Fencing Club\, Lodge Rd\, Daventry\, NN11 4FP\, United Kingdom
CATEGORIES:Club Night
ORGANIZER;CN="Rugby and Daventry Fencing Club":MAILTO:contact@radfencingclub.co.uk
END:VEVENT
BEGIN:VEVENT
DTSTART;TZID=Europe/London:20261228T180000
DTEND;TZID=Europe/London:20261228T190000
DTSTAMP:20260426T050926
CREATED:20260328T103336Z
LAST-MODIFIED:20260328T104242Z
UID:10006569-1798480800-1798484400@westmidlandsfencing.org.uk
SUMMARY:Rugby And Daventry Fencing Club
DESCRIPTION:6-7 pm beginners (juniors)
URL:https://westmidlandsfencing.org.uk/event/rugby-and-daventry-fencing-club-2/2026-12-28
LOCATION:Rugby And Daventry Fencing Club\, Lodge Rd\, Daventry\, NN11 4FP\, United Kingdom
CATEGORIES:Club Night
ORGANIZER;CN="Rugby and Daventry Fencing Club":MAILTO:contact@radfencingclub.co.uk
END:VEVENT
BEGIN:VEVENT
DTSTART;TZID=Europe/London:20270104T180000
DTEND;TZID=Europe/London:20270104T190000
DTSTAMP:20260426T050926
CREATED:20260328T103336Z
LAST-MODIFIED:20260328T104242Z
UID:10006570-1799085600-1799089200@westmidlandsfencing.org.uk
SUMMARY:Rugby And Daventry Fencing Club
DESCRIPTION:6-7 pm beginners (juniors)
URL:https://westmidlandsfencing.org.uk/event/rugby-and-daventry-fencing-club-2/2027-01-04
LOCATION:Rugby And Daventry Fencing Club\, Lodge Rd\, Daventry\, NN11 4FP\, United Kingdom
CATEGORIES:Club Night
ORGANIZER;CN="Rugby and Daventry Fencing Club":MAILTO:contact@radfencingclub.co.uk
END:VEVENT
BEGIN:VEVENT
DTSTART;TZID=Europe/London:20270111T180000
DTEND;TZID=Europe/London:20270111T190000
DTSTAMP:20260426T050926
CREATED:20260328T103336Z
LAST-MODIFIED:20260328T104242Z
UID:10006571-1799690400-1799694000@westmidlandsfencing.org.uk
SUMMARY:Rugby And Daventry Fencing Club
DESCRIPTION:6-7 pm beginners (juniors)
URL:https://westmidlandsfencing.org.uk/event/rugby-and-daventry-fencing-club-2/2027-01-11
LOCATION:Rugby And Daventry Fencing Club\, Lodge Rd\, Daventry\, NN11 4FP\, United Kingdom
CATEGORIES:Club Night
ORGANIZER;CN="Rugby and Daventry Fencing Club":MAILTO:contact@radfencingclub.co.uk
END:VEVENT
BEGIN:VEVENT
DTSTART;TZID=Europe/London:20270118T180000
DTEND;TZID=Europe/London:20270118T190000
DTSTAMP:20260426T050926
CREATED:20260328T103336Z
LAST-MODIFIED:20260328T104242Z
UID:10006572-1800295200-1800298800@westmidlandsfencing.org.uk
SUMMARY:Rugby And Daventry Fencing Club
DESCRIPTION:6-7 pm beginners (juniors)
URL:https://westmidlandsfencing.org.uk/event/rugby-and-daventry-fencing-club-2/2027-01-18
LOCATION:Rugby And Daventry Fencing Club\, Lodge Rd\, Daventry\, NN11 4FP\, United Kingdom
CATEGORIES:Club Night
ORGANIZER;CN="Rugby and Daventry Fencing Club":MAILTO:contact@radfencingclub.co.uk
END:VEVENT
BEGIN:VEVENT
DTSTART;TZID=Europe/London:20270125T180000
DTEND;TZID=Europe/London:20270125T190000
DTSTAMP:20260426T050926
CREATED:20260328T103336Z
LAST-MODIFIED:20260328T104242Z
UID:10006573-1800900000-1800903600@westmidlandsfencing.org.uk
SUMMARY:Rugby And Daventry Fencing Club
DESCRIPTION:6-7 pm beginners (juniors)
URL:https://westmidlandsfencing.org.uk/event/rugby-and-daventry-fencing-club-2/2027-01-25
LOCATION:Rugby And Daventry Fencing Club\, Lodge Rd\, Daventry\, NN11 4FP\, United Kingdom
CATEGORIES:Club Night
ORGANIZER;CN="Rugby and Daventry Fencing Club":MAILTO:contact@radfencingclub.co.uk
END:VEVENT
BEGIN:VEVENT
DTSTART;TZID=Europe/London:20270201T180000
DTEND;TZID=Europe/London:20270201T190000
DTSTAMP:20260426T050926
CREATED:20260328T103336Z
LAST-MODIFIED:20260328T104242Z
UID:10006574-1801504800-1801508400@westmidlandsfencing.org.uk
SUMMARY:Rugby And Daventry Fencing Club
DESCRIPTION:6-7 pm beginners (juniors)
URL:https://westmidlandsfencing.org.uk/event/rugby-and-daventry-fencing-club-2/2027-02-01
LOCATION:Rugby And Daventry Fencing Club\, Lodge Rd\, Daventry\, NN11 4FP\, United Kingdom
CATEGORIES:Club Night
ORGANIZER;CN="Rugby and Daventry Fencing Club":MAILTO:contact@radfencingclub.co.uk
END:VEVENT
BEGIN:VEVENT
DTSTART;TZID=Europe/London:20270208T180000
DTEND;TZID=Europe/London:20270208T190000
DTSTAMP:20260426T050926
CREATED:20260328T103336Z
LAST-MODIFIED:20260328T104242Z
UID:10006575-1802109600-1802113200@westmidlandsfencing.org.uk
SUMMARY:Rugby And Daventry Fencing Club
DESCRIPTION:6-7 pm beginners (juniors)
URL:https://westmidlandsfencing.org.uk/event/rugby-and-daventry-fencing-club-2/2027-02-08
LOCATION:Rugby And Daventry Fencing Club\, Lodge Rd\, Daventry\, NN11 4FP\, United Kingdom
CATEGORIES:Club Night
ORGANIZER;CN="Rugby and Daventry Fencing Club":MAILTO:contact@radfencingclub.co.uk
END:VEVENT
END:VCALENDAR