BEGIN:VCALENDAR
VERSION:2.0
PRODID:-//West Midlands Region Fencing - ECPv6.15.20//NONSGML v1.0//EN
CALSCALE:GREGORIAN
METHOD:PUBLISH
X-ORIGINAL-URL:https://westmidlandsfencing.org.uk
X-WR-CALDESC:Events for West Midlands Region Fencing
REFRESH-INTERVAL;VALUE=DURATION:PT1H
X-Robots-Tag:noindex
X-PUBLISHED-TTL:PT1H
BEGIN:VTIMEZONE
TZID:Europe/London
BEGIN:DAYLIGHT
TZOFFSETFROM:+0000
TZOFFSETTO:+0100
TZNAME:BST
DTSTART:20260329T010000
END:DAYLIGHT
BEGIN:STANDARD
TZOFFSETFROM:+0100
TZOFFSETTO:+0000
TZNAME:GMT
DTSTART:20261025T010000
END:STANDARD
BEGIN:DAYLIGHT
TZOFFSETFROM:+0000
TZOFFSETTO:+0100
TZNAME:BST
DTSTART:20270328T010000
END:DAYLIGHT
BEGIN:STANDARD
TZOFFSETFROM:+0100
TZOFFSETTO:+0000
TZNAME:GMT
DTSTART:20271031T010000
END:STANDARD
BEGIN:DAYLIGHT
TZOFFSETFROM:+0000
TZOFFSETTO:+0100
TZNAME:BST
DTSTART:20280326T010000
END:DAYLIGHT
BEGIN:STANDARD
TZOFFSETFROM:+0100
TZOFFSETTO:+0000
TZNAME:GMT
DTSTART:20281029T010000
END:STANDARD
BEGIN:DAYLIGHT
TZOFFSETFROM:+0000
TZOFFSETTO:+0100
TZNAME:BST
DTSTART:20290325T010000
END:DAYLIGHT
BEGIN:STANDARD
TZOFFSETFROM:+0100
TZOFFSETTO:+0000
TZNAME:GMT
DTSTART:20291028T010000
END:STANDARD
END:VTIMEZONE
BEGIN:VEVENT
DTSTART;TZID=Europe/London:20270616T180000
DTEND;TZID=Europe/London:20270616T210000
DTSTAMP:20260420T101825
CREATED:20260327T164008Z
LAST-MODIFIED:20260327T164008Z
UID:10004765-1813168800-1813179600@westmidlandsfencing.org.uk
SUMMARY:Malvern Hills Sword Fencing
DESCRIPTION:Our Sessions:\n\n\nThe club welcomes all at their training sessions: \nEvery Wednesday: \n\n\n\n6pm – 7pm : Juniors and Beginners\n\n£6 per session\n\n\n7pm – 9pm : Experienced Fencers / Seniors\n\n£10 per session\n\n\n\n\n\nEquipment and basic coaching can be provided.
URL:https://westmidlandsfencing.org.uk/event/malvern-hills-sword-fencing/2027-06-16
LOCATION:Sport Dyson Perrins Leisure Centre\, Yates Hay Road\, Malvern\, Worcestershire\, WR14 1WD\, United Kingdom
CATEGORIES:Club Night
END:VEVENT
BEGIN:VEVENT
DTSTART;TZID=Europe/London:20270623T180000
DTEND;TZID=Europe/London:20270623T210000
DTSTAMP:20260420T101825
CREATED:20260327T164008Z
LAST-MODIFIED:20260327T164008Z
UID:10004766-1813773600-1813784400@westmidlandsfencing.org.uk
SUMMARY:Malvern Hills Sword Fencing
DESCRIPTION:Our Sessions:\n\n\nThe club welcomes all at their training sessions: \nEvery Wednesday: \n\n\n\n6pm – 7pm : Juniors and Beginners\n\n£6 per session\n\n\n7pm – 9pm : Experienced Fencers / Seniors\n\n£10 per session\n\n\n\n\n\nEquipment and basic coaching can be provided.
URL:https://westmidlandsfencing.org.uk/event/malvern-hills-sword-fencing/2027-06-23
LOCATION:Sport Dyson Perrins Leisure Centre\, Yates Hay Road\, Malvern\, Worcestershire\, WR14 1WD\, United Kingdom
CATEGORIES:Club Night
END:VEVENT
BEGIN:VEVENT
DTSTART;TZID=Europe/London:20270630T180000
DTEND;TZID=Europe/London:20270630T210000
DTSTAMP:20260420T101825
CREATED:20260327T164008Z
LAST-MODIFIED:20260327T164008Z
UID:10004767-1814378400-1814389200@westmidlandsfencing.org.uk
SUMMARY:Malvern Hills Sword Fencing
DESCRIPTION:Our Sessions:\n\n\nThe club welcomes all at their training sessions: \nEvery Wednesday: \n\n\n\n6pm – 7pm : Juniors and Beginners\n\n£6 per session\n\n\n7pm – 9pm : Experienced Fencers / Seniors\n\n£10 per session\n\n\n\n\n\nEquipment and basic coaching can be provided.
URL:https://westmidlandsfencing.org.uk/event/malvern-hills-sword-fencing/2027-06-30
LOCATION:Sport Dyson Perrins Leisure Centre\, Yates Hay Road\, Malvern\, Worcestershire\, WR14 1WD\, United Kingdom
CATEGORIES:Club Night
END:VEVENT
BEGIN:VEVENT
DTSTART;TZID=Europe/London:20270707T180000
DTEND;TZID=Europe/London:20270707T210000
DTSTAMP:20260420T101825
CREATED:20260327T164008Z
LAST-MODIFIED:20260327T164008Z
UID:10004768-1814983200-1814994000@westmidlandsfencing.org.uk
SUMMARY:Malvern Hills Sword Fencing
DESCRIPTION:Our Sessions:\n\n\nThe club welcomes all at their training sessions: \nEvery Wednesday: \n\n\n\n6pm – 7pm : Juniors and Beginners\n\n£6 per session\n\n\n7pm – 9pm : Experienced Fencers / Seniors\n\n£10 per session\n\n\n\n\n\nEquipment and basic coaching can be provided.
URL:https://westmidlandsfencing.org.uk/event/malvern-hills-sword-fencing/2027-07-07
LOCATION:Sport Dyson Perrins Leisure Centre\, Yates Hay Road\, Malvern\, Worcestershire\, WR14 1WD\, United Kingdom
CATEGORIES:Club Night
END:VEVENT
BEGIN:VEVENT
DTSTART;TZID=Europe/London:20270714T180000
DTEND;TZID=Europe/London:20270714T210000
DTSTAMP:20260420T101825
CREATED:20260327T164008Z
LAST-MODIFIED:20260327T164008Z
UID:10004769-1815588000-1815598800@westmidlandsfencing.org.uk
SUMMARY:Malvern Hills Sword Fencing
DESCRIPTION:Our Sessions:\n\n\nThe club welcomes all at their training sessions: \nEvery Wednesday: \n\n\n\n6pm – 7pm : Juniors and Beginners\n\n£6 per session\n\n\n7pm – 9pm : Experienced Fencers / Seniors\n\n£10 per session\n\n\n\n\n\nEquipment and basic coaching can be provided.
URL:https://westmidlandsfencing.org.uk/event/malvern-hills-sword-fencing/2027-07-14
LOCATION:Sport Dyson Perrins Leisure Centre\, Yates Hay Road\, Malvern\, Worcestershire\, WR14 1WD\, United Kingdom
CATEGORIES:Club Night
END:VEVENT
BEGIN:VEVENT
DTSTART;TZID=Europe/London:20270721T180000
DTEND;TZID=Europe/London:20270721T210000
DTSTAMP:20260420T101825
CREATED:20260327T164008Z
LAST-MODIFIED:20260327T164008Z
UID:10004770-1816192800-1816203600@westmidlandsfencing.org.uk
SUMMARY:Malvern Hills Sword Fencing
DESCRIPTION:Our Sessions:\n\n\nThe club welcomes all at their training sessions: \nEvery Wednesday: \n\n\n\n6pm – 7pm : Juniors and Beginners\n\n£6 per session\n\n\n7pm – 9pm : Experienced Fencers / Seniors\n\n£10 per session\n\n\n\n\n\nEquipment and basic coaching can be provided.
URL:https://westmidlandsfencing.org.uk/event/malvern-hills-sword-fencing/2027-07-21
LOCATION:Sport Dyson Perrins Leisure Centre\, Yates Hay Road\, Malvern\, Worcestershire\, WR14 1WD\, United Kingdom
CATEGORIES:Club Night
END:VEVENT
BEGIN:VEVENT
DTSTART;TZID=Europe/London:20270728T180000
DTEND;TZID=Europe/London:20270728T210000
DTSTAMP:20260420T101825
CREATED:20260327T164008Z
LAST-MODIFIED:20260327T164008Z
UID:10004771-1816797600-1816808400@westmidlandsfencing.org.uk
SUMMARY:Malvern Hills Sword Fencing
DESCRIPTION:Our Sessions:\n\n\nThe club welcomes all at their training sessions: \nEvery Wednesday: \n\n\n\n6pm – 7pm : Juniors and Beginners\n\n£6 per session\n\n\n7pm – 9pm : Experienced Fencers / Seniors\n\n£10 per session\n\n\n\n\n\nEquipment and basic coaching can be provided.
URL:https://westmidlandsfencing.org.uk/event/malvern-hills-sword-fencing/2027-07-28
LOCATION:Sport Dyson Perrins Leisure Centre\, Yates Hay Road\, Malvern\, Worcestershire\, WR14 1WD\, United Kingdom
CATEGORIES:Club Night
END:VEVENT
BEGIN:VEVENT
DTSTART;TZID=Europe/London:20270804T180000
DTEND;TZID=Europe/London:20270804T210000
DTSTAMP:20260420T101825
CREATED:20260327T164008Z
LAST-MODIFIED:20260327T164008Z
UID:10004772-1817402400-1817413200@westmidlandsfencing.org.uk
SUMMARY:Malvern Hills Sword Fencing
DESCRIPTION:Our Sessions:\n\n\nThe club welcomes all at their training sessions: \nEvery Wednesday: \n\n\n\n6pm – 7pm : Juniors and Beginners\n\n£6 per session\n\n\n7pm – 9pm : Experienced Fencers / Seniors\n\n£10 per session\n\n\n\n\n\nEquipment and basic coaching can be provided.
URL:https://westmidlandsfencing.org.uk/event/malvern-hills-sword-fencing/2027-08-04
LOCATION:Sport Dyson Perrins Leisure Centre\, Yates Hay Road\, Malvern\, Worcestershire\, WR14 1WD\, United Kingdom
CATEGORIES:Club Night
END:VEVENT
BEGIN:VEVENT
DTSTART;TZID=Europe/London:20270811T180000
DTEND;TZID=Europe/London:20270811T210000
DTSTAMP:20260420T101825
CREATED:20260327T164008Z
LAST-MODIFIED:20260327T164008Z
UID:10004773-1818007200-1818018000@westmidlandsfencing.org.uk
SUMMARY:Malvern Hills Sword Fencing
DESCRIPTION:Our Sessions:\n\n\nThe club welcomes all at their training sessions: \nEvery Wednesday: \n\n\n\n6pm – 7pm : Juniors and Beginners\n\n£6 per session\n\n\n7pm – 9pm : Experienced Fencers / Seniors\n\n£10 per session\n\n\n\n\n\nEquipment and basic coaching can be provided.
URL:https://westmidlandsfencing.org.uk/event/malvern-hills-sword-fencing/2027-08-11
LOCATION:Sport Dyson Perrins Leisure Centre\, Yates Hay Road\, Malvern\, Worcestershire\, WR14 1WD\, United Kingdom
CATEGORIES:Club Night
END:VEVENT
BEGIN:VEVENT
DTSTART;TZID=Europe/London:20270818T180000
DTEND;TZID=Europe/London:20270818T210000
DTSTAMP:20260420T101825
CREATED:20260327T164008Z
LAST-MODIFIED:20260327T164008Z
UID:10004774-1818612000-1818622800@westmidlandsfencing.org.uk
SUMMARY:Malvern Hills Sword Fencing
DESCRIPTION:Our Sessions:\n\n\nThe club welcomes all at their training sessions: \nEvery Wednesday: \n\n\n\n6pm – 7pm : Juniors and Beginners\n\n£6 per session\n\n\n7pm – 9pm : Experienced Fencers / Seniors\n\n£10 per session\n\n\n\n\n\nEquipment and basic coaching can be provided.
URL:https://westmidlandsfencing.org.uk/event/malvern-hills-sword-fencing/2027-08-18
LOCATION:Sport Dyson Perrins Leisure Centre\, Yates Hay Road\, Malvern\, Worcestershire\, WR14 1WD\, United Kingdom
CATEGORIES:Club Night
END:VEVENT
BEGIN:VEVENT
DTSTART;TZID=Europe/London:20270825T180000
DTEND;TZID=Europe/London:20270825T210000
DTSTAMP:20260420T101825
CREATED:20260327T164008Z
LAST-MODIFIED:20260327T164008Z
UID:10004775-1819216800-1819227600@westmidlandsfencing.org.uk
SUMMARY:Malvern Hills Sword Fencing
DESCRIPTION:Our Sessions:\n\n\nThe club welcomes all at their training sessions: \nEvery Wednesday: \n\n\n\n6pm – 7pm : Juniors and Beginners\n\n£6 per session\n\n\n7pm – 9pm : Experienced Fencers / Seniors\n\n£10 per session\n\n\n\n\n\nEquipment and basic coaching can be provided.
URL:https://westmidlandsfencing.org.uk/event/malvern-hills-sword-fencing/2027-08-25
LOCATION:Sport Dyson Perrins Leisure Centre\, Yates Hay Road\, Malvern\, Worcestershire\, WR14 1WD\, United Kingdom
CATEGORIES:Club Night
END:VEVENT
BEGIN:VEVENT
DTSTART;TZID=Europe/London:20270901T180000
DTEND;TZID=Europe/London:20270901T210000
DTSTAMP:20260420T101825
CREATED:20260327T164008Z
LAST-MODIFIED:20260327T164008Z
UID:10004776-1819821600-1819832400@westmidlandsfencing.org.uk
SUMMARY:Malvern Hills Sword Fencing
DESCRIPTION:Our Sessions:\n\n\nThe club welcomes all at their training sessions: \nEvery Wednesday: \n\n\n\n6pm – 7pm : Juniors and Beginners\n\n£6 per session\n\n\n7pm – 9pm : Experienced Fencers / Seniors\n\n£10 per session\n\n\n\n\n\nEquipment and basic coaching can be provided.
URL:https://westmidlandsfencing.org.uk/event/malvern-hills-sword-fencing/2027-09-01
LOCATION:Sport Dyson Perrins Leisure Centre\, Yates Hay Road\, Malvern\, Worcestershire\, WR14 1WD\, United Kingdom
CATEGORIES:Club Night
END:VEVENT
BEGIN:VEVENT
DTSTART;TZID=Europe/London:20270908T180000
DTEND;TZID=Europe/London:20270908T210000
DTSTAMP:20260420T101825
CREATED:20260327T164008Z
LAST-MODIFIED:20260327T164008Z
UID:10004777-1820426400-1820437200@westmidlandsfencing.org.uk
SUMMARY:Malvern Hills Sword Fencing
DESCRIPTION:Our Sessions:\n\n\nThe club welcomes all at their training sessions: \nEvery Wednesday: \n\n\n\n6pm – 7pm : Juniors and Beginners\n\n£6 per session\n\n\n7pm – 9pm : Experienced Fencers / Seniors\n\n£10 per session\n\n\n\n\n\nEquipment and basic coaching can be provided.
URL:https://westmidlandsfencing.org.uk/event/malvern-hills-sword-fencing/2027-09-08
LOCATION:Sport Dyson Perrins Leisure Centre\, Yates Hay Road\, Malvern\, Worcestershire\, WR14 1WD\, United Kingdom
CATEGORIES:Club Night
END:VEVENT
BEGIN:VEVENT
DTSTART;TZID=Europe/London:20270915T180000
DTEND;TZID=Europe/London:20270915T210000
DTSTAMP:20260420T101825
CREATED:20260327T164008Z
LAST-MODIFIED:20260327T164008Z
UID:10004778-1821031200-1821042000@westmidlandsfencing.org.uk
SUMMARY:Malvern Hills Sword Fencing
DESCRIPTION:Our Sessions:\n\n\nThe club welcomes all at their training sessions: \nEvery Wednesday: \n\n\n\n6pm – 7pm : Juniors and Beginners\n\n£6 per session\n\n\n7pm – 9pm : Experienced Fencers / Seniors\n\n£10 per session\n\n\n\n\n\nEquipment and basic coaching can be provided.
URL:https://westmidlandsfencing.org.uk/event/malvern-hills-sword-fencing/2027-09-15
LOCATION:Sport Dyson Perrins Leisure Centre\, Yates Hay Road\, Malvern\, Worcestershire\, WR14 1WD\, United Kingdom
CATEGORIES:Club Night
END:VEVENT
BEGIN:VEVENT
DTSTART;TZID=Europe/London:20270922T180000
DTEND;TZID=Europe/London:20270922T210000
DTSTAMP:20260420T101825
CREATED:20260327T164008Z
LAST-MODIFIED:20260327T164008Z
UID:10004779-1821636000-1821646800@westmidlandsfencing.org.uk
SUMMARY:Malvern Hills Sword Fencing
DESCRIPTION:Our Sessions:\n\n\nThe club welcomes all at their training sessions: \nEvery Wednesday: \n\n\n\n6pm – 7pm : Juniors and Beginners\n\n£6 per session\n\n\n7pm – 9pm : Experienced Fencers / Seniors\n\n£10 per session\n\n\n\n\n\nEquipment and basic coaching can be provided.
URL:https://westmidlandsfencing.org.uk/event/malvern-hills-sword-fencing/2027-09-22
LOCATION:Sport Dyson Perrins Leisure Centre\, Yates Hay Road\, Malvern\, Worcestershire\, WR14 1WD\, United Kingdom
CATEGORIES:Club Night
END:VEVENT
BEGIN:VEVENT
DTSTART;TZID=Europe/London:20270929T180000
DTEND;TZID=Europe/London:20270929T210000
DTSTAMP:20260420T101825
CREATED:20260327T164008Z
LAST-MODIFIED:20260327T164008Z
UID:10004780-1822240800-1822251600@westmidlandsfencing.org.uk
SUMMARY:Malvern Hills Sword Fencing
DESCRIPTION:Our Sessions:\n\n\nThe club welcomes all at their training sessions: \nEvery Wednesday: \n\n\n\n6pm – 7pm : Juniors and Beginners\n\n£6 per session\n\n\n7pm – 9pm : Experienced Fencers / Seniors\n\n£10 per session\n\n\n\n\n\nEquipment and basic coaching can be provided.
URL:https://westmidlandsfencing.org.uk/event/malvern-hills-sword-fencing/2027-09-29
LOCATION:Sport Dyson Perrins Leisure Centre\, Yates Hay Road\, Malvern\, Worcestershire\, WR14 1WD\, United Kingdom
CATEGORIES:Club Night
END:VEVENT
BEGIN:VEVENT
DTSTART;TZID=Europe/London:20271006T180000
DTEND;TZID=Europe/London:20271006T210000
DTSTAMP:20260420T101825
CREATED:20260327T164008Z
LAST-MODIFIED:20260327T164008Z
UID:10004781-1822845600-1822856400@westmidlandsfencing.org.uk
SUMMARY:Malvern Hills Sword Fencing
DESCRIPTION:Our Sessions:\n\n\nThe club welcomes all at their training sessions: \nEvery Wednesday: \n\n\n\n6pm – 7pm : Juniors and Beginners\n\n£6 per session\n\n\n7pm – 9pm : Experienced Fencers / Seniors\n\n£10 per session\n\n\n\n\n\nEquipment and basic coaching can be provided.
URL:https://westmidlandsfencing.org.uk/event/malvern-hills-sword-fencing/2027-10-06
LOCATION:Sport Dyson Perrins Leisure Centre\, Yates Hay Road\, Malvern\, Worcestershire\, WR14 1WD\, United Kingdom
CATEGORIES:Club Night
END:VEVENT
BEGIN:VEVENT
DTSTART;TZID=Europe/London:20271013T180000
DTEND;TZID=Europe/London:20271013T210000
DTSTAMP:20260420T101825
CREATED:20260327T164008Z
LAST-MODIFIED:20260327T164008Z
UID:10004782-1823450400-1823461200@westmidlandsfencing.org.uk
SUMMARY:Malvern Hills Sword Fencing
DESCRIPTION:Our Sessions:\n\n\nThe club welcomes all at their training sessions: \nEvery Wednesday: \n\n\n\n6pm – 7pm : Juniors and Beginners\n\n£6 per session\n\n\n7pm – 9pm : Experienced Fencers / Seniors\n\n£10 per session\n\n\n\n\n\nEquipment and basic coaching can be provided.
URL:https://westmidlandsfencing.org.uk/event/malvern-hills-sword-fencing/2027-10-13
LOCATION:Sport Dyson Perrins Leisure Centre\, Yates Hay Road\, Malvern\, Worcestershire\, WR14 1WD\, United Kingdom
CATEGORIES:Club Night
END:VEVENT
BEGIN:VEVENT
DTSTART;TZID=Europe/London:20271020T180000
DTEND;TZID=Europe/London:20271020T210000
DTSTAMP:20260420T101825
CREATED:20260327T164008Z
LAST-MODIFIED:20260327T164008Z
UID:10004783-1824055200-1824066000@westmidlandsfencing.org.uk
SUMMARY:Malvern Hills Sword Fencing
DESCRIPTION:Our Sessions:\n\n\nThe club welcomes all at their training sessions: \nEvery Wednesday: \n\n\n\n6pm – 7pm : Juniors and Beginners\n\n£6 per session\n\n\n7pm – 9pm : Experienced Fencers / Seniors\n\n£10 per session\n\n\n\n\n\nEquipment and basic coaching can be provided.
URL:https://westmidlandsfencing.org.uk/event/malvern-hills-sword-fencing/2027-10-20
LOCATION:Sport Dyson Perrins Leisure Centre\, Yates Hay Road\, Malvern\, Worcestershire\, WR14 1WD\, United Kingdom
CATEGORIES:Club Night
END:VEVENT
BEGIN:VEVENT
DTSTART;TZID=Europe/London:20271027T180000
DTEND;TZID=Europe/London:20271027T210000
DTSTAMP:20260420T101825
CREATED:20260327T164008Z
LAST-MODIFIED:20260327T164008Z
UID:10004784-1824660000-1824670800@westmidlandsfencing.org.uk
SUMMARY:Malvern Hills Sword Fencing
DESCRIPTION:Our Sessions:\n\n\nThe club welcomes all at their training sessions: \nEvery Wednesday: \n\n\n\n6pm – 7pm : Juniors and Beginners\n\n£6 per session\n\n\n7pm – 9pm : Experienced Fencers / Seniors\n\n£10 per session\n\n\n\n\n\nEquipment and basic coaching can be provided.
URL:https://westmidlandsfencing.org.uk/event/malvern-hills-sword-fencing/2027-10-27
LOCATION:Sport Dyson Perrins Leisure Centre\, Yates Hay Road\, Malvern\, Worcestershire\, WR14 1WD\, United Kingdom
CATEGORIES:Club Night
END:VEVENT
BEGIN:VEVENT
DTSTART;TZID=Europe/London:20271103T180000
DTEND;TZID=Europe/London:20271103T210000
DTSTAMP:20260420T101825
CREATED:20260327T164008Z
LAST-MODIFIED:20260327T164008Z
UID:10004785-1825264800-1825275600@westmidlandsfencing.org.uk
SUMMARY:Malvern Hills Sword Fencing
DESCRIPTION:Our Sessions:\n\n\nThe club welcomes all at their training sessions: \nEvery Wednesday: \n\n\n\n6pm – 7pm : Juniors and Beginners\n\n£6 per session\n\n\n7pm – 9pm : Experienced Fencers / Seniors\n\n£10 per session\n\n\n\n\n\nEquipment and basic coaching can be provided.
URL:https://westmidlandsfencing.org.uk/event/malvern-hills-sword-fencing/2027-11-03
LOCATION:Sport Dyson Perrins Leisure Centre\, Yates Hay Road\, Malvern\, Worcestershire\, WR14 1WD\, United Kingdom
CATEGORIES:Club Night
END:VEVENT
BEGIN:VEVENT
DTSTART;TZID=Europe/London:20271110T180000
DTEND;TZID=Europe/London:20271110T210000
DTSTAMP:20260420T101825
CREATED:20260327T164008Z
LAST-MODIFIED:20260327T164008Z
UID:10004786-1825869600-1825880400@westmidlandsfencing.org.uk
SUMMARY:Malvern Hills Sword Fencing
DESCRIPTION:Our Sessions:\n\n\nThe club welcomes all at their training sessions: \nEvery Wednesday: \n\n\n\n6pm – 7pm : Juniors and Beginners\n\n£6 per session\n\n\n7pm – 9pm : Experienced Fencers / Seniors\n\n£10 per session\n\n\n\n\n\nEquipment and basic coaching can be provided.
URL:https://westmidlandsfencing.org.uk/event/malvern-hills-sword-fencing/2027-11-10
LOCATION:Sport Dyson Perrins Leisure Centre\, Yates Hay Road\, Malvern\, Worcestershire\, WR14 1WD\, United Kingdom
CATEGORIES:Club Night
END:VEVENT
BEGIN:VEVENT
DTSTART;TZID=Europe/London:20271117T180000
DTEND;TZID=Europe/London:20271117T210000
DTSTAMP:20260420T101825
CREATED:20260327T164008Z
LAST-MODIFIED:20260327T164008Z
UID:10004787-1826474400-1826485200@westmidlandsfencing.org.uk
SUMMARY:Malvern Hills Sword Fencing
DESCRIPTION:Our Sessions:\n\n\nThe club welcomes all at their training sessions: \nEvery Wednesday: \n\n\n\n6pm – 7pm : Juniors and Beginners\n\n£6 per session\n\n\n7pm – 9pm : Experienced Fencers / Seniors\n\n£10 per session\n\n\n\n\n\nEquipment and basic coaching can be provided.
URL:https://westmidlandsfencing.org.uk/event/malvern-hills-sword-fencing/2027-11-17
LOCATION:Sport Dyson Perrins Leisure Centre\, Yates Hay Road\, Malvern\, Worcestershire\, WR14 1WD\, United Kingdom
CATEGORIES:Club Night
END:VEVENT
BEGIN:VEVENT
DTSTART;TZID=Europe/London:20271124T180000
DTEND;TZID=Europe/London:20271124T210000
DTSTAMP:20260420T101825
CREATED:20260327T164008Z
LAST-MODIFIED:20260327T164008Z
UID:10004788-1827079200-1827090000@westmidlandsfencing.org.uk
SUMMARY:Malvern Hills Sword Fencing
DESCRIPTION:Our Sessions:\n\n\nThe club welcomes all at their training sessions: \nEvery Wednesday: \n\n\n\n6pm – 7pm : Juniors and Beginners\n\n£6 per session\n\n\n7pm – 9pm : Experienced Fencers / Seniors\n\n£10 per session\n\n\n\n\n\nEquipment and basic coaching can be provided.
URL:https://westmidlandsfencing.org.uk/event/malvern-hills-sword-fencing/2027-11-24
LOCATION:Sport Dyson Perrins Leisure Centre\, Yates Hay Road\, Malvern\, Worcestershire\, WR14 1WD\, United Kingdom
CATEGORIES:Club Night
END:VEVENT
BEGIN:VEVENT
DTSTART;TZID=Europe/London:20271201T180000
DTEND;TZID=Europe/London:20271201T210000
DTSTAMP:20260420T101825
CREATED:20260327T164008Z
LAST-MODIFIED:20260327T164008Z
UID:10004789-1827684000-1827694800@westmidlandsfencing.org.uk
SUMMARY:Malvern Hills Sword Fencing
DESCRIPTION:Our Sessions:\n\n\nThe club welcomes all at their training sessions: \nEvery Wednesday: \n\n\n\n6pm – 7pm : Juniors and Beginners\n\n£6 per session\n\n\n7pm – 9pm : Experienced Fencers / Seniors\n\n£10 per session\n\n\n\n\n\nEquipment and basic coaching can be provided.
URL:https://westmidlandsfencing.org.uk/event/malvern-hills-sword-fencing/2027-12-01
LOCATION:Sport Dyson Perrins Leisure Centre\, Yates Hay Road\, Malvern\, Worcestershire\, WR14 1WD\, United Kingdom
CATEGORIES:Club Night
END:VEVENT
BEGIN:VEVENT
DTSTART;TZID=Europe/London:20271208T180000
DTEND;TZID=Europe/London:20271208T210000
DTSTAMP:20260420T101825
CREATED:20260327T164008Z
LAST-MODIFIED:20260327T164008Z
UID:10004790-1828288800-1828299600@westmidlandsfencing.org.uk
SUMMARY:Malvern Hills Sword Fencing
DESCRIPTION:Our Sessions:\n\n\nThe club welcomes all at their training sessions: \nEvery Wednesday: \n\n\n\n6pm – 7pm : Juniors and Beginners\n\n£6 per session\n\n\n7pm – 9pm : Experienced Fencers / Seniors\n\n£10 per session\n\n\n\n\n\nEquipment and basic coaching can be provided.
URL:https://westmidlandsfencing.org.uk/event/malvern-hills-sword-fencing/2027-12-08
LOCATION:Sport Dyson Perrins Leisure Centre\, Yates Hay Road\, Malvern\, Worcestershire\, WR14 1WD\, United Kingdom
CATEGORIES:Club Night
END:VEVENT
BEGIN:VEVENT
DTSTART;TZID=Europe/London:20271215T180000
DTEND;TZID=Europe/London:20271215T210000
DTSTAMP:20260420T101825
CREATED:20260327T164008Z
LAST-MODIFIED:20260327T164008Z
UID:10004791-1828893600-1828904400@westmidlandsfencing.org.uk
SUMMARY:Malvern Hills Sword Fencing
DESCRIPTION:Our Sessions:\n\n\nThe club welcomes all at their training sessions: \nEvery Wednesday: \n\n\n\n6pm – 7pm : Juniors and Beginners\n\n£6 per session\n\n\n7pm – 9pm : Experienced Fencers / Seniors\n\n£10 per session\n\n\n\n\n\nEquipment and basic coaching can be provided.
URL:https://westmidlandsfencing.org.uk/event/malvern-hills-sword-fencing/2027-12-15
LOCATION:Sport Dyson Perrins Leisure Centre\, Yates Hay Road\, Malvern\, Worcestershire\, WR14 1WD\, United Kingdom
CATEGORIES:Club Night
END:VEVENT
BEGIN:VEVENT
DTSTART;TZID=Europe/London:20271222T180000
DTEND;TZID=Europe/London:20271222T210000
DTSTAMP:20260420T101825
CREATED:20260327T164008Z
LAST-MODIFIED:20260327T164008Z
UID:10004792-1829498400-1829509200@westmidlandsfencing.org.uk
SUMMARY:Malvern Hills Sword Fencing
DESCRIPTION:Our Sessions:\n\n\nThe club welcomes all at their training sessions: \nEvery Wednesday: \n\n\n\n6pm – 7pm : Juniors and Beginners\n\n£6 per session\n\n\n7pm – 9pm : Experienced Fencers / Seniors\n\n£10 per session\n\n\n\n\n\nEquipment and basic coaching can be provided.
URL:https://westmidlandsfencing.org.uk/event/malvern-hills-sword-fencing/2027-12-22
LOCATION:Sport Dyson Perrins Leisure Centre\, Yates Hay Road\, Malvern\, Worcestershire\, WR14 1WD\, United Kingdom
CATEGORIES:Club Night
END:VEVENT
BEGIN:VEVENT
DTSTART;TZID=Europe/London:20271229T180000
DTEND;TZID=Europe/London:20271229T210000
DTSTAMP:20260420T101825
CREATED:20260327T164008Z
LAST-MODIFIED:20260327T164008Z
UID:10004793-1830103200-1830114000@westmidlandsfencing.org.uk
SUMMARY:Malvern Hills Sword Fencing
DESCRIPTION:Our Sessions:\n\n\nThe club welcomes all at their training sessions: \nEvery Wednesday: \n\n\n\n6pm – 7pm : Juniors and Beginners\n\n£6 per session\n\n\n7pm – 9pm : Experienced Fencers / Seniors\n\n£10 per session\n\n\n\n\n\nEquipment and basic coaching can be provided.
URL:https://westmidlandsfencing.org.uk/event/malvern-hills-sword-fencing/2027-12-29
LOCATION:Sport Dyson Perrins Leisure Centre\, Yates Hay Road\, Malvern\, Worcestershire\, WR14 1WD\, United Kingdom
CATEGORIES:Club Night
END:VEVENT
BEGIN:VEVENT
DTSTART;TZID=Europe/London:20280105T180000
DTEND;TZID=Europe/London:20280105T210000
DTSTAMP:20260420T101825
CREATED:20260327T164008Z
LAST-MODIFIED:20260327T164008Z
UID:10004794-1830708000-1830718800@westmidlandsfencing.org.uk
SUMMARY:Malvern Hills Sword Fencing
DESCRIPTION:Our Sessions:\n\n\nThe club welcomes all at their training sessions: \nEvery Wednesday: \n\n\n\n6pm – 7pm : Juniors and Beginners\n\n£6 per session\n\n\n7pm – 9pm : Experienced Fencers / Seniors\n\n£10 per session\n\n\n\n\n\nEquipment and basic coaching can be provided.
URL:https://westmidlandsfencing.org.uk/event/malvern-hills-sword-fencing/2028-01-05
LOCATION:Sport Dyson Perrins Leisure Centre\, Yates Hay Road\, Malvern\, Worcestershire\, WR14 1WD\, United Kingdom
CATEGORIES:Club Night
END:VEVENT
END:VCALENDAR