BEGIN:VCALENDAR
VERSION:2.0
PRODID:-//West Midlands Region Fencing - ECPv6.15.20//NONSGML v1.0//EN
CALSCALE:GREGORIAN
METHOD:PUBLISH
X-ORIGINAL-URL:https://westmidlandsfencing.org.uk
X-WR-CALDESC:Events for West Midlands Region Fencing
REFRESH-INTERVAL;VALUE=DURATION:PT1H
X-Robots-Tag:noindex
X-PUBLISHED-TTL:PT1H
BEGIN:VTIMEZONE
TZID:Europe/London
BEGIN:DAYLIGHT
TZOFFSETFROM:+0000
TZOFFSETTO:+0100
TZNAME:BST
DTSTART:20250330T010000
END:DAYLIGHT
BEGIN:STANDARD
TZOFFSETFROM:+0100
TZOFFSETTO:+0000
TZNAME:GMT
DTSTART:20251026T010000
END:STANDARD
BEGIN:DAYLIGHT
TZOFFSETFROM:+0000
TZOFFSETTO:+0100
TZNAME:BST
DTSTART:20260329T010000
END:DAYLIGHT
BEGIN:STANDARD
TZOFFSETFROM:+0100
TZOFFSETTO:+0000
TZNAME:GMT
DTSTART:20261025T010000
END:STANDARD
BEGIN:DAYLIGHT
TZOFFSETFROM:+0000
TZOFFSETTO:+0100
TZNAME:BST
DTSTART:20270328T010000
END:DAYLIGHT
BEGIN:STANDARD
TZOFFSETFROM:+0100
TZOFFSETTO:+0000
TZNAME:GMT
DTSTART:20271031T010000
END:STANDARD
END:VTIMEZONE
BEGIN:VEVENT
DTSTART;TZID=Europe/London:20260421T200000
DTEND;TZID=Europe/London:20260421T214500
DTSTAMP:20260423T114941
CREATED:20260327T155023Z
LAST-MODIFIED:20260327T160808Z
UID:10002094-1776801600-1776807900@westmidlandsfencing.org.uk
SUMMARY:Evesham Fencing Club Senior Epee
DESCRIPTION:New members including beginners are always welcome\, as are those returning to the sport after a long break (decades in some cases!)
URL:https://westmidlandsfencing.org.uk/event/evesham-fencing-club-senior-epee/2026-04-21
LOCATION:The de Monford School\, Four Pools Rd\, Evesham\, Worcestershire\, WR11 1DQ\, United Kingdom
CATEGORIES:Club Night
END:VEVENT
BEGIN:VEVENT
DTSTART;TZID=Europe/London:20260421T180000
DTEND;TZID=Europe/London:20260421T200000
DTSTAMP:20260423T114941
CREATED:20260327T154900Z
LAST-MODIFIED:20260327T160653Z
UID:10001574-1776794400-1776801600@westmidlandsfencing.org.uk
SUMMARY:Evesham Fencing Club Junior Foil
DESCRIPTION:New members including beginners are always welcome\, as are those returning to the sport after a long break (decades in some cases!)
URL:https://westmidlandsfencing.org.uk/event/evesham-fencing-club-junior-foil/2026-04-21
LOCATION:The de Monford School\, Four Pools Rd\, Evesham\, Worcestershire\, WR11 1DQ\, United Kingdom
CATEGORIES:Club Night
END:VEVENT
BEGIN:VEVENT
DTSTART;TZID=Europe/London:20260414T200000
DTEND;TZID=Europe/London:20260414T214500
DTSTAMP:20260423T114941
CREATED:20260327T155023Z
LAST-MODIFIED:20260327T160808Z
UID:10002093-1776196800-1776203100@westmidlandsfencing.org.uk
SUMMARY:Evesham Fencing Club Senior Epee
DESCRIPTION:New members including beginners are always welcome\, as are those returning to the sport after a long break (decades in some cases!)
URL:https://westmidlandsfencing.org.uk/event/evesham-fencing-club-senior-epee/2026-04-14
LOCATION:The de Monford School\, Four Pools Rd\, Evesham\, Worcestershire\, WR11 1DQ\, United Kingdom
CATEGORIES:Club Night
END:VEVENT
BEGIN:VEVENT
DTSTART;TZID=Europe/London:20260414T180000
DTEND;TZID=Europe/London:20260414T200000
DTSTAMP:20260423T114941
CREATED:20260327T154900Z
LAST-MODIFIED:20260327T160653Z
UID:10001573-1776189600-1776196800@westmidlandsfencing.org.uk
SUMMARY:Evesham Fencing Club Junior Foil
DESCRIPTION:New members including beginners are always welcome\, as are those returning to the sport after a long break (decades in some cases!)
URL:https://westmidlandsfencing.org.uk/event/evesham-fencing-club-junior-foil/2026-04-14
LOCATION:The de Monford School\, Four Pools Rd\, Evesham\, Worcestershire\, WR11 1DQ\, United Kingdom
CATEGORIES:Club Night
END:VEVENT
BEGIN:VEVENT
DTSTART;TZID=Europe/London:20260407T200000
DTEND;TZID=Europe/London:20260407T214500
DTSTAMP:20260423T114941
CREATED:20260327T155023Z
LAST-MODIFIED:20260327T160808Z
UID:10002092-1775592000-1775598300@westmidlandsfencing.org.uk
SUMMARY:Evesham Fencing Club Senior Epee
DESCRIPTION:New members including beginners are always welcome\, as are those returning to the sport after a long break (decades in some cases!)
URL:https://westmidlandsfencing.org.uk/event/evesham-fencing-club-senior-epee/2026-04-07
LOCATION:The de Monford School\, Four Pools Rd\, Evesham\, Worcestershire\, WR11 1DQ\, United Kingdom
CATEGORIES:Club Night
END:VEVENT
BEGIN:VEVENT
DTSTART;TZID=Europe/London:20260407T180000
DTEND;TZID=Europe/London:20260407T200000
DTSTAMP:20260423T114941
CREATED:20260327T154900Z
LAST-MODIFIED:20260327T160653Z
UID:10001572-1775584800-1775592000@westmidlandsfencing.org.uk
SUMMARY:Evesham Fencing Club Junior Foil
DESCRIPTION:New members including beginners are always welcome\, as are those returning to the sport after a long break (decades in some cases!)
URL:https://westmidlandsfencing.org.uk/event/evesham-fencing-club-junior-foil/2026-04-07
LOCATION:The de Monford School\, Four Pools Rd\, Evesham\, Worcestershire\, WR11 1DQ\, United Kingdom
CATEGORIES:Club Night
END:VEVENT
BEGIN:VEVENT
DTSTART;TZID=Europe/London:20260331T200000
DTEND;TZID=Europe/London:20260331T214500
DTSTAMP:20260423T114941
CREATED:20260327T155023Z
LAST-MODIFIED:20260327T160808Z
UID:10001308-1774987200-1774993500@westmidlandsfencing.org.uk
SUMMARY:Evesham Fencing Club Senior Epee
DESCRIPTION:New members including beginners are always welcome\, as are those returning to the sport after a long break (decades in some cases!)
URL:https://westmidlandsfencing.org.uk/event/evesham-fencing-club-senior-epee/2026-03-31
LOCATION:The de Monford School\, Four Pools Rd\, Evesham\, Worcestershire\, WR11 1DQ\, United Kingdom
CATEGORIES:Club Night
END:VEVENT
BEGIN:VEVENT
DTSTART;TZID=Europe/London:20260331T180000
DTEND;TZID=Europe/London:20260331T200000
DTSTAMP:20260423T114941
CREATED:20260327T154900Z
LAST-MODIFIED:20260327T160653Z
UID:10001307-1774980000-1774987200@westmidlandsfencing.org.uk
SUMMARY:Evesham Fencing Club Junior Foil
DESCRIPTION:New members including beginners are always welcome\, as are those returning to the sport after a long break (decades in some cases!)
URL:https://westmidlandsfencing.org.uk/event/evesham-fencing-club-junior-foil/2026-03-31
LOCATION:The de Monford School\, Four Pools Rd\, Evesham\, Worcestershire\, WR11 1DQ\, United Kingdom
CATEGORIES:Club Night
END:VEVENT
END:VCALENDAR