BEGIN:VCALENDAR
VERSION:2.0
PRODID:-//West Midlands Region Fencing - ECPv6.15.20//NONSGML v1.0//EN
CALSCALE:GREGORIAN
METHOD:PUBLISH
X-WR-CALNAME:West Midlands Region Fencing
X-ORIGINAL-URL:https://westmidlandsfencing.org.uk
X-WR-CALDESC:Events for West Midlands Region Fencing
REFRESH-INTERVAL;VALUE=DURATION:PT1H
X-Robots-Tag:noindex
X-PUBLISHED-TTL:PT1H
BEGIN:VTIMEZONE
TZID:Europe/London
BEGIN:DAYLIGHT
TZOFFSETFROM:+0000
TZOFFSETTO:+0100
TZNAME:BST
DTSTART:20250330T010000
END:DAYLIGHT
BEGIN:STANDARD
TZOFFSETFROM:+0100
TZOFFSETTO:+0000
TZNAME:GMT
DTSTART:20251026T010000
END:STANDARD
BEGIN:DAYLIGHT
TZOFFSETFROM:+0000
TZOFFSETTO:+0100
TZNAME:BST
DTSTART:20260329T010000
END:DAYLIGHT
BEGIN:STANDARD
TZOFFSETFROM:+0100
TZOFFSETTO:+0000
TZNAME:GMT
DTSTART:20261025T010000
END:STANDARD
BEGIN:DAYLIGHT
TZOFFSETFROM:+0000
TZOFFSETTO:+0100
TZNAME:BST
DTSTART:20270328T010000
END:DAYLIGHT
BEGIN:STANDARD
TZOFFSETFROM:+0100
TZOFFSETTO:+0000
TZNAME:GMT
DTSTART:20271031T010000
END:STANDARD
END:VTIMEZONE
BEGIN:VEVENT
DTSTART;TZID=Europe/London:20260416T200000
DTEND;TZID=Europe/London:20260416T220000
DTSTAMP:20260421T093238
CREATED:20260327T164749Z
LAST-MODIFIED:20260327T164749Z
UID:10005226-1776369600-1776376800@westmidlandsfencing.org.uk
SUMMARY:Birmingham Fencing Club
DESCRIPTION:
URL:https://westmidlandsfencing.org.uk/event/birmingham-fencing-club-2/2026-04-16
LOCATION:University of Birmingham Sport and Fitness Centre\, Bristol Rd\, Edgbaston\, Birmingham\, West Midlands\, B15 2TT\, United Kingdom
CATEGORIES:Club Night
END:VEVENT
BEGIN:VEVENT
DTSTART;TZID=Europe/London:20260414T190000
DTEND;TZID=Europe/London:20260414T210000
DTSTAMP:20260421T093238
CREATED:20260327T155152Z
LAST-MODIFIED:20260328T095624Z
UID:10001833-1776193200-1776200400@westmidlandsfencing.org.uk
SUMMARY:Birmingham Fencing Club
DESCRIPTION:Foil – Epee -Sabre and beginner training courses.
URL:https://westmidlandsfencing.org.uk/event/birmingham-fencing-club/2026-04-14
LOCATION:University of Birmingham Sport and Fitness Centre\, Bristol Rd\, Edgbaston\, Birmingham\, West Midlands\, B15 2TT\, United Kingdom
CATEGORIES:Club Night
END:VEVENT
BEGIN:VEVENT
DTSTART;TZID=Europe/London:20260409T200000
DTEND;TZID=Europe/London:20260409T220000
DTSTAMP:20260421T093238
CREATED:20260327T164749Z
LAST-MODIFIED:20260327T164749Z
UID:10005225-1775764800-1775772000@westmidlandsfencing.org.uk
SUMMARY:Birmingham Fencing Club
DESCRIPTION:
URL:https://westmidlandsfencing.org.uk/event/birmingham-fencing-club-2/2026-04-09
LOCATION:University of Birmingham Sport and Fitness Centre\, Bristol Rd\, Edgbaston\, Birmingham\, West Midlands\, B15 2TT\, United Kingdom
CATEGORIES:Club Night
END:VEVENT
BEGIN:VEVENT
DTSTART;TZID=Europe/London:20260407T190000
DTEND;TZID=Europe/London:20260407T210000
DTSTAMP:20260421T093238
CREATED:20260327T155152Z
LAST-MODIFIED:20260328T095624Z
UID:10001832-1775588400-1775595600@westmidlandsfencing.org.uk
SUMMARY:Birmingham Fencing Club
DESCRIPTION:Foil – Epee -Sabre and beginner training courses.
URL:https://westmidlandsfencing.org.uk/event/birmingham-fencing-club/2026-04-07
LOCATION:University of Birmingham Sport and Fitness Centre\, Bristol Rd\, Edgbaston\, Birmingham\, West Midlands\, B15 2TT\, United Kingdom
CATEGORIES:Club Night
END:VEVENT
BEGIN:VEVENT
DTSTART;TZID=Europe/London:20260405T090000
DTEND;TZID=Europe/London:20260405T190000
DTSTAMP:20260421T093238
CREATED:20260327T151239Z
LAST-MODIFIED:20260329T133146Z
UID:10001043-1775379600-1775415600@westmidlandsfencing.org.uk
SUMMARY:Birmingham International Fencing Tournament
DESCRIPTION:Saturday 4th April\nMen’s Foil\nCheck-in closed by 9:00\n\n\n\nWomen’s Epee\nCheck-in closed by 11.00\n\n\n\nWomen’s Sabre\nCheck-in closed by 13.30\n\n\n\n\n\nSunday 5th April\nMen’s Epee\nCheck-in closed by 9:00\n\n\n\nWomen’s Foil\nCheck-in closed by 11:00\n\n\n\nMen’s Sabre\nCheck-in closed by 13:00\n\n\n\nClick here to enter (via Sport80) \n\n\n\nEntry Fee :\n£50.00 per weapon.\n\n\nClosing date :\n1st April at 23:59\nLate entries\, if agreed\, charged at £75.00.\n\n\n\nAll entries close Thursday 2nd April 2026 at 23:00\n\n\n\nPrizes for last 8 at each weapon\nVeterans prizes awarded (must be a current member of the BVF). \nEntry limits\nIn order to ensure smooth running of the Tournament the following limits will be applied to the entry numbers. \n\n\n\nMen’s Foil :\n119\nWomen’s Foil :\n70\n\n\nMen’s Epee :\n119\nWomen’s Epee :\n91\n\n\nMen’s Sabre :\n70\nWomen’s Sabre :\n56
URL:https://westmidlandsfencing.org.uk/event/birmingham-international-fencing-tournament-2
LOCATION:University of Birmingham Sport and Fitness Centre\, Bristol Rd\, Edgbaston\, Birmingham\, West Midlands\, B15 2TT\, United Kingdom
CATEGORIES:Competition
ATTACH;FMTTYPE=image/jpeg:https://westmidlandsfencing.org.uk/wp-content/uploads/2026/03/bift-facebook-e1774624262295.jpg
ORGANIZER;CN="BIFTOC":MAILTO:contact@bift.org.uk
END:VEVENT
BEGIN:VEVENT
DTSTART;TZID=Europe/London:20260404T090000
DTEND;TZID=Europe/London:20260404T190000
DTSTAMP:20260421T093238
CREATED:20260327T151124Z
LAST-MODIFIED:20260329T133110Z
UID:10001042-1775293200-1775329200@westmidlandsfencing.org.uk
SUMMARY:Birmingham International Fencing Tournament
DESCRIPTION:Saturday 4th April\nMen’s Foil\nCheck-in closed by 9:00\n\n\n\nWomen’s Epee\nCheck-in closed by 11.00\n\n\n\nWomen’s Sabre\nCheck-in closed by 13.30\n\n\n\n\n\nSunday 5th April\nMen’s Epee\nCheck-in closed by 9:00\n\n\n\nWomen’s Foil\nCheck-in closed by 11:00\n\n\n\nMen’s Sabre\nCheck-in closed by 13:00\n\n\n\nClick here to enter (via Sport80) \n\n\n\nEntry Fee :\n£50.00 per weapon.\n\n\nClosing date :\n1st April at 23:59\nLate entries\, if agreed\, charged at £75.00.\n\n\n\nAll entries close Thursday 2nd April 2026 at 23:00\n\n\n\nPrizes for last 8 at each weapon\nVeterans prizes awarded (must be a current member of the BVF). \nEntry limits\nIn order to ensure smooth running of the Tournament the following limits will be applied to the entry numbers. \n\n\n\nMen’s Foil :\n119\nWomen’s Foil :\n70\n\n\nMen’s Epee :\n119\nWomen’s Epee :\n91\n\n\nMen’s Sabre :\n70\nWomen’s Sabre :\n56
URL:https://westmidlandsfencing.org.uk/event/birmingham-international-fencing-tournament
LOCATION:University of Birmingham Sport and Fitness Centre\, Bristol Rd\, Edgbaston\, Birmingham\, West Midlands\, B15 2TT\, United Kingdom
CATEGORIES:Competition
ATTACH;FMTTYPE=image/jpeg:https://westmidlandsfencing.org.uk/wp-content/uploads/2026/03/bift-facebook-1.jpg
ORGANIZER;CN="BIFTOC":MAILTO:contact@bift.org.uk
END:VEVENT
BEGIN:VEVENT
DTSTART;TZID=Europe/London:20260402T200000
DTEND;TZID=Europe/London:20260402T220000
DTSTAMP:20260421T093238
CREATED:20260327T164749Z
LAST-MODIFIED:20260327T164749Z
UID:10005224-1775160000-1775167200@westmidlandsfencing.org.uk
SUMMARY:Birmingham Fencing Club
DESCRIPTION:
URL:https://westmidlandsfencing.org.uk/event/birmingham-fencing-club-2/2026-04-02
LOCATION:University of Birmingham Sport and Fitness Centre\, Bristol Rd\, Edgbaston\, Birmingham\, West Midlands\, B15 2TT\, United Kingdom
CATEGORIES:Club Night
END:VEVENT
BEGIN:VEVENT
DTSTART;TZID=Europe/London:20260331T190000
DTEND;TZID=Europe/London:20260331T210000
DTSTAMP:20260421T093238
CREATED:20260327T155152Z
LAST-MODIFIED:20260328T095624Z
UID:10001309-1774983600-1774990800@westmidlandsfencing.org.uk
SUMMARY:Birmingham Fencing Club
DESCRIPTION:Foil – Epee -Sabre and beginner training courses.
URL:https://westmidlandsfencing.org.uk/event/birmingham-fencing-club/2026-03-31
LOCATION:University of Birmingham Sport and Fitness Centre\, Bristol Rd\, Edgbaston\, Birmingham\, West Midlands\, B15 2TT\, United Kingdom
CATEGORIES:Club Night
END:VEVENT
END:VCALENDAR