BEGIN:VCALENDAR
VERSION:2.0
PRODID:-//West Midlands Region Fencing - ECPv6.15.20//NONSGML v1.0//EN
CALSCALE:GREGORIAN
METHOD:PUBLISH
X-WR-CALNAME:West Midlands Region Fencing
X-ORIGINAL-URL:https://westmidlandsfencing.org.uk
X-WR-CALDESC:Events for West Midlands Region Fencing
REFRESH-INTERVAL;VALUE=DURATION:PT1H
X-Robots-Tag:noindex
X-PUBLISHED-TTL:PT1H
BEGIN:VTIMEZONE
TZID:Europe/London
BEGIN:DAYLIGHT
TZOFFSETFROM:+0000
TZOFFSETTO:+0100
TZNAME:BST
DTSTART:20250330T010000
END:DAYLIGHT
BEGIN:STANDARD
TZOFFSETFROM:+0100
TZOFFSETTO:+0000
TZNAME:GMT
DTSTART:20251026T010000
END:STANDARD
BEGIN:DAYLIGHT
TZOFFSETFROM:+0000
TZOFFSETTO:+0100
TZNAME:BST
DTSTART:20260329T010000
END:DAYLIGHT
BEGIN:STANDARD
TZOFFSETFROM:+0100
TZOFFSETTO:+0000
TZNAME:GMT
DTSTART:20261025T010000
END:STANDARD
BEGIN:DAYLIGHT
TZOFFSETFROM:+0000
TZOFFSETTO:+0100
TZNAME:BST
DTSTART:20270328T010000
END:DAYLIGHT
BEGIN:STANDARD
TZOFFSETFROM:+0100
TZOFFSETTO:+0000
TZNAME:GMT
DTSTART:20271031T010000
END:STANDARD
BEGIN:DAYLIGHT
TZOFFSETFROM:+0000
TZOFFSETTO:+0100
TZNAME:BST
DTSTART:20280326T010000
END:DAYLIGHT
BEGIN:STANDARD
TZOFFSETFROM:+0100
TZOFFSETTO:+0000
TZNAME:GMT
DTSTART:20281029T010000
END:STANDARD
END:VTIMEZONE
BEGIN:VEVENT
DTSTART;TZID=Europe/London:20260725T090000
DTEND;TZID=Europe/London:20260725T113000
DTSTAMP:20260426T035205
CREATED:20260328T104127Z
LAST-MODIFIED:20260328T104203Z
UID:10006808-1784970000-1784979000@westmidlandsfencing.org.uk
SUMMARY:Rugby And Daventry Fencing Club
DESCRIPTION:9:00-10:30 (ages 8-11)\n10:00-11:30 (11+)
URL:https://westmidlandsfencing.org.uk/event/rugby-and-daventry-fencing-club-3/2026-07-25
LOCATION:Warwick Trident College\, Trident Park\, Poseidon Way\, Royal Leamington Spa\, Warwickshire\, CV34 6SW\, United Kingdom
CATEGORIES:Club Night
ORGANIZER;CN="Rugby and Daventry Fencing Club":MAILTO:contact@radfencingclub.co.uk
END:VEVENT
BEGIN:VEVENT
DTSTART;TZID=Europe/London:20260801T090000
DTEND;TZID=Europe/London:20260801T113000
DTSTAMP:20260426T035205
CREATED:20260328T104127Z
LAST-MODIFIED:20260328T104203Z
UID:10006809-1785574800-1785583800@westmidlandsfencing.org.uk
SUMMARY:Rugby And Daventry Fencing Club
DESCRIPTION:9:00-10:30 (ages 8-11)\n10:00-11:30 (11+)
URL:https://westmidlandsfencing.org.uk/event/rugby-and-daventry-fencing-club-3/2026-08-01
LOCATION:Warwick Trident College\, Trident Park\, Poseidon Way\, Royal Leamington Spa\, Warwickshire\, CV34 6SW\, United Kingdom
CATEGORIES:Club Night
ORGANIZER;CN="Rugby and Daventry Fencing Club":MAILTO:contact@radfencingclub.co.uk
END:VEVENT
BEGIN:VEVENT
DTSTART;TZID=Europe/London:20260808T090000
DTEND;TZID=Europe/London:20260808T113000
DTSTAMP:20260426T035205
CREATED:20260328T104127Z
LAST-MODIFIED:20260328T104203Z
UID:10006810-1786179600-1786188600@westmidlandsfencing.org.uk
SUMMARY:Rugby And Daventry Fencing Club
DESCRIPTION:9:00-10:30 (ages 8-11)\n10:00-11:30 (11+)
URL:https://westmidlandsfencing.org.uk/event/rugby-and-daventry-fencing-club-3/2026-08-08
LOCATION:Warwick Trident College\, Trident Park\, Poseidon Way\, Royal Leamington Spa\, Warwickshire\, CV34 6SW\, United Kingdom
CATEGORIES:Club Night
ORGANIZER;CN="Rugby and Daventry Fencing Club":MAILTO:contact@radfencingclub.co.uk
END:VEVENT
BEGIN:VEVENT
DTSTART;TZID=Europe/London:20260815T090000
DTEND;TZID=Europe/London:20260815T113000
DTSTAMP:20260426T035205
CREATED:20260328T104127Z
LAST-MODIFIED:20260328T104203Z
UID:10006811-1786784400-1786793400@westmidlandsfencing.org.uk
SUMMARY:Rugby And Daventry Fencing Club
DESCRIPTION:9:00-10:30 (ages 8-11)\n10:00-11:30 (11+)
URL:https://westmidlandsfencing.org.uk/event/rugby-and-daventry-fencing-club-3/2026-08-15
LOCATION:Warwick Trident College\, Trident Park\, Poseidon Way\, Royal Leamington Spa\, Warwickshire\, CV34 6SW\, United Kingdom
CATEGORIES:Club Night
ORGANIZER;CN="Rugby and Daventry Fencing Club":MAILTO:contact@radfencingclub.co.uk
END:VEVENT
BEGIN:VEVENT
DTSTART;TZID=Europe/London:20260822T090000
DTEND;TZID=Europe/London:20260822T113000
DTSTAMP:20260426T035205
CREATED:20260328T104127Z
LAST-MODIFIED:20260328T104203Z
UID:10006812-1787389200-1787398200@westmidlandsfencing.org.uk
SUMMARY:Rugby And Daventry Fencing Club
DESCRIPTION:9:00-10:30 (ages 8-11)\n10:00-11:30 (11+)
URL:https://westmidlandsfencing.org.uk/event/rugby-and-daventry-fencing-club-3/2026-08-22
LOCATION:Warwick Trident College\, Trident Park\, Poseidon Way\, Royal Leamington Spa\, Warwickshire\, CV34 6SW\, United Kingdom
CATEGORIES:Club Night
ORGANIZER;CN="Rugby and Daventry Fencing Club":MAILTO:contact@radfencingclub.co.uk
END:VEVENT
BEGIN:VEVENT
DTSTART;TZID=Europe/London:20260829T090000
DTEND;TZID=Europe/London:20260829T113000
DTSTAMP:20260426T035205
CREATED:20260328T104127Z
LAST-MODIFIED:20260328T104203Z
UID:10006813-1787994000-1788003000@westmidlandsfencing.org.uk
SUMMARY:Rugby And Daventry Fencing Club
DESCRIPTION:9:00-10:30 (ages 8-11)\n10:00-11:30 (11+)
URL:https://westmidlandsfencing.org.uk/event/rugby-and-daventry-fencing-club-3/2026-08-29
LOCATION:Warwick Trident College\, Trident Park\, Poseidon Way\, Royal Leamington Spa\, Warwickshire\, CV34 6SW\, United Kingdom
CATEGORIES:Club Night
ORGANIZER;CN="Rugby and Daventry Fencing Club":MAILTO:contact@radfencingclub.co.uk
END:VEVENT
BEGIN:VEVENT
DTSTART;TZID=Europe/London:20260905T090000
DTEND;TZID=Europe/London:20260905T113000
DTSTAMP:20260426T035205
CREATED:20260328T104127Z
LAST-MODIFIED:20260328T104203Z
UID:10006814-1788598800-1788607800@westmidlandsfencing.org.uk
SUMMARY:Rugby And Daventry Fencing Club
DESCRIPTION:9:00-10:30 (ages 8-11)\n10:00-11:30 (11+)
URL:https://westmidlandsfencing.org.uk/event/rugby-and-daventry-fencing-club-3/2026-09-05
LOCATION:Warwick Trident College\, Trident Park\, Poseidon Way\, Royal Leamington Spa\, Warwickshire\, CV34 6SW\, United Kingdom
CATEGORIES:Club Night
ORGANIZER;CN="Rugby and Daventry Fencing Club":MAILTO:contact@radfencingclub.co.uk
END:VEVENT
BEGIN:VEVENT
DTSTART;TZID=Europe/London:20260912T090000
DTEND;TZID=Europe/London:20260912T113000
DTSTAMP:20260426T035205
CREATED:20260328T104127Z
LAST-MODIFIED:20260328T104203Z
UID:10006815-1789203600-1789212600@westmidlandsfencing.org.uk
SUMMARY:Rugby And Daventry Fencing Club
DESCRIPTION:9:00-10:30 (ages 8-11)\n10:00-11:30 (11+)
URL:https://westmidlandsfencing.org.uk/event/rugby-and-daventry-fencing-club-3/2026-09-12
LOCATION:Warwick Trident College\, Trident Park\, Poseidon Way\, Royal Leamington Spa\, Warwickshire\, CV34 6SW\, United Kingdom
CATEGORIES:Club Night
ORGANIZER;CN="Rugby and Daventry Fencing Club":MAILTO:contact@radfencingclub.co.uk
END:VEVENT
BEGIN:VEVENT
DTSTART;TZID=Europe/London:20260919T090000
DTEND;TZID=Europe/London:20260919T113000
DTSTAMP:20260426T035205
CREATED:20260328T104127Z
LAST-MODIFIED:20260328T104203Z
UID:10006816-1789808400-1789817400@westmidlandsfencing.org.uk
SUMMARY:Rugby And Daventry Fencing Club
DESCRIPTION:9:00-10:30 (ages 8-11)\n10:00-11:30 (11+)
URL:https://westmidlandsfencing.org.uk/event/rugby-and-daventry-fencing-club-3/2026-09-19
LOCATION:Warwick Trident College\, Trident Park\, Poseidon Way\, Royal Leamington Spa\, Warwickshire\, CV34 6SW\, United Kingdom
CATEGORIES:Club Night
ORGANIZER;CN="Rugby and Daventry Fencing Club":MAILTO:contact@radfencingclub.co.uk
END:VEVENT
BEGIN:VEVENT
DTSTART;TZID=Europe/London:20260926T090000
DTEND;TZID=Europe/London:20260926T113000
DTSTAMP:20260426T035205
CREATED:20260328T104127Z
LAST-MODIFIED:20260328T104203Z
UID:10006817-1790413200-1790422200@westmidlandsfencing.org.uk
SUMMARY:Rugby And Daventry Fencing Club
DESCRIPTION:9:00-10:30 (ages 8-11)\n10:00-11:30 (11+)
URL:https://westmidlandsfencing.org.uk/event/rugby-and-daventry-fencing-club-3/2026-09-26
LOCATION:Warwick Trident College\, Trident Park\, Poseidon Way\, Royal Leamington Spa\, Warwickshire\, CV34 6SW\, United Kingdom
CATEGORIES:Club Night
ORGANIZER;CN="Rugby and Daventry Fencing Club":MAILTO:contact@radfencingclub.co.uk
END:VEVENT
BEGIN:VEVENT
DTSTART;TZID=Europe/London:20261003T090000
DTEND;TZID=Europe/London:20261003T113000
DTSTAMP:20260426T035205
CREATED:20260328T104127Z
LAST-MODIFIED:20260328T104203Z
UID:10006818-1791018000-1791027000@westmidlandsfencing.org.uk
SUMMARY:Rugby And Daventry Fencing Club
DESCRIPTION:9:00-10:30 (ages 8-11)\n10:00-11:30 (11+)
URL:https://westmidlandsfencing.org.uk/event/rugby-and-daventry-fencing-club-3/2026-10-03
LOCATION:Warwick Trident College\, Trident Park\, Poseidon Way\, Royal Leamington Spa\, Warwickshire\, CV34 6SW\, United Kingdom
CATEGORIES:Club Night
ORGANIZER;CN="Rugby and Daventry Fencing Club":MAILTO:contact@radfencingclub.co.uk
END:VEVENT
BEGIN:VEVENT
DTSTART;TZID=Europe/London:20261010T090000
DTEND;TZID=Europe/London:20261010T113000
DTSTAMP:20260426T035205
CREATED:20260328T104127Z
LAST-MODIFIED:20260328T104203Z
UID:10006819-1791622800-1791631800@westmidlandsfencing.org.uk
SUMMARY:Rugby And Daventry Fencing Club
DESCRIPTION:9:00-10:30 (ages 8-11)\n10:00-11:30 (11+)
URL:https://westmidlandsfencing.org.uk/event/rugby-and-daventry-fencing-club-3/2026-10-10
LOCATION:Warwick Trident College\, Trident Park\, Poseidon Way\, Royal Leamington Spa\, Warwickshire\, CV34 6SW\, United Kingdom
CATEGORIES:Club Night
ORGANIZER;CN="Rugby and Daventry Fencing Club":MAILTO:contact@radfencingclub.co.uk
END:VEVENT
BEGIN:VEVENT
DTSTART;TZID=Europe/London:20261017T090000
DTEND;TZID=Europe/London:20261017T113000
DTSTAMP:20260426T035205
CREATED:20260328T104127Z
LAST-MODIFIED:20260328T104203Z
UID:10006820-1792227600-1792236600@westmidlandsfencing.org.uk
SUMMARY:Rugby And Daventry Fencing Club
DESCRIPTION:9:00-10:30 (ages 8-11)\n10:00-11:30 (11+)
URL:https://westmidlandsfencing.org.uk/event/rugby-and-daventry-fencing-club-3/2026-10-17
LOCATION:Warwick Trident College\, Trident Park\, Poseidon Way\, Royal Leamington Spa\, Warwickshire\, CV34 6SW\, United Kingdom
CATEGORIES:Club Night
ORGANIZER;CN="Rugby and Daventry Fencing Club":MAILTO:contact@radfencingclub.co.uk
END:VEVENT
BEGIN:VEVENT
DTSTART;TZID=Europe/London:20261024T090000
DTEND;TZID=Europe/London:20261024T113000
DTSTAMP:20260426T035205
CREATED:20260328T104127Z
LAST-MODIFIED:20260328T104203Z
UID:10006821-1792832400-1792841400@westmidlandsfencing.org.uk
SUMMARY:Rugby And Daventry Fencing Club
DESCRIPTION:9:00-10:30 (ages 8-11)\n10:00-11:30 (11+)
URL:https://westmidlandsfencing.org.uk/event/rugby-and-daventry-fencing-club-3/2026-10-24
LOCATION:Warwick Trident College\, Trident Park\, Poseidon Way\, Royal Leamington Spa\, Warwickshire\, CV34 6SW\, United Kingdom
CATEGORIES:Club Night
ORGANIZER;CN="Rugby and Daventry Fencing Club":MAILTO:contact@radfencingclub.co.uk
END:VEVENT
BEGIN:VEVENT
DTSTART;TZID=Europe/London:20261031T090000
DTEND;TZID=Europe/London:20261031T113000
DTSTAMP:20260426T035205
CREATED:20260328T104127Z
LAST-MODIFIED:20260328T104203Z
UID:10006822-1793437200-1793446200@westmidlandsfencing.org.uk
SUMMARY:Rugby And Daventry Fencing Club
DESCRIPTION:9:00-10:30 (ages 8-11)\n10:00-11:30 (11+)
URL:https://westmidlandsfencing.org.uk/event/rugby-and-daventry-fencing-club-3/2026-10-31
LOCATION:Warwick Trident College\, Trident Park\, Poseidon Way\, Royal Leamington Spa\, Warwickshire\, CV34 6SW\, United Kingdom
CATEGORIES:Club Night
ORGANIZER;CN="Rugby and Daventry Fencing Club":MAILTO:contact@radfencingclub.co.uk
END:VEVENT
BEGIN:VEVENT
DTSTART;TZID=Europe/London:20261107T090000
DTEND;TZID=Europe/London:20261107T113000
DTSTAMP:20260426T035205
CREATED:20260328T104127Z
LAST-MODIFIED:20260328T104203Z
UID:10006823-1794042000-1794051000@westmidlandsfencing.org.uk
SUMMARY:Rugby And Daventry Fencing Club
DESCRIPTION:9:00-10:30 (ages 8-11)\n10:00-11:30 (11+)
URL:https://westmidlandsfencing.org.uk/event/rugby-and-daventry-fencing-club-3/2026-11-07
LOCATION:Warwick Trident College\, Trident Park\, Poseidon Way\, Royal Leamington Spa\, Warwickshire\, CV34 6SW\, United Kingdom
CATEGORIES:Club Night
ORGANIZER;CN="Rugby and Daventry Fencing Club":MAILTO:contact@radfencingclub.co.uk
END:VEVENT
BEGIN:VEVENT
DTSTART;TZID=Europe/London:20261114T090000
DTEND;TZID=Europe/London:20261114T113000
DTSTAMP:20260426T035205
CREATED:20260328T104127Z
LAST-MODIFIED:20260328T104203Z
UID:10006824-1794646800-1794655800@westmidlandsfencing.org.uk
SUMMARY:Rugby And Daventry Fencing Club
DESCRIPTION:9:00-10:30 (ages 8-11)\n10:00-11:30 (11+)
URL:https://westmidlandsfencing.org.uk/event/rugby-and-daventry-fencing-club-3/2026-11-14
LOCATION:Warwick Trident College\, Trident Park\, Poseidon Way\, Royal Leamington Spa\, Warwickshire\, CV34 6SW\, United Kingdom
CATEGORIES:Club Night
ORGANIZER;CN="Rugby and Daventry Fencing Club":MAILTO:contact@radfencingclub.co.uk
END:VEVENT
BEGIN:VEVENT
DTSTART;TZID=Europe/London:20261121T090000
DTEND;TZID=Europe/London:20261121T113000
DTSTAMP:20260426T035205
CREATED:20260328T104127Z
LAST-MODIFIED:20260328T104203Z
UID:10006825-1795251600-1795260600@westmidlandsfencing.org.uk
SUMMARY:Rugby And Daventry Fencing Club
DESCRIPTION:9:00-10:30 (ages 8-11)\n10:00-11:30 (11+)
URL:https://westmidlandsfencing.org.uk/event/rugby-and-daventry-fencing-club-3/2026-11-21
LOCATION:Warwick Trident College\, Trident Park\, Poseidon Way\, Royal Leamington Spa\, Warwickshire\, CV34 6SW\, United Kingdom
CATEGORIES:Club Night
ORGANIZER;CN="Rugby and Daventry Fencing Club":MAILTO:contact@radfencingclub.co.uk
END:VEVENT
BEGIN:VEVENT
DTSTART;TZID=Europe/London:20261128T090000
DTEND;TZID=Europe/London:20261128T113000
DTSTAMP:20260426T035205
CREATED:20260328T104127Z
LAST-MODIFIED:20260328T104203Z
UID:10006826-1795856400-1795865400@westmidlandsfencing.org.uk
SUMMARY:Rugby And Daventry Fencing Club
DESCRIPTION:9:00-10:30 (ages 8-11)\n10:00-11:30 (11+)
URL:https://westmidlandsfencing.org.uk/event/rugby-and-daventry-fencing-club-3/2026-11-28
LOCATION:Warwick Trident College\, Trident Park\, Poseidon Way\, Royal Leamington Spa\, Warwickshire\, CV34 6SW\, United Kingdom
CATEGORIES:Club Night
ORGANIZER;CN="Rugby and Daventry Fencing Club":MAILTO:contact@radfencingclub.co.uk
END:VEVENT
BEGIN:VEVENT
DTSTART;TZID=Europe/London:20261205T090000
DTEND;TZID=Europe/London:20261205T113000
DTSTAMP:20260426T035205
CREATED:20260328T104127Z
LAST-MODIFIED:20260328T104203Z
UID:10006827-1796461200-1796470200@westmidlandsfencing.org.uk
SUMMARY:Rugby And Daventry Fencing Club
DESCRIPTION:9:00-10:30 (ages 8-11)\n10:00-11:30 (11+)
URL:https://westmidlandsfencing.org.uk/event/rugby-and-daventry-fencing-club-3/2026-12-05
LOCATION:Warwick Trident College\, Trident Park\, Poseidon Way\, Royal Leamington Spa\, Warwickshire\, CV34 6SW\, United Kingdom
CATEGORIES:Club Night
ORGANIZER;CN="Rugby and Daventry Fencing Club":MAILTO:contact@radfencingclub.co.uk
END:VEVENT
BEGIN:VEVENT
DTSTART;TZID=Europe/London:20261212T090000
DTEND;TZID=Europe/London:20261212T113000
DTSTAMP:20260426T035205
CREATED:20260328T104127Z
LAST-MODIFIED:20260328T104203Z
UID:10006828-1797066000-1797075000@westmidlandsfencing.org.uk
SUMMARY:Rugby And Daventry Fencing Club
DESCRIPTION:9:00-10:30 (ages 8-11)\n10:00-11:30 (11+)
URL:https://westmidlandsfencing.org.uk/event/rugby-and-daventry-fencing-club-3/2026-12-12
LOCATION:Warwick Trident College\, Trident Park\, Poseidon Way\, Royal Leamington Spa\, Warwickshire\, CV34 6SW\, United Kingdom
CATEGORIES:Club Night
ORGANIZER;CN="Rugby and Daventry Fencing Club":MAILTO:contact@radfencingclub.co.uk
END:VEVENT
BEGIN:VEVENT
DTSTART;TZID=Europe/London:20261219T090000
DTEND;TZID=Europe/London:20261219T113000
DTSTAMP:20260426T035205
CREATED:20260328T104127Z
LAST-MODIFIED:20260328T104203Z
UID:10006829-1797670800-1797679800@westmidlandsfencing.org.uk
SUMMARY:Rugby And Daventry Fencing Club
DESCRIPTION:9:00-10:30 (ages 8-11)\n10:00-11:30 (11+)
URL:https://westmidlandsfencing.org.uk/event/rugby-and-daventry-fencing-club-3/2026-12-19
LOCATION:Warwick Trident College\, Trident Park\, Poseidon Way\, Royal Leamington Spa\, Warwickshire\, CV34 6SW\, United Kingdom
CATEGORIES:Club Night
ORGANIZER;CN="Rugby and Daventry Fencing Club":MAILTO:contact@radfencingclub.co.uk
END:VEVENT
BEGIN:VEVENT
DTSTART;TZID=Europe/London:20261226T090000
DTEND;TZID=Europe/London:20261226T113000
DTSTAMP:20260426T035205
CREATED:20260328T104127Z
LAST-MODIFIED:20260328T104203Z
UID:10006830-1798275600-1798284600@westmidlandsfencing.org.uk
SUMMARY:Rugby And Daventry Fencing Club
DESCRIPTION:9:00-10:30 (ages 8-11)\n10:00-11:30 (11+)
URL:https://westmidlandsfencing.org.uk/event/rugby-and-daventry-fencing-club-3/2026-12-26
LOCATION:Warwick Trident College\, Trident Park\, Poseidon Way\, Royal Leamington Spa\, Warwickshire\, CV34 6SW\, United Kingdom
CATEGORIES:Club Night
ORGANIZER;CN="Rugby and Daventry Fencing Club":MAILTO:contact@radfencingclub.co.uk
END:VEVENT
BEGIN:VEVENT
DTSTART;TZID=Europe/London:20270102T090000
DTEND;TZID=Europe/London:20270102T113000
DTSTAMP:20260426T035205
CREATED:20260328T104127Z
LAST-MODIFIED:20260328T104203Z
UID:10006831-1798880400-1798889400@westmidlandsfencing.org.uk
SUMMARY:Rugby And Daventry Fencing Club
DESCRIPTION:9:00-10:30 (ages 8-11)\n10:00-11:30 (11+)
URL:https://westmidlandsfencing.org.uk/event/rugby-and-daventry-fencing-club-3/2027-01-02
LOCATION:Warwick Trident College\, Trident Park\, Poseidon Way\, Royal Leamington Spa\, Warwickshire\, CV34 6SW\, United Kingdom
CATEGORIES:Club Night
ORGANIZER;CN="Rugby and Daventry Fencing Club":MAILTO:contact@radfencingclub.co.uk
END:VEVENT
BEGIN:VEVENT
DTSTART;TZID=Europe/London:20270109T090000
DTEND;TZID=Europe/London:20270109T113000
DTSTAMP:20260426T035205
CREATED:20260328T104127Z
LAST-MODIFIED:20260328T104203Z
UID:10006832-1799485200-1799494200@westmidlandsfencing.org.uk
SUMMARY:Rugby And Daventry Fencing Club
DESCRIPTION:9:00-10:30 (ages 8-11)\n10:00-11:30 (11+)
URL:https://westmidlandsfencing.org.uk/event/rugby-and-daventry-fencing-club-3/2027-01-09
LOCATION:Warwick Trident College\, Trident Park\, Poseidon Way\, Royal Leamington Spa\, Warwickshire\, CV34 6SW\, United Kingdom
CATEGORIES:Club Night
ORGANIZER;CN="Rugby and Daventry Fencing Club":MAILTO:contact@radfencingclub.co.uk
END:VEVENT
BEGIN:VEVENT
DTSTART;TZID=Europe/London:20270116T090000
DTEND;TZID=Europe/London:20270116T113000
DTSTAMP:20260426T035205
CREATED:20260328T104127Z
LAST-MODIFIED:20260328T104203Z
UID:10006833-1800090000-1800099000@westmidlandsfencing.org.uk
SUMMARY:Rugby And Daventry Fencing Club
DESCRIPTION:9:00-10:30 (ages 8-11)\n10:00-11:30 (11+)
URL:https://westmidlandsfencing.org.uk/event/rugby-and-daventry-fencing-club-3/2027-01-16
LOCATION:Warwick Trident College\, Trident Park\, Poseidon Way\, Royal Leamington Spa\, Warwickshire\, CV34 6SW\, United Kingdom
CATEGORIES:Club Night
ORGANIZER;CN="Rugby and Daventry Fencing Club":MAILTO:contact@radfencingclub.co.uk
END:VEVENT
BEGIN:VEVENT
DTSTART;TZID=Europe/London:20270123T090000
DTEND;TZID=Europe/London:20270123T113000
DTSTAMP:20260426T035205
CREATED:20260328T104127Z
LAST-MODIFIED:20260328T104203Z
UID:10006834-1800694800-1800703800@westmidlandsfencing.org.uk
SUMMARY:Rugby And Daventry Fencing Club
DESCRIPTION:9:00-10:30 (ages 8-11)\n10:00-11:30 (11+)
URL:https://westmidlandsfencing.org.uk/event/rugby-and-daventry-fencing-club-3/2027-01-23
LOCATION:Warwick Trident College\, Trident Park\, Poseidon Way\, Royal Leamington Spa\, Warwickshire\, CV34 6SW\, United Kingdom
CATEGORIES:Club Night
ORGANIZER;CN="Rugby and Daventry Fencing Club":MAILTO:contact@radfencingclub.co.uk
END:VEVENT
BEGIN:VEVENT
DTSTART;TZID=Europe/London:20270130T090000
DTEND;TZID=Europe/London:20270130T113000
DTSTAMP:20260426T035205
CREATED:20260328T104127Z
LAST-MODIFIED:20260328T104203Z
UID:10006835-1801299600-1801308600@westmidlandsfencing.org.uk
SUMMARY:Rugby And Daventry Fencing Club
DESCRIPTION:9:00-10:30 (ages 8-11)\n10:00-11:30 (11+)
URL:https://westmidlandsfencing.org.uk/event/rugby-and-daventry-fencing-club-3/2027-01-30
LOCATION:Warwick Trident College\, Trident Park\, Poseidon Way\, Royal Leamington Spa\, Warwickshire\, CV34 6SW\, United Kingdom
CATEGORIES:Club Night
ORGANIZER;CN="Rugby and Daventry Fencing Club":MAILTO:contact@radfencingclub.co.uk
END:VEVENT
BEGIN:VEVENT
DTSTART;TZID=Europe/London:20270206T090000
DTEND;TZID=Europe/London:20270206T113000
DTSTAMP:20260426T035205
CREATED:20260328T104127Z
LAST-MODIFIED:20260328T104203Z
UID:10006836-1801904400-1801913400@westmidlandsfencing.org.uk
SUMMARY:Rugby And Daventry Fencing Club
DESCRIPTION:9:00-10:30 (ages 8-11)\n10:00-11:30 (11+)
URL:https://westmidlandsfencing.org.uk/event/rugby-and-daventry-fencing-club-3/2027-02-06
LOCATION:Warwick Trident College\, Trident Park\, Poseidon Way\, Royal Leamington Spa\, Warwickshire\, CV34 6SW\, United Kingdom
CATEGORIES:Club Night
ORGANIZER;CN="Rugby and Daventry Fencing Club":MAILTO:contact@radfencingclub.co.uk
END:VEVENT
BEGIN:VEVENT
DTSTART;TZID=Europe/London:20270213T090000
DTEND;TZID=Europe/London:20270213T113000
DTSTAMP:20260426T035205
CREATED:20260328T104127Z
LAST-MODIFIED:20260328T104203Z
UID:10006837-1802509200-1802518200@westmidlandsfencing.org.uk
SUMMARY:Rugby And Daventry Fencing Club
DESCRIPTION:9:00-10:30 (ages 8-11)\n10:00-11:30 (11+)
URL:https://westmidlandsfencing.org.uk/event/rugby-and-daventry-fencing-club-3/2027-02-13
LOCATION:Warwick Trident College\, Trident Park\, Poseidon Way\, Royal Leamington Spa\, Warwickshire\, CV34 6SW\, United Kingdom
CATEGORIES:Club Night
ORGANIZER;CN="Rugby and Daventry Fencing Club":MAILTO:contact@radfencingclub.co.uk
END:VEVENT
END:VCALENDAR