BEGIN:VCALENDAR
VERSION:2.0
PRODID:-//West Midlands Region Fencing - ECPv6.15.20//NONSGML v1.0//EN
CALSCALE:GREGORIAN
METHOD:PUBLISH
X-ORIGINAL-URL:https://westmidlandsfencing.org.uk
X-WR-CALDESC:Events for West Midlands Region Fencing
REFRESH-INTERVAL;VALUE=DURATION:PT1H
X-Robots-Tag:noindex
X-PUBLISHED-TTL:PT1H
BEGIN:VTIMEZONE
TZID:Europe/London
BEGIN:DAYLIGHT
TZOFFSETFROM:+0000
TZOFFSETTO:+0100
TZNAME:BST
DTSTART:20250330T010000
END:DAYLIGHT
BEGIN:STANDARD
TZOFFSETFROM:+0100
TZOFFSETTO:+0000
TZNAME:GMT
DTSTART:20251026T010000
END:STANDARD
BEGIN:DAYLIGHT
TZOFFSETFROM:+0000
TZOFFSETTO:+0100
TZNAME:BST
DTSTART:20260329T010000
END:DAYLIGHT
BEGIN:STANDARD
TZOFFSETFROM:+0100
TZOFFSETTO:+0000
TZNAME:GMT
DTSTART:20261025T010000
END:STANDARD
BEGIN:DAYLIGHT
TZOFFSETFROM:+0000
TZOFFSETTO:+0100
TZNAME:BST
DTSTART:20270328T010000
END:DAYLIGHT
BEGIN:STANDARD
TZOFFSETFROM:+0100
TZOFFSETTO:+0000
TZNAME:GMT
DTSTART:20271031T010000
END:STANDARD
END:VTIMEZONE
BEGIN:VEVENT
DTSTART;TZID=Europe/London:20260427T193000
DTEND;TZID=Europe/London:20260427T220000
DTSTAMP:20260426T035324
CREATED:20260327T153612Z
LAST-MODIFIED:20260329T111521Z
UID:10007058-1777318200-1777327200@westmidlandsfencing.org.uk
SUMMARY:Sutton Coldfield Fencing Club
DESCRIPTION:19:30-20:30 Junior Club\n20:30-22:00 Adult Club
URL:https://westmidlandsfencing.org.uk/event/sutton-coldfield-fencing-club/2026-04-27
LOCATION:Wyndley Leisure Centre\, Clifton Rd\, Sutton Coldfield\, West Midlands\, B73 6EN\, United Kingdom
CATEGORIES:Club Night
ORGANIZER;CN="Sutton Coldfield Fencing Club":MAILTO:scfencingclub@btinternet.com
END:VEVENT
BEGIN:VEVENT
DTSTART;TZID=Europe/London:20260504T193000
DTEND;TZID=Europe/London:20260504T220000
DTSTAMP:20260426T035324
CREATED:20260327T153612Z
LAST-MODIFIED:20260329T111521Z
UID:10007059-1777923000-1777932000@westmidlandsfencing.org.uk
SUMMARY:Sutton Coldfield Fencing Club
DESCRIPTION:19:30-20:30 Junior Club\n20:30-22:00 Adult Club
URL:https://westmidlandsfencing.org.uk/event/sutton-coldfield-fencing-club/2026-05-04
LOCATION:Wyndley Leisure Centre\, Clifton Rd\, Sutton Coldfield\, West Midlands\, B73 6EN\, United Kingdom
CATEGORIES:Club Night
ORGANIZER;CN="Sutton Coldfield Fencing Club":MAILTO:scfencingclub@btinternet.com
END:VEVENT
BEGIN:VEVENT
DTSTART;TZID=Europe/London:20260511T193000
DTEND;TZID=Europe/London:20260511T220000
DTSTAMP:20260426T035324
CREATED:20260327T153612Z
LAST-MODIFIED:20260329T111521Z
UID:10007060-1778527800-1778536800@westmidlandsfencing.org.uk
SUMMARY:Sutton Coldfield Fencing Club
DESCRIPTION:19:30-20:30 Junior Club\n20:30-22:00 Adult Club
URL:https://westmidlandsfencing.org.uk/event/sutton-coldfield-fencing-club/2026-05-11
LOCATION:Wyndley Leisure Centre\, Clifton Rd\, Sutton Coldfield\, West Midlands\, B73 6EN\, United Kingdom
CATEGORIES:Club Night
ORGANIZER;CN="Sutton Coldfield Fencing Club":MAILTO:scfencingclub@btinternet.com
END:VEVENT
BEGIN:VEVENT
DTSTART;TZID=Europe/London:20260518T193000
DTEND;TZID=Europe/London:20260518T220000
DTSTAMP:20260426T035324
CREATED:20260327T153612Z
LAST-MODIFIED:20260329T111521Z
UID:10007061-1779132600-1779141600@westmidlandsfencing.org.uk
SUMMARY:Sutton Coldfield Fencing Club
DESCRIPTION:19:30-20:30 Junior Club\n20:30-22:00 Adult Club
URL:https://westmidlandsfencing.org.uk/event/sutton-coldfield-fencing-club/2026-05-18
LOCATION:Wyndley Leisure Centre\, Clifton Rd\, Sutton Coldfield\, West Midlands\, B73 6EN\, United Kingdom
CATEGORIES:Club Night
ORGANIZER;CN="Sutton Coldfield Fencing Club":MAILTO:scfencingclub@btinternet.com
END:VEVENT
BEGIN:VEVENT
DTSTART;TZID=Europe/London:20260525T193000
DTEND;TZID=Europe/London:20260525T220000
DTSTAMP:20260426T035324
CREATED:20260327T153612Z
LAST-MODIFIED:20260329T111521Z
UID:10007062-1779737400-1779746400@westmidlandsfencing.org.uk
SUMMARY:Sutton Coldfield Fencing Club
DESCRIPTION:19:30-20:30 Junior Club\n20:30-22:00 Adult Club
URL:https://westmidlandsfencing.org.uk/event/sutton-coldfield-fencing-club/2026-05-25
LOCATION:Wyndley Leisure Centre\, Clifton Rd\, Sutton Coldfield\, West Midlands\, B73 6EN\, United Kingdom
CATEGORIES:Club Night
ORGANIZER;CN="Sutton Coldfield Fencing Club":MAILTO:scfencingclub@btinternet.com
END:VEVENT
BEGIN:VEVENT
DTSTART;TZID=Europe/London:20260601T193000
DTEND;TZID=Europe/London:20260601T220000
DTSTAMP:20260426T035324
CREATED:20260327T153612Z
LAST-MODIFIED:20260329T111521Z
UID:10007063-1780342200-1780351200@westmidlandsfencing.org.uk
SUMMARY:Sutton Coldfield Fencing Club
DESCRIPTION:19:30-20:30 Junior Club\n20:30-22:00 Adult Club
URL:https://westmidlandsfencing.org.uk/event/sutton-coldfield-fencing-club/2026-06-01
LOCATION:Wyndley Leisure Centre\, Clifton Rd\, Sutton Coldfield\, West Midlands\, B73 6EN\, United Kingdom
CATEGORIES:Club Night
ORGANIZER;CN="Sutton Coldfield Fencing Club":MAILTO:scfencingclub@btinternet.com
END:VEVENT
BEGIN:VEVENT
DTSTART;TZID=Europe/London:20260608T193000
DTEND;TZID=Europe/London:20260608T220000
DTSTAMP:20260426T035324
CREATED:20260327T153612Z
LAST-MODIFIED:20260329T111521Z
UID:10007064-1780947000-1780956000@westmidlandsfencing.org.uk
SUMMARY:Sutton Coldfield Fencing Club
DESCRIPTION:19:30-20:30 Junior Club\n20:30-22:00 Adult Club
URL:https://westmidlandsfencing.org.uk/event/sutton-coldfield-fencing-club/2026-06-08
LOCATION:Wyndley Leisure Centre\, Clifton Rd\, Sutton Coldfield\, West Midlands\, B73 6EN\, United Kingdom
CATEGORIES:Club Night
ORGANIZER;CN="Sutton Coldfield Fencing Club":MAILTO:scfencingclub@btinternet.com
END:VEVENT
BEGIN:VEVENT
DTSTART;TZID=Europe/London:20260615T193000
DTEND;TZID=Europe/London:20260615T220000
DTSTAMP:20260426T035324
CREATED:20260327T153612Z
LAST-MODIFIED:20260329T111521Z
UID:10007065-1781551800-1781560800@westmidlandsfencing.org.uk
SUMMARY:Sutton Coldfield Fencing Club
DESCRIPTION:19:30-20:30 Junior Club\n20:30-22:00 Adult Club
URL:https://westmidlandsfencing.org.uk/event/sutton-coldfield-fencing-club/2026-06-15
LOCATION:Wyndley Leisure Centre\, Clifton Rd\, Sutton Coldfield\, West Midlands\, B73 6EN\, United Kingdom
CATEGORIES:Club Night
ORGANIZER;CN="Sutton Coldfield Fencing Club":MAILTO:scfencingclub@btinternet.com
END:VEVENT
BEGIN:VEVENT
DTSTART;TZID=Europe/London:20260622T193000
DTEND;TZID=Europe/London:20260622T220000
DTSTAMP:20260426T035324
CREATED:20260327T153612Z
LAST-MODIFIED:20260329T111521Z
UID:10007066-1782156600-1782165600@westmidlandsfencing.org.uk
SUMMARY:Sutton Coldfield Fencing Club
DESCRIPTION:19:30-20:30 Junior Club\n20:30-22:00 Adult Club
URL:https://westmidlandsfencing.org.uk/event/sutton-coldfield-fencing-club/2026-06-22
LOCATION:Wyndley Leisure Centre\, Clifton Rd\, Sutton Coldfield\, West Midlands\, B73 6EN\, United Kingdom
CATEGORIES:Club Night
ORGANIZER;CN="Sutton Coldfield Fencing Club":MAILTO:scfencingclub@btinternet.com
END:VEVENT
BEGIN:VEVENT
DTSTART;TZID=Europe/London:20260629T193000
DTEND;TZID=Europe/London:20260629T220000
DTSTAMP:20260426T035324
CREATED:20260327T153612Z
LAST-MODIFIED:20260329T111521Z
UID:10007067-1782761400-1782770400@westmidlandsfencing.org.uk
SUMMARY:Sutton Coldfield Fencing Club
DESCRIPTION:19:30-20:30 Junior Club\n20:30-22:00 Adult Club
URL:https://westmidlandsfencing.org.uk/event/sutton-coldfield-fencing-club/2026-06-29
LOCATION:Wyndley Leisure Centre\, Clifton Rd\, Sutton Coldfield\, West Midlands\, B73 6EN\, United Kingdom
CATEGORIES:Club Night
ORGANIZER;CN="Sutton Coldfield Fencing Club":MAILTO:scfencingclub@btinternet.com
END:VEVENT
BEGIN:VEVENT
DTSTART;TZID=Europe/London:20260706T193000
DTEND;TZID=Europe/London:20260706T220000
DTSTAMP:20260426T035324
CREATED:20260327T153612Z
LAST-MODIFIED:20260329T111521Z
UID:10007068-1783366200-1783375200@westmidlandsfencing.org.uk
SUMMARY:Sutton Coldfield Fencing Club
DESCRIPTION:19:30-20:30 Junior Club\n20:30-22:00 Adult Club
URL:https://westmidlandsfencing.org.uk/event/sutton-coldfield-fencing-club/2026-07-06
LOCATION:Wyndley Leisure Centre\, Clifton Rd\, Sutton Coldfield\, West Midlands\, B73 6EN\, United Kingdom
CATEGORIES:Club Night
ORGANIZER;CN="Sutton Coldfield Fencing Club":MAILTO:scfencingclub@btinternet.com
END:VEVENT
BEGIN:VEVENT
DTSTART;TZID=Europe/London:20260713T193000
DTEND;TZID=Europe/London:20260713T220000
DTSTAMP:20260426T035324
CREATED:20260327T153612Z
LAST-MODIFIED:20260329T111521Z
UID:10007069-1783971000-1783980000@westmidlandsfencing.org.uk
SUMMARY:Sutton Coldfield Fencing Club
DESCRIPTION:19:30-20:30 Junior Club\n20:30-22:00 Adult Club
URL:https://westmidlandsfencing.org.uk/event/sutton-coldfield-fencing-club/2026-07-13
LOCATION:Wyndley Leisure Centre\, Clifton Rd\, Sutton Coldfield\, West Midlands\, B73 6EN\, United Kingdom
CATEGORIES:Club Night
ORGANIZER;CN="Sutton Coldfield Fencing Club":MAILTO:scfencingclub@btinternet.com
END:VEVENT
BEGIN:VEVENT
DTSTART;TZID=Europe/London:20260720T193000
DTEND;TZID=Europe/London:20260720T220000
DTSTAMP:20260426T035324
CREATED:20260327T153612Z
LAST-MODIFIED:20260329T111521Z
UID:10007070-1784575800-1784584800@westmidlandsfencing.org.uk
SUMMARY:Sutton Coldfield Fencing Club
DESCRIPTION:19:30-20:30 Junior Club\n20:30-22:00 Adult Club
URL:https://westmidlandsfencing.org.uk/event/sutton-coldfield-fencing-club/2026-07-20
LOCATION:Wyndley Leisure Centre\, Clifton Rd\, Sutton Coldfield\, West Midlands\, B73 6EN\, United Kingdom
CATEGORIES:Club Night
ORGANIZER;CN="Sutton Coldfield Fencing Club":MAILTO:scfencingclub@btinternet.com
END:VEVENT
BEGIN:VEVENT
DTSTART;TZID=Europe/London:20260727T193000
DTEND;TZID=Europe/London:20260727T220000
DTSTAMP:20260426T035324
CREATED:20260327T153612Z
LAST-MODIFIED:20260329T111521Z
UID:10007071-1785180600-1785189600@westmidlandsfencing.org.uk
SUMMARY:Sutton Coldfield Fencing Club
DESCRIPTION:19:30-20:30 Junior Club\n20:30-22:00 Adult Club
URL:https://westmidlandsfencing.org.uk/event/sutton-coldfield-fencing-club/2026-07-27
LOCATION:Wyndley Leisure Centre\, Clifton Rd\, Sutton Coldfield\, West Midlands\, B73 6EN\, United Kingdom
CATEGORIES:Club Night
ORGANIZER;CN="Sutton Coldfield Fencing Club":MAILTO:scfencingclub@btinternet.com
END:VEVENT
BEGIN:VEVENT
DTSTART;TZID=Europe/London:20260803T193000
DTEND;TZID=Europe/London:20260803T220000
DTSTAMP:20260426T035324
CREATED:20260327T153612Z
LAST-MODIFIED:20260329T111521Z
UID:10007072-1785785400-1785794400@westmidlandsfencing.org.uk
SUMMARY:Sutton Coldfield Fencing Club
DESCRIPTION:19:30-20:30 Junior Club\n20:30-22:00 Adult Club
URL:https://westmidlandsfencing.org.uk/event/sutton-coldfield-fencing-club/2026-08-03
LOCATION:Wyndley Leisure Centre\, Clifton Rd\, Sutton Coldfield\, West Midlands\, B73 6EN\, United Kingdom
CATEGORIES:Club Night
ORGANIZER;CN="Sutton Coldfield Fencing Club":MAILTO:scfencingclub@btinternet.com
END:VEVENT
BEGIN:VEVENT
DTSTART;TZID=Europe/London:20260810T193000
DTEND;TZID=Europe/London:20260810T220000
DTSTAMP:20260426T035324
CREATED:20260327T153612Z
LAST-MODIFIED:20260329T111521Z
UID:10007073-1786390200-1786399200@westmidlandsfencing.org.uk
SUMMARY:Sutton Coldfield Fencing Club
DESCRIPTION:19:30-20:30 Junior Club\n20:30-22:00 Adult Club
URL:https://westmidlandsfencing.org.uk/event/sutton-coldfield-fencing-club/2026-08-10
LOCATION:Wyndley Leisure Centre\, Clifton Rd\, Sutton Coldfield\, West Midlands\, B73 6EN\, United Kingdom
CATEGORIES:Club Night
ORGANIZER;CN="Sutton Coldfield Fencing Club":MAILTO:scfencingclub@btinternet.com
END:VEVENT
BEGIN:VEVENT
DTSTART;TZID=Europe/London:20260817T193000
DTEND;TZID=Europe/London:20260817T220000
DTSTAMP:20260426T035324
CREATED:20260327T153612Z
LAST-MODIFIED:20260329T111521Z
UID:10007074-1786995000-1787004000@westmidlandsfencing.org.uk
SUMMARY:Sutton Coldfield Fencing Club
DESCRIPTION:19:30-20:30 Junior Club\n20:30-22:00 Adult Club
URL:https://westmidlandsfencing.org.uk/event/sutton-coldfield-fencing-club/2026-08-17
LOCATION:Wyndley Leisure Centre\, Clifton Rd\, Sutton Coldfield\, West Midlands\, B73 6EN\, United Kingdom
CATEGORIES:Club Night
ORGANIZER;CN="Sutton Coldfield Fencing Club":MAILTO:scfencingclub@btinternet.com
END:VEVENT
BEGIN:VEVENT
DTSTART;TZID=Europe/London:20260824T193000
DTEND;TZID=Europe/London:20260824T220000
DTSTAMP:20260426T035324
CREATED:20260327T153612Z
LAST-MODIFIED:20260329T111521Z
UID:10007075-1787599800-1787608800@westmidlandsfencing.org.uk
SUMMARY:Sutton Coldfield Fencing Club
DESCRIPTION:19:30-20:30 Junior Club\n20:30-22:00 Adult Club
URL:https://westmidlandsfencing.org.uk/event/sutton-coldfield-fencing-club/2026-08-24
LOCATION:Wyndley Leisure Centre\, Clifton Rd\, Sutton Coldfield\, West Midlands\, B73 6EN\, United Kingdom
CATEGORIES:Club Night
ORGANIZER;CN="Sutton Coldfield Fencing Club":MAILTO:scfencingclub@btinternet.com
END:VEVENT
BEGIN:VEVENT
DTSTART;TZID=Europe/London:20260831T193000
DTEND;TZID=Europe/London:20260831T220000
DTSTAMP:20260426T035324
CREATED:20260327T153612Z
LAST-MODIFIED:20260329T111521Z
UID:10007076-1788204600-1788213600@westmidlandsfencing.org.uk
SUMMARY:Sutton Coldfield Fencing Club
DESCRIPTION:19:30-20:30 Junior Club\n20:30-22:00 Adult Club
URL:https://westmidlandsfencing.org.uk/event/sutton-coldfield-fencing-club/2026-08-31
LOCATION:Wyndley Leisure Centre\, Clifton Rd\, Sutton Coldfield\, West Midlands\, B73 6EN\, United Kingdom
CATEGORIES:Club Night
ORGANIZER;CN="Sutton Coldfield Fencing Club":MAILTO:scfencingclub@btinternet.com
END:VEVENT
BEGIN:VEVENT
DTSTART;TZID=Europe/London:20260907T193000
DTEND;TZID=Europe/London:20260907T220000
DTSTAMP:20260426T035324
CREATED:20260327T153612Z
LAST-MODIFIED:20260329T111521Z
UID:10007077-1788809400-1788818400@westmidlandsfencing.org.uk
SUMMARY:Sutton Coldfield Fencing Club
DESCRIPTION:19:30-20:30 Junior Club\n20:30-22:00 Adult Club
URL:https://westmidlandsfencing.org.uk/event/sutton-coldfield-fencing-club/2026-09-07
LOCATION:Wyndley Leisure Centre\, Clifton Rd\, Sutton Coldfield\, West Midlands\, B73 6EN\, United Kingdom
CATEGORIES:Club Night
ORGANIZER;CN="Sutton Coldfield Fencing Club":MAILTO:scfencingclub@btinternet.com
END:VEVENT
BEGIN:VEVENT
DTSTART;TZID=Europe/London:20260914T193000
DTEND;TZID=Europe/London:20260914T220000
DTSTAMP:20260426T035324
CREATED:20260327T153612Z
LAST-MODIFIED:20260329T111521Z
UID:10007078-1789414200-1789423200@westmidlandsfencing.org.uk
SUMMARY:Sutton Coldfield Fencing Club
DESCRIPTION:19:30-20:30 Junior Club\n20:30-22:00 Adult Club
URL:https://westmidlandsfencing.org.uk/event/sutton-coldfield-fencing-club/2026-09-14
LOCATION:Wyndley Leisure Centre\, Clifton Rd\, Sutton Coldfield\, West Midlands\, B73 6EN\, United Kingdom
CATEGORIES:Club Night
ORGANIZER;CN="Sutton Coldfield Fencing Club":MAILTO:scfencingclub@btinternet.com
END:VEVENT
BEGIN:VEVENT
DTSTART;TZID=Europe/London:20260921T193000
DTEND;TZID=Europe/London:20260921T220000
DTSTAMP:20260426T035324
CREATED:20260327T153612Z
LAST-MODIFIED:20260329T111521Z
UID:10007079-1790019000-1790028000@westmidlandsfencing.org.uk
SUMMARY:Sutton Coldfield Fencing Club
DESCRIPTION:19:30-20:30 Junior Club\n20:30-22:00 Adult Club
URL:https://westmidlandsfencing.org.uk/event/sutton-coldfield-fencing-club/2026-09-21
LOCATION:Wyndley Leisure Centre\, Clifton Rd\, Sutton Coldfield\, West Midlands\, B73 6EN\, United Kingdom
CATEGORIES:Club Night
ORGANIZER;CN="Sutton Coldfield Fencing Club":MAILTO:scfencingclub@btinternet.com
END:VEVENT
BEGIN:VEVENT
DTSTART;TZID=Europe/London:20260928T193000
DTEND;TZID=Europe/London:20260928T220000
DTSTAMP:20260426T035324
CREATED:20260327T153612Z
LAST-MODIFIED:20260329T111521Z
UID:10007080-1790623800-1790632800@westmidlandsfencing.org.uk
SUMMARY:Sutton Coldfield Fencing Club
DESCRIPTION:19:30-20:30 Junior Club\n20:30-22:00 Adult Club
URL:https://westmidlandsfencing.org.uk/event/sutton-coldfield-fencing-club/2026-09-28
LOCATION:Wyndley Leisure Centre\, Clifton Rd\, Sutton Coldfield\, West Midlands\, B73 6EN\, United Kingdom
CATEGORIES:Club Night
ORGANIZER;CN="Sutton Coldfield Fencing Club":MAILTO:scfencingclub@btinternet.com
END:VEVENT
BEGIN:VEVENT
DTSTART;TZID=Europe/London:20261005T193000
DTEND;TZID=Europe/London:20261005T220000
DTSTAMP:20260426T035324
CREATED:20260327T153612Z
LAST-MODIFIED:20260329T111521Z
UID:10007081-1791228600-1791237600@westmidlandsfencing.org.uk
SUMMARY:Sutton Coldfield Fencing Club
DESCRIPTION:19:30-20:30 Junior Club\n20:30-22:00 Adult Club
URL:https://westmidlandsfencing.org.uk/event/sutton-coldfield-fencing-club/2026-10-05
LOCATION:Wyndley Leisure Centre\, Clifton Rd\, Sutton Coldfield\, West Midlands\, B73 6EN\, United Kingdom
CATEGORIES:Club Night
ORGANIZER;CN="Sutton Coldfield Fencing Club":MAILTO:scfencingclub@btinternet.com
END:VEVENT
BEGIN:VEVENT
DTSTART;TZID=Europe/London:20261012T193000
DTEND;TZID=Europe/London:20261012T220000
DTSTAMP:20260426T035324
CREATED:20260327T153612Z
LAST-MODIFIED:20260329T111521Z
UID:10007082-1791833400-1791842400@westmidlandsfencing.org.uk
SUMMARY:Sutton Coldfield Fencing Club
DESCRIPTION:19:30-20:30 Junior Club\n20:30-22:00 Adult Club
URL:https://westmidlandsfencing.org.uk/event/sutton-coldfield-fencing-club/2026-10-12
LOCATION:Wyndley Leisure Centre\, Clifton Rd\, Sutton Coldfield\, West Midlands\, B73 6EN\, United Kingdom
CATEGORIES:Club Night
ORGANIZER;CN="Sutton Coldfield Fencing Club":MAILTO:scfencingclub@btinternet.com
END:VEVENT
BEGIN:VEVENT
DTSTART;TZID=Europe/London:20261019T193000
DTEND;TZID=Europe/London:20261019T220000
DTSTAMP:20260426T035324
CREATED:20260327T153612Z
LAST-MODIFIED:20260329T111521Z
UID:10007083-1792438200-1792447200@westmidlandsfencing.org.uk
SUMMARY:Sutton Coldfield Fencing Club
DESCRIPTION:19:30-20:30 Junior Club\n20:30-22:00 Adult Club
URL:https://westmidlandsfencing.org.uk/event/sutton-coldfield-fencing-club/2026-10-19
LOCATION:Wyndley Leisure Centre\, Clifton Rd\, Sutton Coldfield\, West Midlands\, B73 6EN\, United Kingdom
CATEGORIES:Club Night
ORGANIZER;CN="Sutton Coldfield Fencing Club":MAILTO:scfencingclub@btinternet.com
END:VEVENT
BEGIN:VEVENT
DTSTART;TZID=Europe/London:20261026T193000
DTEND;TZID=Europe/London:20261026T220000
DTSTAMP:20260426T035324
CREATED:20260327T153612Z
LAST-MODIFIED:20260329T111521Z
UID:10007084-1793043000-1793052000@westmidlandsfencing.org.uk
SUMMARY:Sutton Coldfield Fencing Club
DESCRIPTION:19:30-20:30 Junior Club\n20:30-22:00 Adult Club
URL:https://westmidlandsfencing.org.uk/event/sutton-coldfield-fencing-club/2026-10-26
LOCATION:Wyndley Leisure Centre\, Clifton Rd\, Sutton Coldfield\, West Midlands\, B73 6EN\, United Kingdom
CATEGORIES:Club Night
ORGANIZER;CN="Sutton Coldfield Fencing Club":MAILTO:scfencingclub@btinternet.com
END:VEVENT
BEGIN:VEVENT
DTSTART;TZID=Europe/London:20261102T193000
DTEND;TZID=Europe/London:20261102T220000
DTSTAMP:20260426T035324
CREATED:20260327T153612Z
LAST-MODIFIED:20260329T111521Z
UID:10007085-1793647800-1793656800@westmidlandsfencing.org.uk
SUMMARY:Sutton Coldfield Fencing Club
DESCRIPTION:19:30-20:30 Junior Club\n20:30-22:00 Adult Club
URL:https://westmidlandsfencing.org.uk/event/sutton-coldfield-fencing-club/2026-11-02
LOCATION:Wyndley Leisure Centre\, Clifton Rd\, Sutton Coldfield\, West Midlands\, B73 6EN\, United Kingdom
CATEGORIES:Club Night
ORGANIZER;CN="Sutton Coldfield Fencing Club":MAILTO:scfencingclub@btinternet.com
END:VEVENT
BEGIN:VEVENT
DTSTART;TZID=Europe/London:20261109T193000
DTEND;TZID=Europe/London:20261109T220000
DTSTAMP:20260426T035324
CREATED:20260327T153612Z
LAST-MODIFIED:20260329T111521Z
UID:10007086-1794252600-1794261600@westmidlandsfencing.org.uk
SUMMARY:Sutton Coldfield Fencing Club
DESCRIPTION:19:30-20:30 Junior Club\n20:30-22:00 Adult Club
URL:https://westmidlandsfencing.org.uk/event/sutton-coldfield-fencing-club/2026-11-09
LOCATION:Wyndley Leisure Centre\, Clifton Rd\, Sutton Coldfield\, West Midlands\, B73 6EN\, United Kingdom
CATEGORIES:Club Night
ORGANIZER;CN="Sutton Coldfield Fencing Club":MAILTO:scfencingclub@btinternet.com
END:VEVENT
BEGIN:VEVENT
DTSTART;TZID=Europe/London:20261116T193000
DTEND;TZID=Europe/London:20261116T220000
DTSTAMP:20260426T035324
CREATED:20260327T153612Z
LAST-MODIFIED:20260329T111521Z
UID:10007087-1794857400-1794866400@westmidlandsfencing.org.uk
SUMMARY:Sutton Coldfield Fencing Club
DESCRIPTION:19:30-20:30 Junior Club\n20:30-22:00 Adult Club
URL:https://westmidlandsfencing.org.uk/event/sutton-coldfield-fencing-club/2026-11-16
LOCATION:Wyndley Leisure Centre\, Clifton Rd\, Sutton Coldfield\, West Midlands\, B73 6EN\, United Kingdom
CATEGORIES:Club Night
ORGANIZER;CN="Sutton Coldfield Fencing Club":MAILTO:scfencingclub@btinternet.com
END:VEVENT
END:VCALENDAR